BEGIN:VCALENDAR
VERSION:2.0
PRODID:-//Country Club View Civic Association - ECPv6.15.20//NONSGML v1.0//EN
CALSCALE:GREGORIAN
METHOD:PUBLISH
X-WR-CALNAME:Country Club View Civic Association
X-ORIGINAL-URL:https://countryclubview.org
X-WR-CALDESC:Events for Country Club View Civic Association
REFRESH-INTERVAL;VALUE=DURATION:PT1H
X-Robots-Tag:noindex
X-PUBLISHED-TTL:PT1H
BEGIN:VTIMEZONE
TZID:America/New_York
BEGIN:DAYLIGHT
TZOFFSETFROM:-0500
TZOFFSETTO:-0400
TZNAME:EDT
DTSTART:20230312T070000
END:DAYLIGHT
BEGIN:STANDARD
TZOFFSETFROM:-0400
TZOFFSETTO:-0500
TZNAME:EST
DTSTART:20231105T060000
END:STANDARD
BEGIN:DAYLIGHT
TZOFFSETFROM:-0500
TZOFFSETTO:-0400
TZNAME:EDT
DTSTART:20240310T070000
END:DAYLIGHT
BEGIN:STANDARD
TZOFFSETFROM:-0400
TZOFFSETTO:-0500
TZNAME:EST
DTSTART:20241103T060000
END:STANDARD
BEGIN:DAYLIGHT
TZOFFSETFROM:-0500
TZOFFSETTO:-0400
TZNAME:EDT
DTSTART:20250309T070000
END:DAYLIGHT
BEGIN:STANDARD
TZOFFSETFROM:-0400
TZOFFSETTO:-0500
TZNAME:EST
DTSTART:20251102T060000
END:STANDARD
END:VTIMEZONE
BEGIN:VEVENT
DTSTART;VALUE=DATE:20241031
DTEND;VALUE=DATE:20241101
DTSTAMP:20260424T112418
CREATED:20240114T023919Z
LAST-MODIFIED:20240114T024113Z
UID:4432-1730332800-1730419199@countryclubview.org
SUMMARY:Happy Halloween!
DESCRIPTION:Halloween is a holiday celebrated each year on October 31\, and Fairfax County’s Halloween 2024 trick-or-treating will occur on Thursday\, October 31. The tradition originated with the ancient Celtic festival of Samhain\, when people would light bonfires and wear costumes to ward off ghosts. In the eighth century\, Pope Gregory III designated November 1 as a time to honor all saints. Soon\, All Saints Day incorporated some of the traditions of Samhain. The evening before was known as All Hallows Eve\, and later Halloween. Over time\, Halloween evolved into a day of activities like trick-or-treating\, carving jack-o-lanterns\, festive gatherings\, donning costumes and eating treats. \nhttps://www.history.com/topics/halloween/history-of-halloween
URL:https://countryclubview.org/calitem/happy-halloween-3/
END:VEVENT
BEGIN:VEVENT
DTSTART;VALUE=DATE:20241031
DTEND;VALUE=DATE:20241101
DTSTAMP:20260424T112418
CREATED:20241014T204911Z
LAST-MODIFIED:20241014T210627Z
UID:5386-1730332800-1730419199@countryclubview.org
SUMMARY:FCPS Early Release
DESCRIPTION:Click here for 2024-2025 FCPS Calendar.
URL:https://countryclubview.org/calitem/fcps-early-release/
END:VEVENT
END:VCALENDAR