BEGIN:VCALENDAR
VERSION:2.0
PRODID:-//Country Club View Civic Association - ECPv6.15.20//NONSGML v1.0//EN
CALSCALE:GREGORIAN
METHOD:PUBLISH
X-ORIGINAL-URL:https://countryclubview.org
X-WR-CALDESC:Events for Country Club View Civic Association
REFRESH-INTERVAL;VALUE=DURATION:PT1H
X-Robots-Tag:noindex
X-PUBLISHED-TTL:PT1H
BEGIN:VTIMEZONE
TZID:America/New_York
BEGIN:DAYLIGHT
TZOFFSETFROM:-0500
TZOFFSETTO:-0400
TZNAME:EDT
DTSTART:20230312T070000
END:DAYLIGHT
BEGIN:STANDARD
TZOFFSETFROM:-0400
TZOFFSETTO:-0500
TZNAME:EST
DTSTART:20231105T060000
END:STANDARD
BEGIN:DAYLIGHT
TZOFFSETFROM:-0500
TZOFFSETTO:-0400
TZNAME:EDT
DTSTART:20240310T070000
END:DAYLIGHT
BEGIN:STANDARD
TZOFFSETFROM:-0400
TZOFFSETTO:-0500
TZNAME:EST
DTSTART:20241103T060000
END:STANDARD
BEGIN:DAYLIGHT
TZOFFSETFROM:-0500
TZOFFSETTO:-0400
TZNAME:EDT
DTSTART:20250309T070000
END:DAYLIGHT
BEGIN:STANDARD
TZOFFSETFROM:-0400
TZOFFSETTO:-0500
TZNAME:EST
DTSTART:20251102T060000
END:STANDARD
END:VTIMEZONE
BEGIN:VEVENT
DTSTART;TZID=America/New_York:20241219T180000
DTEND;TZID=America/New_York:20241219T220000
DTSTAMP:20260424T094853
CREATED:20240114T025804Z
LAST-MODIFIED:20240114T032447Z
UID:4440-1734631200-1734645600@countryclubview.org
SUMMARY:Holiday Home Decorating Contest
DESCRIPTION:Judged by a committee of Country Club View Civic Association members from 6:30-9:00 pm. Please have your lights on from 6:00-10:00 pm. Committee members will be driving throughout the neighborhood. Only current 2024 CCVCA members are eligible to participate. (Membership Application) The categories for this year will be Toyland\, Traditional\, and Winter Wonderland — one winner chosen for each category. The 3 winners will each receive a gift card and a yard sign announcing their award category. \nThe inclement weather date is Friday\, December 20. \n2023 Winners are ineligible for an award (if display is the same as last year) but are encouraged to decorate! \nWinners will be notified after the judging has concluded.\nSign will be placed in yard of each winning home.\nPhotos will be posted online.
URL:https://countryclubview.org/calitem/holiday-home-decorating-contest-3/
END:VEVENT
END:VCALENDAR