BEGIN:VCALENDAR
VERSION:2.0
PRODID:-//Country Club View Civic Association - ECPv6.15.20//NONSGML v1.0//EN
CALSCALE:GREGORIAN
METHOD:PUBLISH
X-ORIGINAL-URL:https://countryclubview.org
X-WR-CALDESC:Events for Country Club View Civic Association
REFRESH-INTERVAL;VALUE=DURATION:PT1H
X-Robots-Tag:noindex
X-PUBLISHED-TTL:PT1H
BEGIN:VTIMEZONE
TZID:America/New_York
BEGIN:DAYLIGHT
TZOFFSETFROM:-0500
TZOFFSETTO:-0400
TZNAME:EDT
DTSTART:20230312T070000
END:DAYLIGHT
BEGIN:STANDARD
TZOFFSETFROM:-0400
TZOFFSETTO:-0500
TZNAME:EST
DTSTART:20231105T060000
END:STANDARD
BEGIN:DAYLIGHT
TZOFFSETFROM:-0500
TZOFFSETTO:-0400
TZNAME:EDT
DTSTART:20240310T070000
END:DAYLIGHT
BEGIN:STANDARD
TZOFFSETFROM:-0400
TZOFFSETTO:-0500
TZNAME:EST
DTSTART:20241103T060000
END:STANDARD
BEGIN:DAYLIGHT
TZOFFSETFROM:-0500
TZOFFSETTO:-0400
TZNAME:EDT
DTSTART:20250309T070000
END:DAYLIGHT
BEGIN:STANDARD
TZOFFSETFROM:-0400
TZOFFSETTO:-0500
TZNAME:EST
DTSTART:20251102T060000
END:STANDARD
BEGIN:DAYLIGHT
TZOFFSETFROM:-0500
TZOFFSETTO:-0400
TZNAME:EDT
DTSTART:20260308T070000
END:DAYLIGHT
BEGIN:STANDARD
TZOFFSETFROM:-0400
TZOFFSETTO:-0500
TZNAME:EST
DTSTART:20261101T060000
END:STANDARD
END:VTIMEZONE
BEGIN:VEVENT
DTSTART;VALUE=DATE:20241230
DTEND;VALUE=DATE:20250104
DTSTAMP:20260424T082147
CREATED:20241014T212008Z
LAST-MODIFIED:20241014T212109Z
UID:5415-1735516800-1735948799@countryclubview.org
SUMMARY:FCPS Winter Break (No School)
DESCRIPTION:Click here for 2024-2025 FCPS Calendar.
URL:https://countryclubview.org/calitem/fcps-winter-break/
END:VEVENT
BEGIN:VEVENT
DTSTART;VALUE=DATE:20250101
DTEND;VALUE=DATE:20250301
DTSTAMP:20260424T082147
CREATED:20250101T194837Z
LAST-MODIFIED:20250101T194857Z
UID:5619-1735689600-1740787199@countryclubview.org
SUMMARY:2025 CCVCA Membership Drive
DESCRIPTION:The 2025 CCVCA Membership Drive began the first week of January\, and shortly after that all residents received the paper membership application via their block captain. An online application also is available. For 2024 we had 203 members out of 477 homes in Country Club View. We hope that all of you who joined last year will choose to join again this year. Your membership dues are what funds all the great activities throughout the year. Remember that fantastic ice cream social with the really cute sheep and the more than 50 raffle baskets? That is only possible with the support of a lot of members. The Board has set a goal of exceeding 250 members this year – so please join and talk to your neighbors about joining\, too!
URL:https://countryclubview.org/calitem/2025-ccvca-membership-drive/
END:VEVENT
END:VCALENDAR