BEGIN:VCALENDAR
VERSION:2.0
PRODID:-//Country Club View Civic Association - ECPv6.15.20//NONSGML v1.0//EN
CALSCALE:GREGORIAN
METHOD:PUBLISH
X-WR-CALNAME:Country Club View Civic Association
X-ORIGINAL-URL:https://countryclubview.org
X-WR-CALDESC:Events for Country Club View Civic Association
REFRESH-INTERVAL;VALUE=DURATION:PT1H
X-Robots-Tag:noindex
X-PUBLISHED-TTL:PT1H
BEGIN:VTIMEZONE
TZID:America/New_York
BEGIN:DAYLIGHT
TZOFFSETFROM:-0500
TZOFFSETTO:-0400
TZNAME:EDT
DTSTART:20240310T070000
END:DAYLIGHT
BEGIN:STANDARD
TZOFFSETFROM:-0400
TZOFFSETTO:-0500
TZNAME:EST
DTSTART:20241103T060000
END:STANDARD
BEGIN:DAYLIGHT
TZOFFSETFROM:-0500
TZOFFSETTO:-0400
TZNAME:EDT
DTSTART:20250309T070000
END:DAYLIGHT
BEGIN:STANDARD
TZOFFSETFROM:-0400
TZOFFSETTO:-0500
TZNAME:EST
DTSTART:20251102T060000
END:STANDARD
BEGIN:DAYLIGHT
TZOFFSETFROM:-0500
TZOFFSETTO:-0400
TZNAME:EDT
DTSTART:20260308T070000
END:DAYLIGHT
BEGIN:STANDARD
TZOFFSETFROM:-0400
TZOFFSETTO:-0500
TZNAME:EST
DTSTART:20261101T060000
END:STANDARD
END:VTIMEZONE
BEGIN:VEVENT
DTSTART;TZID=America/New_York:20250426T080000
DTEND;TZID=America/New_York:20250426T120000
DTSTAMP:20260424T033718
CREATED:20250201T185518Z
LAST-MODIFIED:20250201T185553Z
UID:5724-1745654400-1745668800@countryclubview.org
SUMMARY:Burke Farmers Market
DESCRIPTION:https://www.fairfaxcounty.gov/parks/farmersmarkets \nApril 19-November 22\, 2025 (Burke Location)\nSaturdays from 8 am – Noon \nFairfax County Park Authority operates 10 farmers markets across Fairfax County. The mission of the Fairfax County Farmers Markets is to provide residents access to locally grown products and create market opportunities for area farmers and food producers. \nThe markets are strictly producer-only\, meaning that all of the farmers and producers may only sell what they raise on their farms or make from scratch. We encourage our vendors to use local ingredients in the creation of their products as much as possible. Our farmers and producers all come from within a 125-mile radius of Fairfax County\, with a few exceptions for hard-to-find products. \n\n\n\n\nFood Scraps Drop-off at the Farmers Markets\n\nIf you are interested in composting\, consider dropping off your scraps at the Fairfax County Farmers Markets! Drop-off is available at all 10 markets and is a great way to put your food scraps to good use. By dropping off your weeks’ worth of scraps at a local Fairfax County Farmers Market\, you are reducing landfill waste while also contributing to richer\, more nutrient dense soil for agricultural and landscaping purposes.* \n*We do not accept yard clippings at the Farmers Markets. If you’d like to compost your yard waste\, please drop it off at the I-95 Landfill Complex or the I-66 Transfer Station. \n\n\nLearn more about how to drop off your compost
URL:https://countryclubview.org/calitem/burke-farmers-market-2/
LOCATION:Burke Farmers Market\, 5671 Roberts Parkway\, Burke\, VA\, 22015\, United States
END:VEVENT
BEGIN:VEVENT
DTSTART;TZID=America/New_York:20250426T080000
DTEND;TZID=America/New_York:20250426T120000
DTSTAMP:20260424T033718
CREATED:20250222T160721Z
LAST-MODIFIED:20250222T160721Z
UID:5936-1745654400-1745668800@countryclubview.org
SUMMARY:Free Share Saturday
DESCRIPTION:For more information see Free Share Saturday.
URL:https://countryclubview.org/calitem/free-share-saturday-25/
LOCATION:Country Club View\, Fairfax\, Virginia\, 22032
END:VEVENT
BEGIN:VEVENT
DTSTART;TZID=America/New_York:20250426T100000
DTEND;TZID=America/New_York:20250426T113000
DTSTAMP:20260424T033718
CREATED:20250425T024642Z
LAST-MODIFIED:20260316T024129Z
UID:6052-1745661600-1745667000@countryclubview.org
SUMMARY:Stream Cleanup
DESCRIPTION:On April 26\, 2025\, the CCV Stream Cleanup will be held from 10:00 am – 11:30 am. Celebrate Earth Day (April 22) by showing some love for our local stream\, Sideburn branch of Pohick Creek! Please join us in reducing the amount of trash in the Country Club View Park stream to prevent it from continuing downstream! Last year there were basketballs\, tennis balls\, tubing\, and even rusty chairs uncovered from the muck and brought out to be collected by the Park Authority. This is a great opportunity for students to earn service hours. \nTwo locations to meet: CCV Park by the tennis courts or the park entrance off of Grinnell Street. Dress appropriately for being in the woods and around the creek–wear gloves\, long pants\, and shoes that can get muddy. CCVCA will provide trash bags for volunteers and treats to enjoy after the cleanup. \nDate subject to change due to weather. \nRefreshments provided. This weekend is also the City Nature Challenge! Help the DC area make the most nature observations in this international contest! We can show you how to record your nature observations for the challenge.
URL:https://countryclubview.org/calitem/2025-stream-cleanup-4/
LOCATION:Country Club View Park\, 10609 Henrico Street\, Fairfax\, VA
END:VEVENT
END:VCALENDAR