BEGIN:VCALENDAR
VERSION:2.0
PRODID:-//Country Club View Civic Association - ECPv6.15.20//NONSGML v1.0//EN
CALSCALE:GREGORIAN
METHOD:PUBLISH
X-WR-CALNAME:Country Club View Civic Association
X-ORIGINAL-URL:https://countryclubview.org
X-WR-CALDESC:Events for Country Club View Civic Association
REFRESH-INTERVAL;VALUE=DURATION:PT1H
X-Robots-Tag:noindex
X-PUBLISHED-TTL:PT1H
BEGIN:VTIMEZONE
TZID:America/New_York
BEGIN:DAYLIGHT
TZOFFSETFROM:-0500
TZOFFSETTO:-0400
TZNAME:EDT
DTSTART:20240310T070000
END:DAYLIGHT
BEGIN:STANDARD
TZOFFSETFROM:-0400
TZOFFSETTO:-0500
TZNAME:EST
DTSTART:20241103T060000
END:STANDARD
BEGIN:DAYLIGHT
TZOFFSETFROM:-0500
TZOFFSETTO:-0400
TZNAME:EDT
DTSTART:20250309T070000
END:DAYLIGHT
BEGIN:STANDARD
TZOFFSETFROM:-0400
TZOFFSETTO:-0500
TZNAME:EST
DTSTART:20251102T060000
END:STANDARD
BEGIN:DAYLIGHT
TZOFFSETFROM:-0500
TZOFFSETTO:-0400
TZNAME:EDT
DTSTART:20260308T070000
END:DAYLIGHT
BEGIN:STANDARD
TZOFFSETFROM:-0400
TZOFFSETTO:-0500
TZNAME:EST
DTSTART:20261101T060000
END:STANDARD
END:VTIMEZONE
BEGIN:VEVENT
DTSTART;VALUE=DATE:20250805
DTEND;VALUE=DATE:20250806
DTSTAMP:20260423T220849
CREATED:20250803T020311Z
LAST-MODIFIED:20250803T020311Z
UID:6150-1754352000-1754438399@countryclubview.org
SUMMARY:National Night Out 2025
DESCRIPTION:Tuesday\, August 5\, is National Night Out. We as a neighborhood are not organizing any gatherings\, but you as residents are encouraged to get together with your neighbors. CCV is full of wonderful people who exemplify our motto\, “Every address a success!” Getting together socially is a great way to embody those words. Have fun! \nFor more information\, please click here.
URL:https://countryclubview.org/calitem/national-night-out-2025/
LOCATION:Country Club View\, Fairfax\, Virginia\, 22032
END:VEVENT
END:VCALENDAR