BEGIN:VCALENDAR
VERSION:2.0
PRODID:-//Country Club View Civic Association - ECPv6.15.20//NONSGML v1.0//EN
CALSCALE:GREGORIAN
METHOD:PUBLISH
X-WR-CALNAME:Country Club View Civic Association
X-ORIGINAL-URL:https://countryclubview.org
X-WR-CALDESC:Events for Country Club View Civic Association
REFRESH-INTERVAL;VALUE=DURATION:PT1H
X-Robots-Tag:noindex
X-PUBLISHED-TTL:PT1H
BEGIN:VTIMEZONE
TZID:America/New_York
BEGIN:DAYLIGHT
TZOFFSETFROM:-0500
TZOFFSETTO:-0400
TZNAME:EDT
DTSTART:20240310T070000
END:DAYLIGHT
BEGIN:STANDARD
TZOFFSETFROM:-0400
TZOFFSETTO:-0500
TZNAME:EST
DTSTART:20241103T060000
END:STANDARD
BEGIN:DAYLIGHT
TZOFFSETFROM:-0500
TZOFFSETTO:-0400
TZNAME:EDT
DTSTART:20250309T070000
END:DAYLIGHT
BEGIN:STANDARD
TZOFFSETFROM:-0400
TZOFFSETTO:-0500
TZNAME:EST
DTSTART:20251102T060000
END:STANDARD
BEGIN:DAYLIGHT
TZOFFSETFROM:-0500
TZOFFSETTO:-0400
TZNAME:EDT
DTSTART:20260308T070000
END:DAYLIGHT
BEGIN:STANDARD
TZOFFSETFROM:-0400
TZOFFSETTO:-0500
TZNAME:EST
DTSTART:20261101T060000
END:STANDARD
END:VTIMEZONE
BEGIN:VEVENT
DTSTART;VALUE=DATE:20250909
DTEND;VALUE=DATE:20250910
DTSTAMP:20260423T204741
CREATED:20250906T182324Z
LAST-MODIFIED:20250906T182324Z
UID:6248-1757376000-1757462399@countryclubview.org
SUMMARY:FCPS No School due to Special Election
DESCRIPTION:
URL:https://countryclubview.org/calitem/fcps-no-school-due-to-special-election/
END:VEVENT
BEGIN:VEVENT
DTSTART;TZID=America/New_York:20250909T060000
DTEND;TZID=America/New_York:20250909T190000
DTSTAMP:20260423T204741
CREATED:20250906T182519Z
LAST-MODIFIED:20250906T182628Z
UID:6250-1757397600-1757444400@countryclubview.org
SUMMARY:11th Congressional District Special Election Day
DESCRIPTION:A special election to determine the member of the United States House of Representatives for Virginia’s 11th congressional district will be held on September 9\, 2025. The seat became vacant following the death of Democrat Gerry Connolly on May 21\, 2025. \nClick here for more information.
URL:https://countryclubview.org/calitem/11th-congressional-district-special-election-day/
END:VEVENT
END:VCALENDAR