BEGIN:VCALENDAR
VERSION:2.0
PRODID:-//Country Club View Civic Association - ECPv6.15.20//NONSGML v1.0//EN
CALSCALE:GREGORIAN
METHOD:PUBLISH
X-WR-CALNAME:Country Club View Civic Association
X-ORIGINAL-URL:https://countryclubview.org
X-WR-CALDESC:Events for Country Club View Civic Association
REFRESH-INTERVAL;VALUE=DURATION:PT1H
X-Robots-Tag:noindex
X-PUBLISHED-TTL:PT1H
BEGIN:VTIMEZONE
TZID:America/New_York
BEGIN:DAYLIGHT
TZOFFSETFROM:-0500
TZOFFSETTO:-0400
TZNAME:EDT
DTSTART:20240310T070000
END:DAYLIGHT
BEGIN:STANDARD
TZOFFSETFROM:-0400
TZOFFSETTO:-0500
TZNAME:EST
DTSTART:20241103T060000
END:STANDARD
BEGIN:DAYLIGHT
TZOFFSETFROM:-0500
TZOFFSETTO:-0400
TZNAME:EDT
DTSTART:20250309T070000
END:DAYLIGHT
BEGIN:STANDARD
TZOFFSETFROM:-0400
TZOFFSETTO:-0500
TZNAME:EST
DTSTART:20251102T060000
END:STANDARD
BEGIN:DAYLIGHT
TZOFFSETFROM:-0500
TZOFFSETTO:-0400
TZNAME:EDT
DTSTART:20260308T070000
END:DAYLIGHT
BEGIN:STANDARD
TZOFFSETFROM:-0400
TZOFFSETTO:-0500
TZNAME:EST
DTSTART:20261101T060000
END:STANDARD
END:VTIMEZONE
BEGIN:VEVENT
DTSTART;TZID=America/New_York:20250925T193000
DTEND;TZID=America/New_York:20250925T210000
DTSTAMP:20260423T204742
CREATED:20250201T172107Z
LAST-MODIFIED:20250201T172240Z
UID:5711-1758828600-1758834000@countryclubview.org
SUMMARY:General Membership Meeting
DESCRIPTION:All CCVCA members are invited to join current Board members for the second 2025 General Membership Meeting. During this annual fall meeting we will discuss and then vote on the 2026 budget. We’ll also share updates on current agenda items. Meeting Minutes are available online. \n\n\nVenue: St. Mary of Sorrows Catholic Church in Farrell Hall (old building)
URL:https://countryclubview.org/calitem/general-membership-meeting-6/
LOCATION:St. Mary of Sorrows Catholic Church\, 5222 Sideburn Rd (Farrell Hall)\, Fairfax\, Virginia\, 22032
END:VEVENT
END:VCALENDAR