BEGIN:VCALENDAR
VERSION:2.0
PRODID:-//Country Club View Civic Association - ECPv6.15.20//NONSGML v1.0//EN
CALSCALE:GREGORIAN
METHOD:PUBLISH
X-WR-CALNAME:Country Club View Civic Association
X-ORIGINAL-URL:https://countryclubview.org
X-WR-CALDESC:Events for Country Club View Civic Association
REFRESH-INTERVAL;VALUE=DURATION:PT1H
X-Robots-Tag:noindex
X-PUBLISHED-TTL:PT1H
BEGIN:VTIMEZONE
TZID:America/New_York
BEGIN:DAYLIGHT
TZOFFSETFROM:-0500
TZOFFSETTO:-0400
TZNAME:EDT
DTSTART:20240310T070000
END:DAYLIGHT
BEGIN:STANDARD
TZOFFSETFROM:-0400
TZOFFSETTO:-0500
TZNAME:EST
DTSTART:20241103T060000
END:STANDARD
BEGIN:DAYLIGHT
TZOFFSETFROM:-0500
TZOFFSETTO:-0400
TZNAME:EDT
DTSTART:20250309T070000
END:DAYLIGHT
BEGIN:STANDARD
TZOFFSETFROM:-0400
TZOFFSETTO:-0500
TZNAME:EST
DTSTART:20251102T060000
END:STANDARD
BEGIN:DAYLIGHT
TZOFFSETFROM:-0500
TZOFFSETTO:-0400
TZNAME:EDT
DTSTART:20260308T070000
END:DAYLIGHT
BEGIN:STANDARD
TZOFFSETFROM:-0400
TZOFFSETTO:-0500
TZNAME:EST
DTSTART:20261101T060000
END:STANDARD
END:VTIMEZONE
BEGIN:VEVENT
DTSTART;TZID=America/New_York:20251004T080000
DTEND;TZID=America/New_York:20251004T120000
DTSTAMP:20260423T191020
CREATED:20250201T194622Z
LAST-MODIFIED:20250201T194622Z
UID:5774-1759564800-1759579200@countryclubview.org
SUMMARY:Burke Farmers Market
DESCRIPTION:https://www.fairfaxcounty.gov/parks/farmersmarkets \nApril 19-November 22\, 2025 (Burke Location)\nSaturdays from 8 am – Noon \nFairfax County Park Authority operates 10 farmers markets across Fairfax County. The mission of the Fairfax County Farmers Markets is to provide residents access to locally grown products and create market opportunities for area farmers and food producers. \nThe markets are strictly producer-only\, meaning that all of the farmers and producers may only sell what they raise on their farms or make from scratch. We encourage our vendors to use local ingredients in the creation of their products as much as possible. Our farmers and producers all come from within a 125-mile radius of Fairfax County\, with a few exceptions for hard-to-find products. \n\n\n\n\nFood Scraps Drop-off at the Farmers Markets\n\nIf you are interested in composting\, consider dropping off your scraps at the Fairfax County Farmers Markets! Drop-off is available at all 10 markets and is a great way to put your food scraps to good use. By dropping off your weeks’ worth of scraps at a local Fairfax County Farmers Market\, you are reducing landfill waste while also contributing to richer\, more nutrient dense soil for agricultural and landscaping purposes.* \n*We do not accept yard clippings at the Farmers Markets. If you’d like to compost your yard waste\, please drop it off at the I-95 Landfill Complex or the I-66 Transfer Station. \n\n\nLearn more about how to drop off your compost
URL:https://countryclubview.org/calitem/burke-farmers-market-25/
LOCATION:Burke Farmers Market\, 5671 Roberts Parkway\, Burke\, VA\, 22015\, United States
END:VEVENT
END:VCALENDAR