BEGIN:VCALENDAR
VERSION:2.0
PRODID:-//Country Club View Civic Association - ECPv6.15.20//NONSGML v1.0//EN
CALSCALE:GREGORIAN
METHOD:PUBLISH
X-ORIGINAL-URL:https://countryclubview.org
X-WR-CALDESC:Events for Country Club View Civic Association
REFRESH-INTERVAL;VALUE=DURATION:PT1H
X-Robots-Tag:noindex
X-PUBLISHED-TTL:PT1H
BEGIN:VTIMEZONE
TZID:America/New_York
BEGIN:DAYLIGHT
TZOFFSETFROM:-0500
TZOFFSETTO:-0400
TZNAME:EDT
DTSTART:20240310T070000
END:DAYLIGHT
BEGIN:STANDARD
TZOFFSETFROM:-0400
TZOFFSETTO:-0500
TZNAME:EST
DTSTART:20241103T060000
END:STANDARD
BEGIN:DAYLIGHT
TZOFFSETFROM:-0500
TZOFFSETTO:-0400
TZNAME:EDT
DTSTART:20250309T070000
END:DAYLIGHT
BEGIN:STANDARD
TZOFFSETFROM:-0400
TZOFFSETTO:-0500
TZNAME:EST
DTSTART:20251102T060000
END:STANDARD
BEGIN:DAYLIGHT
TZOFFSETFROM:-0500
TZOFFSETTO:-0400
TZNAME:EDT
DTSTART:20260308T070000
END:DAYLIGHT
BEGIN:STANDARD
TZOFFSETFROM:-0400
TZOFFSETTO:-0500
TZNAME:EST
DTSTART:20261101T060000
END:STANDARD
END:VTIMEZONE
BEGIN:VEVENT
DTSTART;VALUE=DATE:20251008
DTEND;VALUE=DATE:20251009
DTSTAMP:20260423T191159
CREATED:20251007T154801Z
LAST-MODIFIED:20251007T154801Z
UID:6345-1759881600-1759967999@countryclubview.org
SUMMARY:Robinson PSAT/NMSQT and SAT School Day -- schedule
DESCRIPTION:PSAT/NMSQT and SAT School Day will be administered at Robinson Secondary School. Testing will start promptly at 8:00 am. Students who are late will not be able to take the test.  \nDismissal is at 12:30 pm and students may purchase grab-and-go lunches. There will be no early dismissals for HS testers. If your HS student has an appointment\, they should stay home and test on the makeup day. \nStudents who are testing have received emails with their testing location\, what to bring and what NOT to bring. They should review that email. Students who are testing should bring their fully charged FCPS device\, and charger and picture ID. There will be limited seats near electrical outlets. \nStudents receiving low incidence special education services receive a normal instructional program (if not taking the PSAT/NMSQT or SAT exam) \n\n\nGrades 7 & 8  students will have a normal instructional day with a modified bell schedule \n\n\n\n\nGrade 9 students have an unscheduled day\, so they do not attend school.  \n\n\nGrades 10 & 11 students take the PSAT/NMSQT \n\n\nGrade 12 students will take the SAT if they opted into the exam
URL:https://countryclubview.org/calitem/robinson-psat-nmsqt-and-sat-school-day-schedule/
LOCATION:Robinson Secondary School\, 5035 Sideburn Road\, Fairfax\, VA\, 22032\, United States
END:VEVENT
END:VCALENDAR