BEGIN:VCALENDAR
VERSION:2.0
PRODID:-//Country Club View Civic Association - ECPv6.15.20//NONSGML v1.0//EN
CALSCALE:GREGORIAN
METHOD:PUBLISH
X-WR-CALNAME:Country Club View Civic Association
X-ORIGINAL-URL:https://countryclubview.org
X-WR-CALDESC:Events for Country Club View Civic Association
REFRESH-INTERVAL;VALUE=DURATION:PT1H
X-Robots-Tag:noindex
X-PUBLISHED-TTL:PT1H
BEGIN:VTIMEZONE
TZID:America/New_York
BEGIN:DAYLIGHT
TZOFFSETFROM:-0500
TZOFFSETTO:-0400
TZNAME:EDT
DTSTART:20250309T070000
END:DAYLIGHT
BEGIN:STANDARD
TZOFFSETFROM:-0400
TZOFFSETTO:-0500
TZNAME:EST
DTSTART:20251102T060000
END:STANDARD
BEGIN:DAYLIGHT
TZOFFSETFROM:-0500
TZOFFSETTO:-0400
TZNAME:EDT
DTSTART:20260308T070000
END:DAYLIGHT
BEGIN:STANDARD
TZOFFSETFROM:-0400
TZOFFSETTO:-0500
TZNAME:EST
DTSTART:20261101T060000
END:STANDARD
BEGIN:DAYLIGHT
TZOFFSETFROM:-0500
TZOFFSETTO:-0400
TZNAME:EDT
DTSTART:20270314T070000
END:DAYLIGHT
BEGIN:STANDARD
TZOFFSETFROM:-0400
TZOFFSETTO:-0500
TZNAME:EST
DTSTART:20271107T060000
END:STANDARD
END:VTIMEZONE
BEGIN:VEVENT
DTSTART;VALUE=DATE:20260301
DTEND;VALUE=DATE:20260411
DTSTAMP:20260423T122359
CREATED:20260314T221217Z
LAST-MODIFIED:20260314T221520Z
UID:6714-1772323200-1775865599@countryclubview.org
SUMMARY:2026 Scholarship Application Information
DESCRIPTION:This year CCVCA will award 1-year\, non-renewable scholarship(s) to graduating high school senior(s) whose parent or guardian is a current 2026 member of the civic association by the application deadline. The Paul A. Maltagliati Memorial College Scholarship is awarded based on academic achievement\, participation in school and community activities\, a short essay\, and a personal interview. The Scholarship Application provides more details about the process and required documentation. Please contact Scholarship Chairperson Greg Rheault at CCVCAscholarshipchair@gmail.com (with “CCVCA Scholarship” in the subject line) regarding the application\, selection process\, and the overall scholarship program. \nAll CCVCA 2026 graduating seniors are eligible to apply—regardless of high school attended or home-schooled—who are enrolling in a 4-year college/university\, 2-year college\, or trade or technical training. The online Scholarship Application must be submitted no later than April 10. During April 13-18\, each applicant will have an interview with the Scholarship Committee. Scholarship recipient(s) will be selected and then announced at the CCVCA General Membership Meeting on April 23\, 2026. \nThe dollar amount and the number of scholarships awarded varies depending on the funds available that year. Contributions are made by CCVCA members on the annual Membership Application and those attending events such as the Ice Cream Social. If you would like to make a donation to the scholarship fund\, please click here.
URL:https://countryclubview.org/calitem/2026-scholarship-application-information/
END:VEVENT
BEGIN:VEVENT
DTSTART;VALUE=DATE:20260330
DTEND;VALUE=DATE:20260404
DTSTAMP:20260423T122359
CREATED:20260314T192106Z
LAST-MODIFIED:20260314T192106Z
UID:6688-1774828800-1775260799@countryclubview.org
SUMMARY:FCPS Spring Break (No School)
DESCRIPTION:Click here for 2025-2026 FCPS Calendar.
URL:https://countryclubview.org/calitem/fcps-spring-break-no-school-2/
END:VEVENT
BEGIN:VEVENT
DTSTART;TZID=America/New_York:20260405T140000
DTEND;TZID=America/New_York:20260405T150000
DTSTAMP:20260423T122359
CREATED:20260331T172328Z
LAST-MODIFIED:20260331T172328Z
UID:6784-1775397600-1775401200@countryclubview.org
SUMMARY:2026 Easter Egg Hunt
DESCRIPTION:1:30 set up for volunteers. Please use Facebook to sign up.
URL:https://countryclubview.org/calitem/2026-easter-egg-hunt/
LOCATION:Country Club View Park\, 10609 Henrico Street\, Fairfax\, VA
END:VEVENT
BEGIN:VEVENT
DTSTART;VALUE=DATE:20260406
DTEND;VALUE=DATE:20260407
DTSTAMP:20260423T122359
CREATED:20260314T192516Z
LAST-MODIFIED:20260314T192516Z
UID:6690-1775433600-1775519999@countryclubview.org
SUMMARY:FCPS Student Holiday (No School)
DESCRIPTION:Click here for 2025-2026 FCPS Calendar.
URL:https://countryclubview.org/calitem/fcps-student-holiday-no-school-5/
END:VEVENT
BEGIN:VEVENT
DTSTART;VALUE=DATE:20260410
DTEND;VALUE=DATE:20260411
DTSTAMP:20260423T122359
CREATED:20260314T192952Z
LAST-MODIFIED:20260314T193242Z
UID:6692-1775779200-1775865599@countryclubview.org
SUMMARY:FCPS Student Holiday (No School)
DESCRIPTION:Click here for 2025-2026 FCPS Calendar.
URL:https://countryclubview.org/calitem/fcps-student-holiday-no-school-6/
END:VEVENT
BEGIN:VEVENT
DTSTART;VALUE=DATE:20260410
DTEND;VALUE=DATE:20260411
DTSTAMP:20260423T122359
CREATED:20260314T221004Z
LAST-MODIFIED:20260314T221054Z
UID:6711-1775779200-1775865599@countryclubview.org
SUMMARY:2026 CCVCA Paul Maltagliati Scholarship Application Deadline
DESCRIPTION:For more information about the Paul A. Maltagliati Memorial College Scholarship\, please click here.
URL:https://countryclubview.org/calitem/2026-ccvca-paul-maltagliati-scholarship-application-deadline/
END:VEVENT
BEGIN:VEVENT
DTSTART;TZID=America/New_York:20260418T090000
DTEND;TZID=America/New_York:20260418T103000
DTSTAMP:20260423T122359
CREATED:20260316T023955Z
LAST-MODIFIED:20260417T225046Z
UID:6729-1776502800-1776508200@countryclubview.org
SUMMARY:Stream Cleanup
DESCRIPTION:On April 18\, 2026\, the CCV Stream Cleanup will be held from 9:00 am – 10:30 am. Celebrate Earth Day (April 22) by showing some love for our local stream\, Sideburn branch of Pohick Creek! Please join us in reducing the amount of trash in the Country Club View Park stream to prevent it from continuing downstream! Last year there were basketballs\, tennis balls\, tubing\, and even rusty chairs uncovered from the muck and brought out to be collected by the Park Authority. This is a great opportunity for students to earn service hours. \nTwo locations to meet: CCV Park by the tennis courts or the park entrance off of Grinnell Street. Dress appropriately for being in the woods and around the creek–wear gloves\, long pants\, and shoes that can get muddy. CCVCA will provide trash bags for volunteers and treats to enjoy after the cleanup. \nDate subject to change due to weather.
URL:https://countryclubview.org/calitem/2026-stream-cleanup/
LOCATION:Country Club View Park\, 10609 Henrico Street\, Fairfax\, VA
END:VEVENT
BEGIN:VEVENT
DTSTART;VALUE=DATE:20260421
DTEND;VALUE=DATE:20260422
DTSTAMP:20260423T122359
CREATED:20260314T215120Z
LAST-MODIFIED:20260314T215120Z
UID:6696-1776729600-1776815999@countryclubview.org
SUMMARY:FCPS Student Holiday (No School)
DESCRIPTION:Click here for 2025-2026 FCPS Calendar.
URL:https://countryclubview.org/calitem/fcps-student-holiday-no-school-7/
END:VEVENT
BEGIN:VEVENT
DTSTART;TZID=America/New_York:20260421T060000
DTEND;TZID=America/New_York:20260421T190000
DTSTAMP:20260423T122359
CREATED:20260421T212347Z
LAST-MODIFIED:20260421T212603Z
UID:6837-1776751200-1776798000@countryclubview.org
SUMMARY:Special Election Voting Day
DESCRIPTION:Polling places are open from 6:00 a.m. to 7:00 p.m. on Election Day.  Anyone in line at 7:00 p.m. will be allowed to vote. \nClick here for Information on Virginia Voting Requirements. Voters may look up their polling place or they may contact their General Registrar for more information.
URL:https://countryclubview.org/calitem/special-election-voting-day/
END:VEVENT
BEGIN:VEVENT
DTSTART;TZID=America/New_York:20260423T193000
DTEND;TZID=America/New_York:20260423T210000
DTSTAMP:20260423T122359
CREATED:20260314T224430Z
LAST-MODIFIED:20260314T224443Z
UID:6725-1776972600-1776978000@countryclubview.org
SUMMARY:2026 CCVCA Spring Membership General Meeting
DESCRIPTION:All CCVCA members are invited to attend our Spring and Fall membership meetings\, held at St. Mary’s Church in Farrell Hall at 5222 Sideburn Road.\n\n\nDuring our annual Spring meeting we conduct officer elections as well as share updates on current agenda items like Membership Drive\, Events\, and Scholarship. Please email ccvcafx@gmail.com if you cannot attend and would like to submit a Proxy Ballot. \nThis Spring we will hear from invited guest speaker David Taylor with updates on the Erickson Senior Living’s project nearby on Braddock Road. \nIf you haven’t joined yet\, please take a moment now to submit your 2026 CCVCA Membership Application and $20 annual dues.
URL:https://countryclubview.org/calitem/ccvca-spring-membership-general-meeting/
LOCATION:St. Mary of Sorrows Catholic Church\, 5222 Sideburn Rd (Farrell Hall)\, Fairfax\, Virginia\, 22032
END:VEVENT
BEGIN:VEVENT
DTSTART;VALUE=DATE:20260525
DTEND;VALUE=DATE:20260526
DTSTAMP:20260423T122359
CREATED:20260314T220003Z
LAST-MODIFIED:20260314T220719Z
UID:6705-1779667200-1779753599@countryclubview.org
SUMMARY:Memorial Day Holiday
DESCRIPTION:Military.com | By Amy Bushatz\nUpdated May 08\, 2024\nClick here for full article.\nObserved the last Monday in May\, Memorial Day honors those who lost their lives while in service to the United States during peace and war. \nMemorial Day is not a celebration but a solemn day to reflect on veterans and military personnel who are deceased. \nWhat Is The Meaning Of Memorial Day In The U.S.?\nMemorial Day\, observed on the last Monday of May\, is a day to honor members of the military who were killed in service\, both during deployments overseas or in training and service in the U.S. Across the country\, Americans spend the day visiting cemeteries\, attending Memorial Day events and otherwise honoring those who lost their lives in service to the country. The day also traditionally marks the first unofficial day of summer.
URL:https://countryclubview.org/calitem/memorial-day-holiday/
END:VEVENT
BEGIN:VEVENT
DTSTART;VALUE=DATE:20260526
DTEND;VALUE=DATE:20260527
DTSTAMP:20260423T122359
CREATED:20260314T215446Z
LAST-MODIFIED:20260314T215446Z
UID:6698-1779753600-1779839999@countryclubview.org
SUMMARY:FCPS Student Holiday (No School)
DESCRIPTION:Click here for 2025-2026 FCPS Calendar.
URL:https://countryclubview.org/calitem/fcps-student-holiday-no-school-8/
END:VEVENT
BEGIN:VEVENT
DTSTART;VALUE=DATE:20260528
DTEND;VALUE=DATE:20260529
DTSTAMP:20260423T122359
CREATED:20260314T215540Z
LAST-MODIFIED:20260314T215540Z
UID:6700-1779926400-1780012799@countryclubview.org
SUMMARY:FCPS Student Holiday (No School)
DESCRIPTION:Click here for 2025-2026 FCPS Calendar.
URL:https://countryclubview.org/calitem/fcps-student-holiday-no-school-9/
END:VEVENT
BEGIN:VEVENT
DTSTART;VALUE=DATE:20260617
DTEND;VALUE=DATE:20260618
DTSTAMP:20260423T122359
CREATED:20260314T215747Z
LAST-MODIFIED:20260314T215836Z
UID:6702-1781654400-1781740799@countryclubview.org
SUMMARY:FCPS Last Day for Regular Classes / Early Release
DESCRIPTION:Click here for 2025-2026 FCPS Calendar.
URL:https://countryclubview.org/calitem/fcps-last-day-for-regular-classes-early-release/
END:VEVENT
END:VCALENDAR