BEGIN:VCALENDAR
VERSION:2.0
PRODID:-//Country Club View Civic Association - ECPv6.15.20//NONSGML v1.0//EN
CALSCALE:GREGORIAN
METHOD:PUBLISH
X-ORIGINAL-URL:https://countryclubview.org
X-WR-CALDESC:Events for Country Club View Civic Association
REFRESH-INTERVAL;VALUE=DURATION:PT1H
X-Robots-Tag:noindex
X-PUBLISHED-TTL:PT1H
BEGIN:VTIMEZONE
TZID:America/New_York
BEGIN:DAYLIGHT
TZOFFSETFROM:-0500
TZOFFSETTO:-0400
TZNAME:EDT
DTSTART:20220313T070000
END:DAYLIGHT
BEGIN:STANDARD
TZOFFSETFROM:-0400
TZOFFSETTO:-0500
TZNAME:EST
DTSTART:20221106T060000
END:STANDARD
BEGIN:DAYLIGHT
TZOFFSETFROM:-0500
TZOFFSETTO:-0400
TZNAME:EDT
DTSTART:20230312T070000
END:DAYLIGHT
BEGIN:STANDARD
TZOFFSETFROM:-0400
TZOFFSETTO:-0500
TZNAME:EST
DTSTART:20231105T060000
END:STANDARD
BEGIN:DAYLIGHT
TZOFFSETFROM:-0500
TZOFFSETTO:-0400
TZNAME:EDT
DTSTART:20240310T070000
END:DAYLIGHT
BEGIN:STANDARD
TZOFFSETFROM:-0400
TZOFFSETTO:-0500
TZNAME:EST
DTSTART:20241103T060000
END:STANDARD
BEGIN:DAYLIGHT
TZOFFSETFROM:-0500
TZOFFSETTO:-0400
TZNAME:EDT
DTSTART:20250309T070000
END:DAYLIGHT
BEGIN:STANDARD
TZOFFSETFROM:-0400
TZOFFSETTO:-0500
TZNAME:EST
DTSTART:20251102T060000
END:STANDARD
END:VTIMEZONE
BEGIN:VEVENT
DTSTART;TZID=America/New_York:20231023T193000
DTEND;TZID=America/New_York:20231023T210000
DTSTAMP:20260425T092330
CREATED:20230102T035105Z
LAST-MODIFIED:20230102T035105Z
UID:3655-1698089400-1698094800@countryclubview.org
SUMMARY:Board Meeting
DESCRIPTION:
URL:https://countryclubview.org/calitem/board-meeting-25/
LOCATION:Virginia
END:VEVENT
BEGIN:VEVENT
DTSTART;TZID=America/New_York:20231028T080000
DTEND;TZID=America/New_York:20231028T120000
DTSTAMP:20260425T092330
CREATED:20230713T142840Z
LAST-MODIFIED:20230713T142840Z
UID:4037-1698480000-1698494400@countryclubview.org
SUMMARY:Free Share Saturday
DESCRIPTION:For more information see Free Share Saturday.
URL:https://countryclubview.org/calitem/free-share-saturday-7/
LOCATION:Country Club View\, Fairfax\, Virginia\, 22032
END:VEVENT
BEGIN:VEVENT
DTSTART;TZID=America/New_York:20231028T120000
DTEND;TZID=America/New_York:20231028T120000
DTSTAMP:20260425T092330
CREATED:20230102T042711Z
LAST-MODIFIED:20230102T042711Z
UID:3686-1698494400-1698494400@countryclubview.org
SUMMARY:Halloween Pumpkin Carving Contest Photo Deadline
DESCRIPTION:To participate in the pumpkin carving competition\, please email Thomas.mccurdy89@gmail.com at least one photo of your entry by noon on Saturday\, October 28. Include the subject line “2023 CCVCA Halloween Pumpkin Carving Competition.” You may submit both a daytime and a nighttime photo to best show your carving skills. \nA station will be set up if you want to bring your own pumpkin and carve it at the festival from 2:00 pm to 5:00 pm. If you plan to submit your on-site carved pumpkin for the contest\, please note the voting begins at 3:00 pm. \nThose attending the CCVCA Halloween Festival at the park on Sunday\, October 30\, will vote on-site from 3:00 pm to 5:00 pm. The winner will receive a prize and be given a sign to put in their yard the first two weeks of November.
URL:https://countryclubview.org/calitem/halloween-pumpkin-carving-contest-photo-deadline-2/
LOCATION:Virginia
END:VEVENT
BEGIN:VEVENT
DTSTART;TZID=America/New_York:20231028T120000
DTEND;TZID=America/New_York:20231028T120000
DTSTAMP:20260425T092330
CREATED:20230102T042925Z
LAST-MODIFIED:20230102T043017Z
UID:3688-1698494400-1698494400@countryclubview.org
SUMMARY:Halloween Home Decorating Contest Photo Deadline
DESCRIPTION:To participate in the home decorating competition\, please email Thomas.mccurdy89@gmail.com at least one photo of your entry by noon on Saturday\, October 28. Include the subject line “2023 CCVCA Halloween Home Decorating Competition.” You may submit both a daytime and a nighttime photo to best show your decorations. \nThose attending the CCVCA Halloween Festival at the park on Sunday\, October 29\, will vote on-site from 3:00 pm to 5:00 pm. The winner will receive a prize and be given a sign to put in their yard the first two weeks of November.
URL:https://countryclubview.org/calitem/halloween-home-decorating-contest-photo-deadline/
LOCATION:Virginia
END:VEVENT
BEGIN:VEVENT
DTSTART;TZID=America/New_York:20231029T145000
DTEND;TZID=America/New_York:20231029T151000
DTSTAMP:20260425T092330
CREATED:20230102T043217Z
LAST-MODIFIED:20230930T190419Z
UID:3690-1698591000-1698592200@countryclubview.org
SUMMARY:Halloween Costume Parade
DESCRIPTION:Arrive: 2:50 pm\nLine Up: 2:55 pm\nParade Begins: 3:05 pm \nThe Costume Parade around the basketball court will be the opening event for the CCVCA Halloween Festival on Sunday\, October 29. Come dressed to impress your neighbors\, friends\, and guests. If your furry friend also wants to participate\, county guidelines require pets be on a leash!
URL:https://countryclubview.org/calitem/halloween-costume-parade-2/
LOCATION:Virginia
END:VEVENT
BEGIN:VEVENT
DTSTART;TZID=America/New_York:20231029T150000
DTEND;TZID=America/New_York:20231029T170000
DTSTAMP:20260425T092330
CREATED:20230102T041943Z
LAST-MODIFIED:20230929T180937Z
UID:3679-1698591600-1698598800@countryclubview.org
SUMMARY:Ice Cream Social & Scholarship Fundraiser & Cash Raffle
DESCRIPTION:Due to inclement weather\, the event has been rescheduled as a joint event with the Halloween Festival. \n9th Annual Ice Cream Social & Scholarship Fundraiser & Cash Raffle\nSunday\, October 29\, 2023\n3:00 pm – 5:00 pm\nCCV Park
URL:https://countryclubview.org/calitem/ice-cream-social-cash-raffle/
LOCATION:Country Club View Park\, 10609 Henrico Street\, Fairfax\, VA
END:VEVENT
BEGIN:VEVENT
DTSTART;TZID=America/New_York:20231029T150000
DTEND;TZID=America/New_York:20231029T170000
DTSTAMP:20260425T092330
CREATED:20230102T042353Z
LAST-MODIFIED:20230929T181307Z
UID:3684-1698591600-1698598800@countryclubview.org
SUMMARY:Halloween Spooky Trail
DESCRIPTION:Come to the CCV Park and enjoy the Spooky Trail and games! Come dressed in your costume for this festive event! \nSpooky Trail participants must sign up on-site to be led by a guide. Groups of about 10 participants will be called from the list and then staggered to maximize fun for everyone involved. \nContacts: Sherrie Brady and TJ McCurdy. \n 
URL:https://countryclubview.org/calitem/halloween-spooky-trail-2/
LOCATION:Country Club View Park\, 10609 Henrico Street\, Fairfax\, VA
END:VEVENT
BEGIN:VEVENT
DTSTART;TZID=America/New_York:20231029T150000
DTEND;TZID=America/New_York:20231029T170000
DTSTAMP:20260425T092330
CREATED:20230102T043524Z
LAST-MODIFIED:20230930T190157Z
UID:3692-1698591600-1698598800@countryclubview.org
SUMMARY:Halloween Festival
DESCRIPTION:NO RAIN DATE IF INCLEMENT WEATHER! \nCome to the CCV Park and enjoy the Spooky Trail and games! All are welcome to come dressed in a costume for this Halloween Festival! \nCCVCA members are encouraged to participate in the home decorating and pumpkin carving competitions — make our neighborhood a spooktacular place to visit for Halloween! \n* To participate in the home decorating and/or pumpkin carving contests\, email at least one photo of your entry to Thomas.mccurdy89@gmail.com by noon on Saturday\, October 28. You may submit both a daytime and a nighttime photo to best show your home decorations and/or carved pumpkin(s).\n* A station will be set up if you want to bring your own pumpkin and carve it at the festival. If you plan to submit your on-site carved pumpkin for the contest\, please note the voting begins at 3:00 pm.\n* Voting on home decorations and pumpkins (submitted photos and carved on-site) will be done at the festival from 3:00 pm to 5:00 pm. There will be no voting on Facebook this year. The winner of each competition will receive a prize and be given a sign to put in their yard the first two weeks of November.\n* Spooky Trail participants must sign up on-site to be led by a guide. Groups of about 10 participants will be called from the list and then staggered to maximize fun for everyone involved.\n* Yard games\, prize wheel\, selfie station\, yummy treats\, and spooky music will make the festival a memorable event for all! \nVolunteers should meet in the park at 12:30 pm to set up.\nCostume Parade — Arrive at 2:55 pm and Line Up at 3:00; Parade Begins at 3:05.\nContacts: Sherrie Brady and TJ McCurdy.
URL:https://countryclubview.org/calitem/halloween-festival-2/
LOCATION:Country Club View Park\, 10609 Henrico Street\, Fairfax\, VA
END:VEVENT
BEGIN:VEVENT
DTSTART;TZID=America/New_York:20231029T150000
DTEND;TZID=America/New_York:20231029T170000
DTSTAMP:20260425T092330
CREATED:20230911T152509Z
LAST-MODIFIED:20230930T185448Z
UID:4107-1698591600-1698598800@countryclubview.org
SUMMARY:Halloween Competitions
DESCRIPTION:For more details click here.
URL:https://countryclubview.org/calitem/halloween-competitions/
LOCATION:Country Club View Park\, 10609 Henrico Street\, Fairfax\, VA
END:VEVENT
BEGIN:VEVENT
DTSTART;VALUE=DATE:20231031
DTEND;VALUE=DATE:20231101
DTSTAMP:20260425T092330
CREATED:20231030T130728Z
LAST-MODIFIED:20231030T130728Z
UID:4198-1698710400-1698796799@countryclubview.org
SUMMARY:Happy Halloween!
DESCRIPTION:Halloween is a holiday celebrated each year on October 31\, and Halloween 2023 will occur on Tuesday\, October 31. The tradition originated with the ancient Celtic festival of Samhain\, when people would light bonfires and wear costumes to ward off ghosts. In the eighth century\, Pope Gregory III designated November 1 as a time to honor all saints. Soon\, All Saints Day incorporated some of the traditions of Samhain. The evening before was known as All Hallows Eve\, and later Halloween. Over time\, Halloween evolved into a day of activities like trick-or-treating\, carving jack-o-lanterns\, festive gatherings\, donning costumes and eating treats. \nhttps://www.history.com/topics/halloween/history-of-halloween
URL:https://countryclubview.org/calitem/happy-halloween-2/
LOCATION:Virginia
END:VEVENT
BEGIN:VEVENT
DTSTART;TZID=America/New_York:20231107T060000
DTEND;TZID=America/New_York:20231107T190000
DTSTAMP:20260425T092330
CREATED:20231103T131042Z
LAST-MODIFIED:20231103T131042Z
UID:4206-1699336800-1699383600@countryclubview.org
SUMMARY:Election Day
DESCRIPTION:https://www.elections.virginia.gov/registration/election-voter-faq/
URL:https://countryclubview.org/calitem/election-day/
LOCATION:Virginia
END:VEVENT
BEGIN:VEVENT
DTSTART;VALUE=DATE:20231110
DTEND;VALUE=DATE:20231111
DTSTAMP:20260425T092330
CREATED:20230910T191828Z
LAST-MODIFIED:20231110T134717Z
UID:4086-1699574400-1699660799@countryclubview.org
SUMMARY:Veterans Day Federal Holiday*
DESCRIPTION:This is one of the few unique holidays that is locked to a specific day: November 11. But it’s also a federal and bank holiday. This year the Federal Holiday is on Friday\, November 10. \nVeterans Day is a remembrance of all U.S. military veterans – past and present. It is celebrated every November 11\, and has been a federal holiday since 1926. \n* Because most Federal Employees work on a Monday to Friday schedule\, when a holiday falls on a weekend the holiday is observed on the closest regular workday. The holiday is observed on Friday if the holiday falls on Saturday and Monday if the holiday falls on Sunday (5 U.S.C. 6103 (b)(2)).
URL:https://countryclubview.org/calitem/veterans-day-federal-holiday/
LOCATION:Virginia
END:VEVENT
BEGIN:VEVENT
DTSTART;VALUE=DATE:20231111
DTEND;VALUE=DATE:20231112
DTSTAMP:20260425T092330
CREATED:20230910T191951Z
LAST-MODIFIED:20230910T192259Z
UID:4088-1699660800-1699747199@countryclubview.org
SUMMARY:Veterans Day 2023
DESCRIPTION:Veterans Day is a remembrance of all U.S. military veterans – past and present. It is celebrated every November 11th\, and has been a federal holiday since 1926.
URL:https://countryclubview.org/calitem/veterans-day-2023/
LOCATION:Virginia
END:VEVENT
BEGIN:VEVENT
DTSTART;VALUE=DATE:20231123
DTEND;VALUE=DATE:20231124
DTSTAMP:20260425T092330
CREATED:20231103T131208Z
LAST-MODIFIED:20231103T131208Z
UID:4208-1700697600-1700783999@countryclubview.org
SUMMARY:Happy Thanksgiving!
DESCRIPTION:
URL:https://countryclubview.org/calitem/happy-thanksgiving-2/
LOCATION:Virginia
END:VEVENT
BEGIN:VEVENT
DTSTART;TZID=America/New_York:20231125T080000
DTEND;TZID=America/New_York:20231125T120000
DTSTAMP:20260425T092330
CREATED:20230713T143001Z
LAST-MODIFIED:20230713T143001Z
UID:4039-1700899200-1700913600@countryclubview.org
SUMMARY:Free Share Saturday
DESCRIPTION:For more information see Free Share Saturday.
URL:https://countryclubview.org/calitem/free-share-saturday-8/
LOCATION:Country Club View\, Fairfax\, Virginia\, 22032
END:VEVENT
BEGIN:VEVENT
DTSTART;TZID=America/New_York:20231127T193000
DTEND;TZID=America/New_York:20231127T210000
DTSTAMP:20260425T092330
CREATED:20230102T035147Z
LAST-MODIFIED:20230102T035147Z
UID:3657-1701113400-1701118800@countryclubview.org
SUMMARY:Board Meeting
DESCRIPTION:
URL:https://countryclubview.org/calitem/board-meeting-26/
LOCATION:Virginia
END:VEVENT
BEGIN:VEVENT
DTSTART;VALUE=DATE:20231215
DTEND;VALUE=DATE:20231216
DTSTAMP:20260425T092330
CREATED:20230102T040052Z
LAST-MODIFIED:20230102T040052Z
UID:3667-1702598400-1702684799@countryclubview.org
SUMMARY:Newsletter #4
DESCRIPTION:
URL:https://countryclubview.org/calitem/newsletter-4-2/
LOCATION:Virginia
END:VEVENT
BEGIN:VEVENT
DTSTART;TZID=America/New_York:20231218T180000
DTEND;TZID=America/New_York:20231218T220000
DTSTAMP:20260425T092330
CREATED:20230102T043810Z
LAST-MODIFIED:20230102T044008Z
UID:3694-1702922400-1702936800@countryclubview.org
SUMMARY:Holiday Home Decorating Contest
DESCRIPTION:Judged by a committee of Country Club View Civic Association members from 6:30-9:00 pm. Please have your lights on from 6:00-10:00 pm. Committee members will be driving throughout the neighborhood. Only current 2023 CCVCA members are eligible to participate. (Membership Application) The categories for this year will be Toyland\, Traditional\, and Winter Wonderland — one winner chosen for each category. The 3 winners will each receive a gift card and a yard sign announcing their award category. \nThe inclement weather date is Tuesday\, December 19.\n2022 Winners are ineligible for an award (if display is the same as last year) but are encouraged to decorate! \nWinners will be notified after the judging has concluded.\nSign will be placed in yard of each winning home.\nPhotos will be posted online. \n 
URL:https://countryclubview.org/calitem/holiday-home-decorating-contest-2/
LOCATION:Country Club View\, Fairfax\, Virginia\, 22032
END:VEVENT
BEGIN:VEVENT
DTSTART;TZID=America/New_York:20231218T193000
DTEND;TZID=America/New_York:20231218T210000
DTSTAMP:20260425T092330
CREATED:20230102T035229Z
LAST-MODIFIED:20230102T035229Z
UID:3659-1702927800-1702933200@countryclubview.org
SUMMARY:Board Meeting
DESCRIPTION:
URL:https://countryclubview.org/calitem/board-meeting-27/
LOCATION:Virginia
END:VEVENT
BEGIN:VEVENT
DTSTART;TZID=America/New_York:20231230T080000
DTEND;TZID=America/New_York:20231230T120000
DTSTAMP:20260425T092330
CREATED:20230713T143102Z
LAST-MODIFIED:20230713T143102Z
UID:4041-1703923200-1703937600@countryclubview.org
SUMMARY:Free Share Saturday
DESCRIPTION:For more information see Free Share Saturday.
URL:https://countryclubview.org/calitem/free-share-saturday-9/
LOCATION:Country Club View\, Fairfax\, Virginia\, 22032
END:VEVENT
BEGIN:VEVENT
DTSTART;VALUE=DATE:20240101
DTEND;VALUE=DATE:20240102
DTSTAMP:20260425T092330
CREATED:20240101T022522Z
LAST-MODIFIED:20240101T022522Z
UID:4288-1704067200-1704153599@countryclubview.org
SUMMARY:Happy New Year!
DESCRIPTION:
URL:https://countryclubview.org/calitem/happy-new-year-3/
LOCATION:Virginia
END:VEVENT
BEGIN:VEVENT
DTSTART;VALUE=DATE:20240101
DTEND;VALUE=DATE:20240404
DTSTAMP:20260425T092330
CREATED:20240101T023315Z
LAST-MODIFIED:20240219T190545Z
UID:4292-1704067200-1712188799@countryclubview.org
SUMMARY:2024 Scholarship Application Information
DESCRIPTION:This year CCVCA will award 1-year\, non-renewable scholarship(s) to graduating high school senior(s) whose family is a current 2024 member of the civic association. The Paul A. Maltagliati Memorial College Scholarship is awarded based on academic achievement\, participation in school and community activities\, a short essay\, and an interview. The Scholarship Application provides details about the process and required documentation. For more information or questions about the scholarship\, please contact Greg Rheault with “CCVCA Scholarship” in the subject line. \nAll CCVCA 2024 graduating seniors are eligible to apply\, regardless of high school attended or home schooled. The online Scholarship Application must be submitted no later than April 3\, 2024. During April 12-19\, each applicant will have an interview with the Scholarship Committee. Scholarship recipient(s) will be selected by April 19 and then announced at the CCVCA General Membership Meeting on April 25. \nThe dollar amount and the number of scholarships awarded varies depending on the funds available that year. Contributions are made by CCVCA members on the annual Membership Application and those attending events like the Ice Cream Social. If you would like to make a donation to the scholarship fund\, please click here.
URL:https://countryclubview.org/calitem/2024-scholarship-information/
LOCATION:Virginia
END:VEVENT
BEGIN:VEVENT
DTSTART;VALUE=DATE:20240101
DTEND;VALUE=DATE:20240301
DTSTAMP:20260425T092330
CREATED:20240101T022826Z
LAST-MODIFIED:20240220T233706Z
UID:3007-1704067200-1709251199@countryclubview.org
SUMMARY:2024 CCVCA Membership Drive
DESCRIPTION:The 2024 Membership Drive began the first week of January\, and shortly after that all residents received the paper membership application via their block captain. An online application also is available. For 2023 we had 242 members out of 477 homes in Country Club View. We hope that all of you who joined last year will choose to join again this year. Your membership dues are what funds all the great activities throughout the year. Remember that fantastic ice cream social with the really cute alpacas and the face painter? That is only possible with the support of a lot of members. The Board has set a goal of exceeding 250 members this year – so please join and talk to your neighbors about joining\, too!
URL:https://countryclubview.org/calitem/2024-ccvca-membership-drive/
LOCATION:Virginia
END:VEVENT
BEGIN:VEVENT
DTSTART;VALUE=DATE:20240115
DTEND;VALUE=DATE:20240116
DTSTAMP:20260425T092330
CREATED:20240101T023815Z
LAST-MODIFIED:20240114T033922Z
UID:4296-1705276800-1705363199@countryclubview.org
SUMMARY:MLK Jr. Day Holiday
DESCRIPTION:
URL:https://countryclubview.org/calitem/mlk-jr-day-holiday/
LOCATION:Virginia
END:VEVENT
BEGIN:VEVENT
DTSTART;VALUE=DATE:20240125
DTEND;VALUE=DATE:20240126
DTSTAMP:20260425T092330
CREATED:20240101T024059Z
LAST-MODIFIED:20240101T024059Z
UID:4298-1706140800-1706227199@countryclubview.org
SUMMARY:FCPS End of Second Quarter - 2-hour Early Release
DESCRIPTION:https://www.fcps.edu/calendars/standard-school-year-calendar
URL:https://countryclubview.org/calitem/fcps-end-of-second-quarter-2-hour-early-release/
LOCATION:Virginia
END:VEVENT
BEGIN:VEVENT
DTSTART;VALUE=DATE:20240126
DTEND;VALUE=DATE:20240127
DTSTAMP:20260425T092330
CREATED:20240101T024201Z
LAST-MODIFIED:20240101T024201Z
UID:4300-1706227200-1706313599@countryclubview.org
SUMMARY:FCPS Student Holiday
DESCRIPTION:https://www.fcps.edu/calendars/standard-school-year-calendar
URL:https://countryclubview.org/calitem/fcps-student-holiday/
LOCATION:Virginia
END:VEVENT
BEGIN:VEVENT
DTSTART;TZID=America/New_York:20240127T080000
DTEND;TZID=America/New_York:20240127T120000
DTSTAMP:20260425T092330
CREATED:20240113T232926Z
LAST-MODIFIED:20240113T233235Z
UID:4362-1706342400-1706356800@countryclubview.org
SUMMARY:Free Share Saturday
DESCRIPTION:For more information see Free Share Saturday.
URL:https://countryclubview.org/calitem/free-share-saturday-10/
LOCATION:Country Club View\, Fairfax\, Virginia\, 22032
END:VEVENT
BEGIN:VEVENT
DTSTART;TZID=America/New_York:20240129T190000
DTEND;TZID=America/New_York:20240129T210000
DTSTAMP:20260425T092330
CREATED:20240114T034822Z
LAST-MODIFIED:20240128T200733Z
UID:4446-1706554800-1706562000@countryclubview.org
SUMMARY:Board Meeting
DESCRIPTION:Section Leader and Block Captain volunteers are invited to participate as non-voting members of monthly Board Meetings. Any member may inquire at Contact Us for upcoming meeting dates and times. \nLocation: Oh George! Tables and Taphouse | University Mall 10659C Braddock Rd
URL:https://countryclubview.org/calitem/board-meeting-22/
LOCATION:Oh George! Tables and Taphouse\, University Mall 10659C Braddock Rd\, Fairfax\, VA\, 22032\, United States
END:VEVENT
BEGIN:VEVENT
DTSTART;VALUE=DATE:20240201
DTEND;VALUE=DATE:20240301
DTSTAMP:20260425T092330
CREATED:20240113T232314Z
LAST-MODIFIED:20240113T232708Z
UID:4357-1706745600-1709251199@countryclubview.org
SUMMARY:Leadership Appreciation
DESCRIPTION:Thank You Volunteers!\nThey say it takes a village\, and we are lucky to have a great one! Thank you for making our neighborhood a great place to live! Interested in supporting any of the roles listed below\, or volunteering in another capacity? Email ccvcafx@gmail.com to share your time and talent. \n\n15 leadership volunteers serving on the Board of Directors.\nOver 60 households serving and observing with Neighborhood Watch.\nMore than 40 Block Captains and Section Leaders creating micro communities.\nAn annual review committee for our Paul Maltagliati Memorial College Scholarship.\nDozens of Scouts clocking service hours\, for which CCVCA is the charter organization.\nOver 40 volunteers behind the success of our annual Ice Cream Social.\nAnd neighbors like YOU who care about CCV and the people who live here.
URL:https://countryclubview.org/calitem/leadership-appreciation/
LOCATION:Virginia
END:VEVENT
BEGIN:VEVENT
DTSTART;VALUE=DATE:20240214
DTEND;VALUE=DATE:20240215
DTSTAMP:20260425T092330
CREATED:20240131T004633Z
LAST-MODIFIED:20240131T004633Z
UID:4503-1707868800-1707955199@countryclubview.org
SUMMARY:Happy Valentine's Day!
DESCRIPTION:
URL:https://countryclubview.org/calitem/happy-valentines-day/
LOCATION:Virginia
END:VEVENT
END:VCALENDAR