BEGIN:VCALENDAR
VERSION:2.0
PRODID:-//Country Club View Civic Association - ECPv6.15.20//NONSGML v1.0//EN
CALSCALE:GREGORIAN
METHOD:PUBLISH
X-WR-CALNAME:Country Club View Civic Association
X-ORIGINAL-URL:https://countryclubview.org
X-WR-CALDESC:Events for Country Club View Civic Association
REFRESH-INTERVAL;VALUE=DURATION:PT1H
X-Robots-Tag:noindex
X-PUBLISHED-TTL:PT1H
BEGIN:VTIMEZONE
TZID:America/New_York
BEGIN:DAYLIGHT
TZOFFSETFROM:-0500
TZOFFSETTO:-0400
TZNAME:EDT
DTSTART:20200308T070000
END:DAYLIGHT
BEGIN:STANDARD
TZOFFSETFROM:-0400
TZOFFSETTO:-0500
TZNAME:EST
DTSTART:20201101T060000
END:STANDARD
BEGIN:DAYLIGHT
TZOFFSETFROM:-0500
TZOFFSETTO:-0400
TZNAME:EDT
DTSTART:20210314T070000
END:DAYLIGHT
BEGIN:STANDARD
TZOFFSETFROM:-0400
TZOFFSETTO:-0500
TZNAME:EST
DTSTART:20211107T060000
END:STANDARD
BEGIN:DAYLIGHT
TZOFFSETFROM:-0500
TZOFFSETTO:-0400
TZNAME:EDT
DTSTART:20220313T070000
END:DAYLIGHT
BEGIN:STANDARD
TZOFFSETFROM:-0400
TZOFFSETTO:-0500
TZNAME:EST
DTSTART:20221106T060000
END:STANDARD
BEGIN:DAYLIGHT
TZOFFSETFROM:-0500
TZOFFSETTO:-0400
TZNAME:EDT
DTSTART:20230312T070000
END:DAYLIGHT
BEGIN:STANDARD
TZOFFSETFROM:-0400
TZOFFSETTO:-0500
TZNAME:EST
DTSTART:20231105T060000
END:STANDARD
END:VTIMEZONE
BEGIN:VEVENT
DTSTART;VALUE=DATE:20220315
DTEND;VALUE=DATE:20220316
DTSTAMP:20260425T113143
CREATED:20220118T235104Z
LAST-MODIFIED:20220118T235104Z
UID:2996-1647302400-1647388799@countryclubview.org
SUMMARY:Newsletter #1
DESCRIPTION:
URL:https://countryclubview.org/calitem/newsletter-1/
END:VEVENT
BEGIN:VEVENT
DTSTART;TZID=America/New_York:20220228T193000
DTEND;TZID=America/New_York:20220228T210000
DTSTAMP:20260425T113143
CREATED:20220118T232954Z
LAST-MODIFIED:20220118T232954Z
UID:2978-1646076600-1646082000@countryclubview.org
SUMMARY:Board Meeting
DESCRIPTION:
URL:https://countryclubview.org/calitem/board-meeting-10/
END:VEVENT
BEGIN:VEVENT
DTSTART;TZID=America/New_York:20220124T193000
DTEND;TZID=America/New_York:20220124T210000
DTSTAMP:20260425T113143
CREATED:20220118T232747Z
LAST-MODIFIED:20220118T232747Z
UID:2976-1643052600-1643058000@countryclubview.org
SUMMARY:Board Meeting
DESCRIPTION:
URL:https://countryclubview.org/calitem/board-meeting-5/
END:VEVENT
BEGIN:VEVENT
DTSTART;VALUE=DATE:20220101
DTEND;VALUE=DATE:20220316
DTSTAMP:20260425T113143
CREATED:20220119T005159Z
LAST-MODIFIED:20220119T005159Z
UID:3037-1640995200-1647388799@countryclubview.org
SUMMARY:Paul Maltagliati Scholarship Application Available
DESCRIPTION:This year CCVCA will award 1-year\, non-renewable scholarship(s) to graduating high school senior(s) whose family is a current member of the civic association. The Paul A. Maltagliati Memorial College Scholarship is awarded based on academic achievement\, participation in school and community activities\, a short essay\, and an interview. The Scholarship Application provides details about the process and required documentation. \nAll CCVCA 2022 graduating seniors are eligible to apply\, regardless of high school attended or home schooled. A signed original application with 4 copies of the application and required documentation must be received no later than March 15\, 2022. \nFor more information: Paul A. Maltagliati Memorial College Scholarship
URL:https://countryclubview.org/calitem/paul-maltagliati-scholarship-application-available/
END:VEVENT
BEGIN:VEVENT
DTSTART;VALUE=DATE:20220101
DTEND;VALUE=DATE:20220301
DTSTAMP:20260425T113143
CREATED:20220119T001002Z
LAST-MODIFIED:20220119T001131Z
UID:3009-1640995200-1646092799@countryclubview.org
SUMMARY:Membership Drive
DESCRIPTION:The 2022 Membership Drive began the first week of January\, and shortly after that all residents received the paper membership application via their block captain. An online application also is available. For 2021 we had 237 members out of 477 homes in Country Club View. We hope that all of you who joined last year will choose to join again this year. Your membership dues are what funds all the great activities throughout the year. Remember that fantastic ice cream social with the really cute alpacas and the face painter? That is only possible with the support of a lot of members. The Board has set a goal of exceeding 250 members this year – so please join and talk to your neighbors about joining\, too!
URL:https://countryclubview.org/calitem/membership-drive/
END:VEVENT
BEGIN:VEVENT
DTSTART;VALUE=DATE:20220101
DTEND;VALUE=DATE:20220102
DTSTAMP:20260425T113143
CREATED:20211229T023309Z
LAST-MODIFIED:20211229T023309Z
UID:2925-1640995200-1641081599@countryclubview.org
SUMMARY:Happy New Year!
DESCRIPTION:
URL:https://countryclubview.org/calitem/happy-new-year/
END:VEVENT
BEGIN:VEVENT
DTSTART;VALUE=DATE:20211225
DTEND;VALUE=DATE:20211226
DTSTAMP:20260425T113143
CREATED:20211229T023412Z
LAST-MODIFIED:20211229T023412Z
UID:2927-1640390400-1640476799@countryclubview.org
SUMMARY:Merry Christmas and Happy Holidays!
DESCRIPTION:
URL:https://countryclubview.org/calitem/merry-christmas-and-happy-holidays/
END:VEVENT
BEGIN:VEVENT
DTSTART;TZID=America/New_York:20211220T190000
DTEND;TZID=America/New_York:20211220T210000
DTSTAMP:20260425T113143
CREATED:20201207T193855Z
LAST-MODIFIED:20211202T174113Z
UID:193-1640026800-1640034000@countryclubview.org
SUMMARY:Holiday Decorating Contest
DESCRIPTION:Judged by the Country Club View Women’s Club from 7:00-9:00 pm. The snow date is Tuesday\, December 21. Only CCVCA members are eligible to participate. (Membership Form) The categories for this year will be Traditional\, Toyland\, and Winter Wonderland–one winner chosen for each category. The 3 winners will each receive a gift card and a yard sign announcing their award category.
URL:https://countryclubview.org/calitem/holiday-decorating-contest-2/
END:VEVENT
BEGIN:VEVENT
DTSTART;VALUE=DATE:20211215
DTEND;VALUE=DATE:20211216
DTSTAMP:20260425T113143
CREATED:20201207T203546Z
LAST-MODIFIED:20210220T232155Z
UID:210-1639526400-1639612799@countryclubview.org
SUMMARY:2021 Newsletter #4 Distribution
DESCRIPTION:December newsletters distributed to CCVCA members.
URL:https://countryclubview.org/calitem/2021-newsletter-4-distribution/
END:VEVENT
BEGIN:VEVENT
DTSTART;TZID=America/New_York:20211206T193000
DTEND;TZID=America/New_York:20211206T210000
DTSTAMP:20260425T113143
CREATED:20201207T192436Z
LAST-MODIFIED:20211206T000250Z
UID:189-1638819000-1638824400@countryclubview.org
SUMMARY:Board Meeting
DESCRIPTION:
URL:https://countryclubview.org/calitem/board-meeting-9/
END:VEVENT
BEGIN:VEVENT
DTSTART;VALUE=DATE:20211125
DTEND;VALUE=DATE:20211126
DTSTAMP:20260425T113143
CREATED:20211025T021820Z
LAST-MODIFIED:20211025T022001Z
UID:2799-1637798400-1637884799@countryclubview.org
SUMMARY:Happy Thanksgiving!
DESCRIPTION:
URL:https://countryclubview.org/calitem/happy-thanksgiving/
END:VEVENT
BEGIN:VEVENT
DTSTART;VALUE=DATE:20211111
DTEND;VALUE=DATE:20211112
DTSTAMP:20260425T113143
CREATED:20211108T080341Z
LAST-MODIFIED:20211108T080341Z
UID:2852-1636588800-1636675199@countryclubview.org
SUMMARY:Veterans Day
DESCRIPTION:
URL:https://countryclubview.org/calitem/veterans-day/
END:VEVENT
BEGIN:VEVENT
DTSTART;TZID=America/New_York:20211031T160000
DTEND;TZID=America/New_York:20211031T180000
DTSTAMP:20260425T113143
CREATED:20201207T215509Z
LAST-MODIFIED:20211025T011654Z
UID:231-1635696000-1635703200@countryclubview.org
SUMMARY:Halloween Event -- Spooky Trail and Games
DESCRIPTION:Come to the CCV Park and enjoy the Spooky Trail and games! Come dressed in your costume on this festive night! Contacts: Sherrie Brady and TJ McCurdy. \nDon’t forget to decorate your home and yard — CCVCA members are encouraged to participate in the home decorating competition and win a prize!
URL:https://countryclubview.org/calitem/halloween-event/
LOCATION:Country Club View Park\, 10609 Henrico Street\, Fairfax\, VA
END:VEVENT
BEGIN:VEVENT
DTSTART;VALUE=DATE:20211031
DTEND;VALUE=DATE:20211101
DTSTAMP:20260425T113143
CREATED:20201207T215114Z
LAST-MODIFIED:20201207T215138Z
UID:229-1635638400-1635724799@countryclubview.org
SUMMARY:Happy Halloween!
DESCRIPTION:Please drive carefully and watch out for all the trick-or-treaters!
URL:https://countryclubview.org/calitem/happy-halloween/
END:VEVENT
BEGIN:VEVENT
DTSTART;TZID=America/New_York:20211029T000000
DTEND;TZID=America/New_York:20211101T120000
DTSTAMP:20260425T113143
CREATED:20211025T025328Z
LAST-MODIFIED:20211031T175104Z
UID:2811-1635465600-1635768000@countryclubview.org
SUMMARY:Pumpkin Carving Contest
DESCRIPTION:Celebrate Halloween by carving a pumpkin and sending a picture of it to thomas.mccurdy89@gmail.com with the subject 2021 CCVCA Pumpkin Carving Contest. Photos accepted from October 29th through 12:00 pm on the 31st. The afternoon of the 31st all submissions will be posted on Facebook and voting will continue until November 1. The winner will receive a gift card to a local business and given a sign to put in their yard the first two weeks of November.
URL:https://countryclubview.org/calitem/pumpkin-carving-contest/
LOCATION:Country Club View\, Fairfax\, Virginia\, 22032
END:VEVENT
BEGIN:VEVENT
DTSTART;TZID=America/New_York:20211029T000000
DTEND;TZID=America/New_York:20211101T120000
DTSTAMP:20260425T113143
CREATED:20211025T023640Z
LAST-MODIFIED:20211031T175214Z
UID:2803-1635465600-1635768000@countryclubview.org
SUMMARY:Halloween Home Decorating Contest
DESCRIPTION:Celebrate the holiday by decorating your house and sending a picture to thomas.mccurdy89@gmail.com with the subject 2021 CCVCA Halloween Home Decorating. Photos accepted from October 29th through 12:00 pm on the 31st. The afternoon of the 31st all submissions will be posted on Facebook and voting will continue until November 1. The winner will receive a gift card to a local business and given a sign to put in their yard the first two weeks of November.
URL:https://countryclubview.org/calitem/halloween-home-decorating-contest/
LOCATION:Country Club View\, Fairfax\, Virginia\, 22032
END:VEVENT
BEGIN:VEVENT
DTSTART;TZID=America/New_York:20211025T193000
DTEND;TZID=America/New_York:20211025T210000
DTSTAMP:20260425T113143
CREATED:20201207T192335Z
LAST-MODIFIED:20210201T044958Z
UID:187-1635190200-1635195600@countryclubview.org
SUMMARY:Board Meeting
DESCRIPTION:
URL:https://countryclubview.org/calitem/board-meeting-8/
END:VEVENT
BEGIN:VEVENT
DTSTART;TZID=America/New_York:20211009T110000
DTEND;TZID=America/New_York:20211009T130000
DTSTAMP:20260425T113143
CREATED:20210906T183950Z
LAST-MODIFIED:20210906T185447Z
UID:2563-1633777200-1633784400@countryclubview.org
SUMMARY:Green Drop Accepting Donations at Park
DESCRIPTION:Donate items to the Green Drop truck at the CCV Park parking lot. All donations are designated to benefit the American Red Cross.
URL:https://countryclubview.org/calitem/green-drop-donations-at-park/
LOCATION:Country Club View Park\, 10609 Henrico Street\, Fairfax\, VA
END:VEVENT
BEGIN:VEVENT
DTSTART;TZID=America/New_York:20211009T070000
DTEND;TZID=America/New_York:20211009T120000
DTSTAMP:20260425T113143
CREATED:20201207T223409Z
LAST-MODIFIED:20210906T183623Z
UID:240-1633762800-1633780800@countryclubview.org
SUMMARY:Fall Yard Sale
DESCRIPTION:Neighbors encouraged to have their stuff out early as this is a publicized multi-community event. Contact: Sherrie Brady.
URL:https://countryclubview.org/calitem/fall-yard-sale/
LOCATION:Country Club View\, Fairfax\, Virginia\, 22032
END:VEVENT
BEGIN:VEVENT
DTSTART;TZID=America/New_York:20211007T170000
DTEND;TZID=America/New_York:20211007T190000
DTSTAMP:20260425T113143
CREATED:20211009T163802Z
LAST-MODIFIED:20211009T163802Z
UID:2719-1633626000-1633633200@countryclubview.org
SUMMARY:Food Truck – New Gourmet Delight
DESCRIPTION:New Gourmet Delight — Text in orders and time slot to 571.338.7020. You can also order at truck.
URL:https://countryclubview.org/calitem/food-truck-new-gourmet-delight/
LOCATION:Intersection of Portsmouth & Buckingham Roads\, Fairfax\, Virginia\, 22032
END:VEVENT
BEGIN:VEVENT
DTSTART;TZID=America/New_York:20210927T193000
DTEND;TZID=America/New_York:20210927T210000
DTSTAMP:20260425T113143
CREATED:20201207T192053Z
LAST-MODIFIED:20210906T140139Z
UID:185-1632771000-1632776400@countryclubview.org
SUMMARY:CCVCA General Membership Meeting
DESCRIPTION:The CCVCA Board invites all members to join us at St. Mary’s Farrell Hall for our Fall Meeting. Attendees are encouraged to use masks and practice social distancing.\nAt this meeting we will review and vote upon the 2022 Proposed Budget\, which was emailed and distributed in print to all members earlier this month.\nWe have also invited Traci Kendall\, Executive Director\, Community and Local Government Relations for George Mason University and her colleague Anthony Berardo\, Assistant Director\, Contemporary Student Services for George Mason University to join us. They will address the following topics relevant to CCV residents. Questions can be submitted in advance to ccvcafx@gmail.com.\n– Quick University Overview\n– Mason response to Covid\n– Reference the University Master Plan and where to find information /presentations\n– Good Neighbor Program\n– Mason Services and Resources\n__________________\nTraci Kendall is the executive director for the Office of Community and Local Government Relations at George Mason University. Ms. Kendall began her career with the university in 1996 and is responsible for the strategic direction of community and local government relations at George Mason University\, including tactical partnership and relationship development\, outreach programs/initiatives\, and regional economic development and multi-jurisdictional collaboration. The mission of the office is to communicate the university’s future plans and current goals and objectives to its various external communities\, develop long term partnerships\, programs\, and information exchange opportunities between the university and its multiple constituencies\, and promote Mason’s resources to external audiences.\nOver the years\, Ms. Kendall has served on the Board of Directors for Leadership Fairfax\, Inc.\, the Central Fairfax Chamber of Commerce\, and Volunteer Fairfax\, as well as serving on a number of boards and commissions for Fairfax County including the Commission for Women\, Millennium Steering Committee\, and the 2007 Jamestown Anniversary Community Programming committee.\nMs. Kendall received her BA in public relations and speech communications at Gonzaga University in Spokane\, WA.\n__________________\nAnthony Berardo has worked extensively in student housing. Over the past ten years\, I have spent eight of them in on-campus student housing with the remaining two working with students to find off-campus housing. I worked for Housing and Residence Life at Wichita State University for four years as a Residence Life Coordinator (building manager) and an additional four years as a number of different building manager positions with George Mason University. Finally\, I have transitioned to a role with Contemporary Student Services working with off-campus students and helping them with their housing needs/concerns.
URL:https://countryclubview.org/calitem/ccvca-general-membership-meeting-2/
LOCATION:St. Mary of Sorrows Catholic Church\, 5222 Sideburn Rd (Farrell Hall)\, Fairfax\, Virginia\, 22032
END:VEVENT
BEGIN:VEVENT
DTSTART;TZID=America/New_York:20210919T160000
DTEND;TZID=America/New_York:20210919T180000
DTSTAMP:20260425T113143
CREATED:20210318T230439Z
LAST-MODIFIED:20210822T223736Z
UID:2132-1632067200-1632074400@countryclubview.org
SUMMARY:Ice Cream Social
DESCRIPTION:7th Annual Ice Cream Social\nSunday\, September 19\, 2021\n4:00 pm – 6:00 pm\nCCV Park
URL:https://countryclubview.org/calitem/ice-cream-social/
LOCATION:Country Club View Park\, 10609 Henrico Street\, Fairfax\, VA
END:VEVENT
BEGIN:VEVENT
DTSTART;VALUE=DATE:20210906
DTEND;VALUE=DATE:20210907
DTSTAMP:20260425T113143
CREATED:20201207T203451Z
LAST-MODIFIED:20210906T183402Z
UID:208-1630886400-1630972799@countryclubview.org
SUMMARY:2021 Newsletter #3 Distribution
DESCRIPTION:Newsletters will be distributed to CCVCA members.
URL:https://countryclubview.org/calitem/2021-newsletter-3-distribution/
END:VEVENT
BEGIN:VEVENT
DTSTART;TZID=America/New_York:20210826T170000
DTEND;TZID=America/New_York:20210826T190000
DTSTAMP:20260425T113143
CREATED:20210426T215640Z
LAST-MODIFIED:20210426T215640Z
UID:2256-1629997200-1630004400@countryclubview.org
SUMMARY:Food Truck - Little Lady Grill
DESCRIPTION:Little Lady Grill \nPlease pre-order by calling or texting 703-475-4576.
URL:https://countryclubview.org/calitem/food-truck-little-lady-grill/
LOCATION:Intersection of Portsmouth & Buckingham Roads\, Fairfax\, Virginia\, 22032
END:VEVENT
BEGIN:VEVENT
DTSTART;TZID=America/New_York:20210823T193000
DTEND;TZID=America/New_York:20210823T210000
DTSTAMP:20260425T113143
CREATED:20201207T192641Z
LAST-MODIFIED:20210201T044907Z
UID:191-1629747000-1629752400@countryclubview.org
SUMMARY:Board Meeting
DESCRIPTION:
URL:https://countryclubview.org/calitem/board-meeting-7/
END:VEVENT
BEGIN:VEVENT
DTSTART;TZID=America/New_York:20210812T170000
DTEND;TZID=America/New_York:20210812T190000
DTSTAMP:20260425T113143
CREATED:20210426T220718Z
LAST-MODIFIED:20210426T220718Z
UID:2265-1628787600-1628794800@countryclubview.org
SUMMARY:Food Truck - Ford's Fish Shack
DESCRIPTION:Ford’s Fish Shack On The Road
URL:https://countryclubview.org/calitem/food-truck-fords-fish-shack/
LOCATION:Intersection of Portsmouth & Buckingham Roads\, Fairfax\, Virginia\, 22032
END:VEVENT
BEGIN:VEVENT
DTSTART;TZID=America/New_York:20210805T170000
DTEND;TZID=America/New_York:20210805T190000
DTSTAMP:20260425T113143
CREATED:20210630T004004Z
LAST-MODIFIED:20210708T183437Z
UID:2420-1628182800-1628190000@countryclubview.org
SUMMARY:Food Truck - Kool Zone
DESCRIPTION:Kool Zone
URL:https://countryclubview.org/calitem/food-truck-kool-zone/
LOCATION:Intersection of Portsmouth & Buckingham Roads\, Fairfax\, Virginia\, 22032
END:VEVENT
BEGIN:VEVENT
DTSTART;TZID=America/New_York:20210803T190000
DTEND;TZID=America/New_York:20210803T230000
DTSTAMP:20260425T113143
CREATED:20210727T044131Z
LAST-MODIFIED:20210727T044131Z
UID:2550-1628017200-1628031600@countryclubview.org
SUMMARY:National Night Out
DESCRIPTION:National Night Out is an annual community-building campaign that promotes police-community partnerships and neighborhood camaraderie to make our neighborhoods safer\, more caring places to live. National Night Out enhances the relationship between neighbors and law enforcement while bringing back a true sense of community. Furthermore\, it provides a great opportunity to bring police and neighbors together under positive circumstances.
URL:https://countryclubview.org/calitem/national-night-out/
LOCATION:Country Club View\, Fairfax\, Virginia\, 22032
END:VEVENT
BEGIN:VEVENT
DTSTART;TZID=America/New_York:20210726T193000
DTEND;TZID=America/New_York:20210726T210000
DTSTAMP:20260425T113143
CREATED:20201207T191148Z
LAST-MODIFIED:20210706T220249Z
UID:180-1627327800-1627333200@countryclubview.org
SUMMARY:Board Meeting
DESCRIPTION:
URL:https://countryclubview.org/calitem/board-meeting-6/
END:VEVENT
BEGIN:VEVENT
DTSTART;TZID=America/New_York:20210724T150000
DTEND;TZID=America/New_York:20210724T160000
DTSTAMP:20260425T113143
CREATED:20201207T221931Z
LAST-MODIFIED:20210712T152952Z
UID:235-1627138800-1627142400@countryclubview.org
SUMMARY:CCVCA Water Fun
DESCRIPTION:“Water Fun in the Sun” will be a thorough soaking along with great fun for all ages! This event will also be a FUNdraiser for the Paul A. Maltagliati Scholarship Fund. Volunteers needed for planning\, set up\, managing games and activities\, and clean up. Contact: Sherrie Brady.
URL:https://countryclubview.org/calitem/summer-social-event/
LOCATION:Country Club View Park\, 10609 Henrico Street\, Fairfax\, VA
END:VEVENT
END:VCALENDAR