BEGIN:VCALENDAR
VERSION:2.0
PRODID:-//Country Club View Civic Association - ECPv6.15.20//NONSGML v1.0//EN
CALSCALE:GREGORIAN
METHOD:PUBLISH
X-WR-CALNAME:Country Club View Civic Association
X-ORIGINAL-URL:https://countryclubview.org
X-WR-CALDESC:Events for Country Club View Civic Association
REFRESH-INTERVAL;VALUE=DURATION:PT1H
X-Robots-Tag:noindex
X-PUBLISHED-TTL:PT1H
BEGIN:VTIMEZONE
TZID:America/New_York
BEGIN:DAYLIGHT
TZOFFSETFROM:-0500
TZOFFSETTO:-0400
TZNAME:EDT
DTSTART:20220313T070000
END:DAYLIGHT
BEGIN:STANDARD
TZOFFSETFROM:-0400
TZOFFSETTO:-0500
TZNAME:EST
DTSTART:20221106T060000
END:STANDARD
BEGIN:DAYLIGHT
TZOFFSETFROM:-0500
TZOFFSETTO:-0400
TZNAME:EDT
DTSTART:20230312T070000
END:DAYLIGHT
BEGIN:STANDARD
TZOFFSETFROM:-0400
TZOFFSETTO:-0500
TZNAME:EST
DTSTART:20231105T060000
END:STANDARD
BEGIN:DAYLIGHT
TZOFFSETFROM:-0500
TZOFFSETTO:-0400
TZNAME:EDT
DTSTART:20240310T070000
END:DAYLIGHT
BEGIN:STANDARD
TZOFFSETFROM:-0400
TZOFFSETTO:-0500
TZNAME:EST
DTSTART:20241103T060000
END:STANDARD
BEGIN:DAYLIGHT
TZOFFSETFROM:-0500
TZOFFSETTO:-0400
TZNAME:EDT
DTSTART:20250309T070000
END:DAYLIGHT
BEGIN:STANDARD
TZOFFSETFROM:-0400
TZOFFSETTO:-0500
TZNAME:EST
DTSTART:20251102T060000
END:STANDARD
END:VTIMEZONE
BEGIN:VEVENT
DTSTART;TZID=America/New_York:20240427T080000
DTEND;TZID=America/New_York:20240427T120000
DTSTAMP:20260425T112801
CREATED:20240113T233417Z
LAST-MODIFIED:20240113T233417Z
UID:4368-1714204800-1714219200@countryclubview.org
SUMMARY:Free Share Saturday
DESCRIPTION:For more information see Free Share Saturday.
URL:https://countryclubview.org/calitem/free-share-saturday-13/
LOCATION:Country Club View\, Fairfax\, Virginia\, 22032
END:VEVENT
BEGIN:VEVENT
DTSTART;TZID=America/New_York:20240425T193000
DTEND;TZID=America/New_York:20240425T210000
DTSTAMP:20260425T112801
CREATED:20240114T042624Z
LAST-MODIFIED:20240321T155252Z
UID:4466-1714073400-1714078800@countryclubview.org
SUMMARY:General Membership Meeting
DESCRIPTION:All CCVCA members are invited to join current Board members for the first 2024 General Membership Meeting. During this annual spring meeting we will conduct 2024-25 officer elections\, as well as share updates on current agenda items and hear from a guest speaker on a topic relevant to the community. Scholarship winners are recognized. Meeting Minutes are available online. \nDr. Gregory Washington\, GMU President\, will be the guest speaker at the CCVCA General Membership Meeting on April 25! Please submit your questions or proposed topics to CCVCAFx@gmail.com or any CCVCA Board Member. \nGuest speaker Dr. Gregory Washington\, GMU President\, will join us to discuss issues impacting our larger community\, including development of GMU’s West Campus. Good communication is the heart of neighborliness\, and Dr. Washington’s visit is an opportunity for CCV neighbors to communicate our hopes and expectations to the head of our university neighbor.
URL:https://countryclubview.org/calitem/general-membership-meeting-3/
LOCATION:St. Mary of Sorrows Catholic Church\, 5222 Sideburn Rd (Farrell Hall)\, Fairfax\, Virginia\, 22032
END:VEVENT
BEGIN:VEVENT
DTSTART;VALUE=DATE:20240422
DTEND;VALUE=DATE:20240423
DTSTAMP:20260425T112801
CREATED:20240114T011620Z
LAST-MODIFIED:20240114T011832Z
UID:4404-1713744000-1713830399@countryclubview.org
SUMMARY:Earth Day
DESCRIPTION:On Monday\, April 22\, 2024\, Earth Day will celebrate its 54th anniversary! \nEarth Day 2024: What and When Is Earth Day? \nHow To Do Earth Day 2024 \nOn April 27\, 2024\, the CCV Stream Cleanup will be held from 10:00 am – 12:00 pm. Celebrate Earth Day (April 22) by showing some love for our local stream\, Sideburn branch of Pohick Creek! Please join us in reducing the amount of trash in the Country Club View Park stream to prevent it from continuing downstream! This is a great opportunity for students to earn service hours. \n 
URL:https://countryclubview.org/calitem/earth-day/
END:VEVENT
BEGIN:VEVENT
DTSTART;VALUE=DATE:20240415
DTEND;VALUE=DATE:20240420
DTSTAMP:20260425T112801
CREATED:20240114T001702Z
LAST-MODIFIED:20240128T190220Z
UID:4392-1713139200-1713571199@countryclubview.org
SUMMARY:Scholarship Winners Selected
DESCRIPTION:For more information\, please click here.
URL:https://countryclubview.org/calitem/scholarship-winners-selected/
LOCATION:Country Club View\, Fairfax\, Virginia\, 22032
END:VEVENT
BEGIN:VEVENT
DTSTART;VALUE=DATE:20240404
DTEND;VALUE=DATE:20240420
DTSTAMP:20260425T112801
CREATED:20240113T235124Z
LAST-MODIFIED:20240128T185936Z
UID:4387-1712188800-1713571199@countryclubview.org
SUMMARY:Scholarship Interviews
DESCRIPTION:For more information\, please click here.
URL:https://countryclubview.org/calitem/scholarship-interviews/
LOCATION:Country Club View\, Fairfax\, Virginia\, 22032
END:VEVENT
BEGIN:VEVENT
DTSTART;VALUE=DATE:20240403
DTEND;VALUE=DATE:20240404
DTSTAMP:20260425T112801
CREATED:20240128T190307Z
LAST-MODIFIED:20240128T191802Z
UID:4482-1712102400-1712188799@countryclubview.org
SUMMARY:2024 Scholarship Deadline
DESCRIPTION:For more information about the Paul A. Maltagliati Memorial College Scholarship\, please click here.
URL:https://countryclubview.org/calitem/2024-scholarship-deadline/
LOCATION:Country Club View\, Fairfax\, Virginia\, 22032
END:VEVENT
BEGIN:VEVENT
DTSTART;TZID=America/New_York:20240331T120000
DTEND;TZID=America/New_York:20240331T140000
DTSTAMP:20260425T112801
CREATED:20240113T235449Z
LAST-MODIFIED:20240113T235449Z
UID:4390-1711886400-1711893600@countryclubview.org
SUMMARY:Easter Egg Hunt
DESCRIPTION:More details will be available in March.
URL:https://countryclubview.org/calitem/easter-egg-hunt/
LOCATION:Country Club View Park\, 10609 Henrico Street\, Fairfax\, VA
END:VEVENT
BEGIN:VEVENT
DTSTART;TZID=America/New_York:20240330T080000
DTEND;TZID=America/New_York:20240330T120000
DTSTAMP:20260425T112801
CREATED:20240113T233319Z
LAST-MODIFIED:20240113T233319Z
UID:4366-1711785600-1711800000@countryclubview.org
SUMMARY:Free Share Saturday
DESCRIPTION:For more information see Free Share Saturday.
URL:https://countryclubview.org/calitem/free-share-saturday-12/
LOCATION:Country Club View\, Fairfax\, Virginia\, 22032
END:VEVENT
BEGIN:VEVENT
DTSTART;VALUE=DATE:20240325
DTEND;VALUE=DATE:20240330
DTSTAMP:20260425T112801
CREATED:20240103T162645Z
LAST-MODIFIED:20240103T162645Z
UID:4311-1711324800-1711756799@countryclubview.org
SUMMARY:FCPS Student Holiday - Spring Break
DESCRIPTION:https://www.fcps.edu/calendars/standard-school-year-calendar
URL:https://countryclubview.org/calitem/fcps-student-holiday-spring-break/
END:VEVENT
BEGIN:VEVENT
DTSTART;VALUE=DATE:20240322
DTEND;VALUE=DATE:20240323
DTSTAMP:20260425T112801
CREATED:20240103T162509Z
LAST-MODIFIED:20240103T162509Z
UID:4309-1711065600-1711151999@countryclubview.org
SUMMARY:FCPS End of Third Quarter
DESCRIPTION:https://www.fcps.edu/calendars/standard-school-year-calendar
URL:https://countryclubview.org/calitem/fcps-end-of-third-quarter/
END:VEVENT
BEGIN:VEVENT
DTSTART;TZID=America/New_York:20240318T193000
DTEND;TZID=America/New_York:20240318T210000
DTSTAMP:20260425T112801
CREATED:20240114T035244Z
LAST-MODIFIED:20240228T174214Z
UID:4450-1710790200-1710795600@countryclubview.org
SUMMARY:Board Meeting
DESCRIPTION:Section Leader and Block Captain volunteers are invited to participate as non-voting members of monthly Board Meetings. Any member may inquire at Contact Us for upcoming meeting dates and times.
URL:https://countryclubview.org/calitem/board-meeting-29/
LOCATION:Country Club View\, Fairfax\, Virginia\, 22032
END:VEVENT
BEGIN:VEVENT
DTSTART;TZID=America/New_York:20240305T060000
DTEND;TZID=America/New_York:20240305T190000
DTSTAMP:20260425T112801
CREATED:20240304T163842Z
LAST-MODIFIED:20240304T163842Z
UID:4745-1709618400-1709665200@countryclubview.org
SUMMARY:Election Day
DESCRIPTION:For more information click here!
URL:https://countryclubview.org/calitem/election-day-2/
LOCATION:Oak View Elementary\, 5004 Sideburn Road\, Fairfax\, Virginia\, 22032
END:VEVENT
BEGIN:VEVENT
DTSTART;VALUE=DATE:20240305
DTEND;VALUE=DATE:20240306
DTSTAMP:20260425T112801
CREATED:20240103T162301Z
LAST-MODIFIED:20240103T162301Z
UID:4306-1709596800-1709683199@countryclubview.org
SUMMARY:FCPS Student Holiday
DESCRIPTION:https://www.fcps.edu/calendars/standard-school-year-calendar
URL:https://countryclubview.org/calitem/fcps-student-holiday-2/
END:VEVENT
BEGIN:VEVENT
DTSTART;TZID=America/New_York:20240303T170000
DTEND;TZID=America/New_York:20240303T190000
DTSTAMP:20260425T112801
CREATED:20240302T032657Z
LAST-MODIFIED:20240302T032657Z
UID:4692-1709485200-1709492400@countryclubview.org
SUMMARY:Town Hall Meeting for Concerned Neighbors to Discuss GMU-Washington Freedom Cricket Stadium Project
DESCRIPTION:Concerned neighbors of Washington Freedom Stadium project @GMU West Campus (Facebook)\nWhat: Town Hall Meeting for Concerned Neighbors\nWhen: Sunday\, March 3rd @5PM\nWhere: Country Club of Fairfax\, 5110 Ox Road\, Fairfax\, VA 22030\nWe will provide everyone with an update on what’s taken place since the first Town Hall. We will then open the floor for comments and questions.
URL:https://countryclubview.org/calitem/town-hall-meeting-for-concerned-neighbors-to-discuss-gmu-washington-freedom-cricket-stadium-project/
LOCATION:Country Club of Fairfax\, 5110 Ox Road\, Fairfax\, VA
END:VEVENT
BEGIN:VEVENT
DTSTART;TZID=America/New_York:20240226T193000
DTEND;TZID=America/New_York:20240226T210000
DTSTAMP:20260425T112801
CREATED:20240114T035148Z
LAST-MODIFIED:20240114T035148Z
UID:4448-1708975800-1708981200@countryclubview.org
SUMMARY:Board Meeting
DESCRIPTION:Section Leader and Block Captain volunteers are invited to participate as non-voting members of monthly Board Meetings. Any member may inquire at Contact Us for upcoming meeting dates and times.
URL:https://countryclubview.org/calitem/board-meeting-28/
LOCATION:Country Club View\, Fairfax\, Virginia\, 22032
END:VEVENT
BEGIN:VEVENT
DTSTART;TZID=America/New_York:20240224T080000
DTEND;TZID=America/New_York:20240224T120000
DTSTAMP:20260425T112801
CREATED:20240113T233154Z
LAST-MODIFIED:20240113T233154Z
UID:4364-1708761600-1708776000@countryclubview.org
SUMMARY:Free Share Saturday
DESCRIPTION:For more information see Free Share Saturday.
URL:https://countryclubview.org/calitem/free-share-saturday-11/
LOCATION:Country Club View\, Fairfax\, Virginia\, 22032
END:VEVENT
BEGIN:VEVENT
DTSTART;VALUE=DATE:20240219
DTEND;VALUE=DATE:20240220
DTSTAMP:20260425T112801
CREATED:20240101T023534Z
LAST-MODIFIED:20240131T004442Z
UID:4294-1708300800-1708387199@countryclubview.org
SUMMARY:Presidents' Day / FCPS Holiday
DESCRIPTION:
URL:https://countryclubview.org/calitem/presidents-day/
END:VEVENT
BEGIN:VEVENT
DTSTART;VALUE=DATE:20240214
DTEND;VALUE=DATE:20240215
DTSTAMP:20260425T112801
CREATED:20240131T004633Z
LAST-MODIFIED:20240131T004633Z
UID:4503-1707868800-1707955199@countryclubview.org
SUMMARY:Happy Valentine's Day!
DESCRIPTION:
URL:https://countryclubview.org/calitem/happy-valentines-day/
END:VEVENT
BEGIN:VEVENT
DTSTART;VALUE=DATE:20240201
DTEND;VALUE=DATE:20240301
DTSTAMP:20260425T112801
CREATED:20240113T232314Z
LAST-MODIFIED:20240113T232708Z
UID:4357-1706745600-1709251199@countryclubview.org
SUMMARY:Leadership Appreciation
DESCRIPTION:Thank You Volunteers!\nThey say it takes a village\, and we are lucky to have a great one! Thank you for making our neighborhood a great place to live! Interested in supporting any of the roles listed below\, or volunteering in another capacity? Email ccvcafx@gmail.com to share your time and talent. \n\n15 leadership volunteers serving on the Board of Directors.\nOver 60 households serving and observing with Neighborhood Watch.\nMore than 40 Block Captains and Section Leaders creating micro communities.\nAn annual review committee for our Paul Maltagliati Memorial College Scholarship.\nDozens of Scouts clocking service hours\, for which CCVCA is the charter organization.\nOver 40 volunteers behind the success of our annual Ice Cream Social.\nAnd neighbors like YOU who care about CCV and the people who live here.
URL:https://countryclubview.org/calitem/leadership-appreciation/
END:VEVENT
BEGIN:VEVENT
DTSTART;TZID=America/New_York:20240129T190000
DTEND;TZID=America/New_York:20240129T210000
DTSTAMP:20260425T112801
CREATED:20240114T034822Z
LAST-MODIFIED:20240128T200733Z
UID:4446-1706554800-1706562000@countryclubview.org
SUMMARY:Board Meeting
DESCRIPTION:Section Leader and Block Captain volunteers are invited to participate as non-voting members of monthly Board Meetings. Any member may inquire at Contact Us for upcoming meeting dates and times. \nLocation: Oh George! Tables and Taphouse | University Mall 10659C Braddock Rd
URL:https://countryclubview.org/calitem/board-meeting-22/
LOCATION:Oh George! Tables and Taphouse\, University Mall 10659C Braddock Rd\, Fairfax\, VA\, 22032\, United States
END:VEVENT
BEGIN:VEVENT
DTSTART;TZID=America/New_York:20240127T080000
DTEND;TZID=America/New_York:20240127T120000
DTSTAMP:20260425T112801
CREATED:20240113T232926Z
LAST-MODIFIED:20240113T233235Z
UID:4362-1706342400-1706356800@countryclubview.org
SUMMARY:Free Share Saturday
DESCRIPTION:For more information see Free Share Saturday.
URL:https://countryclubview.org/calitem/free-share-saturday-10/
LOCATION:Country Club View\, Fairfax\, Virginia\, 22032
END:VEVENT
BEGIN:VEVENT
DTSTART;VALUE=DATE:20240126
DTEND;VALUE=DATE:20240127
DTSTAMP:20260425T112801
CREATED:20240101T024201Z
LAST-MODIFIED:20240101T024201Z
UID:4300-1706227200-1706313599@countryclubview.org
SUMMARY:FCPS Student Holiday
DESCRIPTION:https://www.fcps.edu/calendars/standard-school-year-calendar
URL:https://countryclubview.org/calitem/fcps-student-holiday/
END:VEVENT
BEGIN:VEVENT
DTSTART;VALUE=DATE:20240125
DTEND;VALUE=DATE:20240126
DTSTAMP:20260425T112801
CREATED:20240101T024059Z
LAST-MODIFIED:20240101T024059Z
UID:4298-1706140800-1706227199@countryclubview.org
SUMMARY:FCPS End of Second Quarter - 2-hour Early Release
DESCRIPTION:https://www.fcps.edu/calendars/standard-school-year-calendar
URL:https://countryclubview.org/calitem/fcps-end-of-second-quarter-2-hour-early-release/
END:VEVENT
BEGIN:VEVENT
DTSTART;VALUE=DATE:20240115
DTEND;VALUE=DATE:20240116
DTSTAMP:20260425T112801
CREATED:20240101T023815Z
LAST-MODIFIED:20240114T033922Z
UID:4296-1705276800-1705363199@countryclubview.org
SUMMARY:MLK Jr. Day Holiday
DESCRIPTION:
URL:https://countryclubview.org/calitem/mlk-jr-day-holiday/
END:VEVENT
BEGIN:VEVENT
DTSTART;VALUE=DATE:20240101
DTEND;VALUE=DATE:20240301
DTSTAMP:20260425T112801
CREATED:20240101T022826Z
LAST-MODIFIED:20240220T233706Z
UID:3007-1704067200-1709251199@countryclubview.org
SUMMARY:2024 CCVCA Membership Drive
DESCRIPTION:The 2024 Membership Drive began the first week of January\, and shortly after that all residents received the paper membership application via their block captain. An online application also is available. For 2023 we had 242 members out of 477 homes in Country Club View. We hope that all of you who joined last year will choose to join again this year. Your membership dues are what funds all the great activities throughout the year. Remember that fantastic ice cream social with the really cute alpacas and the face painter? That is only possible with the support of a lot of members. The Board has set a goal of exceeding 250 members this year – so please join and talk to your neighbors about joining\, too!
URL:https://countryclubview.org/calitem/2024-ccvca-membership-drive/
END:VEVENT
BEGIN:VEVENT
DTSTART;VALUE=DATE:20240101
DTEND;VALUE=DATE:20240404
DTSTAMP:20260425T112801
CREATED:20240101T023315Z
LAST-MODIFIED:20240219T190545Z
UID:4292-1704067200-1712188799@countryclubview.org
SUMMARY:2024 Scholarship Application Information
DESCRIPTION:This year CCVCA will award 1-year\, non-renewable scholarship(s) to graduating high school senior(s) whose family is a current 2024 member of the civic association. The Paul A. Maltagliati Memorial College Scholarship is awarded based on academic achievement\, participation in school and community activities\, a short essay\, and an interview. The Scholarship Application provides details about the process and required documentation. For more information or questions about the scholarship\, please contact Greg Rheault with “CCVCA Scholarship” in the subject line. \nAll CCVCA 2024 graduating seniors are eligible to apply\, regardless of high school attended or home schooled. The online Scholarship Application must be submitted no later than April 3\, 2024. During April 12-19\, each applicant will have an interview with the Scholarship Committee. Scholarship recipient(s) will be selected by April 19 and then announced at the CCVCA General Membership Meeting on April 25. \nThe dollar amount and the number of scholarships awarded varies depending on the funds available that year. Contributions are made by CCVCA members on the annual Membership Application and those attending events like the Ice Cream Social. If you would like to make a donation to the scholarship fund\, please click here.
URL:https://countryclubview.org/calitem/2024-scholarship-information/
END:VEVENT
BEGIN:VEVENT
DTSTART;VALUE=DATE:20240101
DTEND;VALUE=DATE:20240102
DTSTAMP:20260425T112801
CREATED:20240101T022522Z
LAST-MODIFIED:20240101T022522Z
UID:4288-1704067200-1704153599@countryclubview.org
SUMMARY:Happy New Year!
DESCRIPTION:
URL:https://countryclubview.org/calitem/happy-new-year-3/
END:VEVENT
BEGIN:VEVENT
DTSTART;TZID=America/New_York:20231230T080000
DTEND;TZID=America/New_York:20231230T120000
DTSTAMP:20260425T112801
CREATED:20230713T143102Z
LAST-MODIFIED:20230713T143102Z
UID:4041-1703923200-1703937600@countryclubview.org
SUMMARY:Free Share Saturday
DESCRIPTION:For more information see Free Share Saturday.
URL:https://countryclubview.org/calitem/free-share-saturday-9/
LOCATION:Country Club View\, Fairfax\, Virginia\, 22032
END:VEVENT
BEGIN:VEVENT
DTSTART;TZID=America/New_York:20231218T193000
DTEND;TZID=America/New_York:20231218T210000
DTSTAMP:20260425T112801
CREATED:20230102T035229Z
LAST-MODIFIED:20230102T035229Z
UID:3659-1702927800-1702933200@countryclubview.org
SUMMARY:Board Meeting
DESCRIPTION:
URL:https://countryclubview.org/calitem/board-meeting-27/
END:VEVENT
BEGIN:VEVENT
DTSTART;TZID=America/New_York:20231218T180000
DTEND;TZID=America/New_York:20231218T220000
DTSTAMP:20260425T112801
CREATED:20230102T043810Z
LAST-MODIFIED:20230102T044008Z
UID:3694-1702922400-1702936800@countryclubview.org
SUMMARY:Holiday Home Decorating Contest
DESCRIPTION:Judged by a committee of Country Club View Civic Association members from 6:30-9:00 pm. Please have your lights on from 6:00-10:00 pm. Committee members will be driving throughout the neighborhood. Only current 2023 CCVCA members are eligible to participate. (Membership Application) The categories for this year will be Toyland\, Traditional\, and Winter Wonderland — one winner chosen for each category. The 3 winners will each receive a gift card and a yard sign announcing their award category. \nThe inclement weather date is Tuesday\, December 19.\n2022 Winners are ineligible for an award (if display is the same as last year) but are encouraged to decorate! \nWinners will be notified after the judging has concluded.\nSign will be placed in yard of each winning home.\nPhotos will be posted online. \n 
URL:https://countryclubview.org/calitem/holiday-home-decorating-contest-2/
LOCATION:Country Club View\, Fairfax\, Virginia\, 22032
END:VEVENT
END:VCALENDAR