BEGIN:VCALENDAR
VERSION:2.0
PRODID:-//Country Club View Civic Association - ECPv6.15.20//NONSGML v1.0//EN
CALSCALE:GREGORIAN
METHOD:PUBLISH
X-WR-CALNAME:Country Club View Civic Association
X-ORIGINAL-URL:https://countryclubview.org
X-WR-CALDESC:Events for Country Club View Civic Association
REFRESH-INTERVAL;VALUE=DURATION:PT1H
X-Robots-Tag:noindex
X-PUBLISHED-TTL:PT1H
BEGIN:VTIMEZONE
TZID:America/New_York
BEGIN:DAYLIGHT
TZOFFSETFROM:-0500
TZOFFSETTO:-0400
TZNAME:EDT
DTSTART:20230312T070000
END:DAYLIGHT
BEGIN:STANDARD
TZOFFSETFROM:-0400
TZOFFSETTO:-0500
TZNAME:EST
DTSTART:20231105T060000
END:STANDARD
BEGIN:DAYLIGHT
TZOFFSETFROM:-0500
TZOFFSETTO:-0400
TZNAME:EDT
DTSTART:20240310T070000
END:DAYLIGHT
BEGIN:STANDARD
TZOFFSETFROM:-0400
TZOFFSETTO:-0500
TZNAME:EST
DTSTART:20241103T060000
END:STANDARD
BEGIN:DAYLIGHT
TZOFFSETFROM:-0500
TZOFFSETTO:-0400
TZNAME:EDT
DTSTART:20250309T070000
END:DAYLIGHT
BEGIN:STANDARD
TZOFFSETFROM:-0400
TZOFFSETTO:-0500
TZNAME:EST
DTSTART:20251102T060000
END:STANDARD
END:VTIMEZONE
BEGIN:VEVENT
DTSTART;TZID=America/New_York:20241223T193000
DTEND;TZID=America/New_York:20241223T210000
DTSTAMP:20260424T095523
CREATED:20240114T040040Z
LAST-MODIFIED:20240114T040040Z
UID:4464-1734982200-1734987600@countryclubview.org
SUMMARY:Board Meeting
DESCRIPTION:Section Leader and Block Captain volunteers are invited to participate as non-voting members of monthly Board Meetings. Any member may inquire at Contact Us for upcoming meeting dates and times.
URL:https://countryclubview.org/calitem/board-meeting-36/
LOCATION:Country Club View\, Fairfax\, Virginia\, 22032
END:VEVENT
BEGIN:VEVENT
DTSTART;VALUE=DATE:20241223
DTEND;VALUE=DATE:20241228
DTSTAMP:20260424T095523
CREATED:20241014T211832Z
LAST-MODIFIED:20241014T211832Z
UID:5413-1734912000-1735343999@countryclubview.org
SUMMARY:FCPS Winter Break (No School)
DESCRIPTION:Click here for 2024-2025 FCPS Calendar.
URL:https://countryclubview.org/calitem/fcps-winter-break-no-school/
END:VEVENT
BEGIN:VEVENT
DTSTART;TZID=America/New_York:20241219T180000
DTEND;TZID=America/New_York:20241219T220000
DTSTAMP:20260424T095523
CREATED:20240114T025804Z
LAST-MODIFIED:20240114T032447Z
UID:4440-1734631200-1734645600@countryclubview.org
SUMMARY:Holiday Home Decorating Contest
DESCRIPTION:Judged by a committee of Country Club View Civic Association members from 6:30-9:00 pm. Please have your lights on from 6:00-10:00 pm. Committee members will be driving throughout the neighborhood. Only current 2024 CCVCA members are eligible to participate. (Membership Application) The categories for this year will be Toyland\, Traditional\, and Winter Wonderland — one winner chosen for each category. The 3 winners will each receive a gift card and a yard sign announcing their award category. \nThe inclement weather date is Friday\, December 20. \n2023 Winners are ineligible for an award (if display is the same as last year) but are encouraged to decorate! \nWinners will be notified after the judging has concluded.\nSign will be placed in yard of each winning home.\nPhotos will be posted online.
URL:https://countryclubview.org/calitem/holiday-home-decorating-contest-3/
END:VEVENT
BEGIN:VEVENT
DTSTART;TZID=America/New_York:20241130T080000
DTEND;TZID=America/New_York:20241130T120000
DTSTAMP:20260424T095523
CREATED:20240113T234310Z
LAST-MODIFIED:20240113T234310Z
UID:4382-1732953600-1732968000@countryclubview.org
SUMMARY:Free Share Saturday
DESCRIPTION:For more information see Free Share Saturday.
URL:https://countryclubview.org/calitem/free-share-saturday-20/
LOCATION:Country Club View\, Fairfax\, Virginia\, 22032
END:VEVENT
BEGIN:VEVENT
DTSTART;VALUE=DATE:20241128
DTEND;VALUE=DATE:20241129
DTSTAMP:20260424T095523
CREATED:20241014T211344Z
LAST-MODIFIED:20241014T211344Z
UID:5409-1732752000-1732838399@countryclubview.org
SUMMARY:Thanksgiving Day
DESCRIPTION:
URL:https://countryclubview.org/calitem/thanksgiving-day/
END:VEVENT
BEGIN:VEVENT
DTSTART;VALUE=DATE:20241127
DTEND;VALUE=DATE:20241130
DTSTAMP:20260424T095523
CREATED:20241014T211442Z
LAST-MODIFIED:20241014T211535Z
UID:5411-1732665600-1732924799@countryclubview.org
SUMMARY:FCPS Thanksgiving Break (No School)
DESCRIPTION:Click here for 2024-2025 FCPS Calendar.
URL:https://countryclubview.org/calitem/fcps-thanksgiving-break-no-school/
END:VEVENT
BEGIN:VEVENT
DTSTART;TZID=America/New_York:20241125T193000
DTEND;TZID=America/New_York:20241125T210000
DTSTAMP:20260424T095523
CREATED:20240114T035946Z
LAST-MODIFIED:20241027T153736Z
UID:4462-1732563000-1732568400@countryclubview.org
SUMMARY:Board Meeting
DESCRIPTION:Section Leader and Block Captain volunteers are invited to participate as non-voting members of monthly Board Meetings. Any member may inquire at Contact Us for upcoming meeting dates and times.
URL:https://countryclubview.org/calitem/board-meeting-35/
LOCATION:Country Club View\, Fairfax\, Virginia\, 22032
END:VEVENT
BEGIN:VEVENT
DTSTART;VALUE=DATE:20241111
DTEND;VALUE=DATE:20241112
DTSTAMP:20260424T095523
CREATED:20241014T211122Z
LAST-MODIFIED:20241014T211122Z
UID:5406-1731283200-1731369599@countryclubview.org
SUMMARY:Veterans Day (FCPS No School)
DESCRIPTION:Click here for 2024-2025 FCPS Calendar.
URL:https://countryclubview.org/calitem/veterans-day-fcps-no-school/
END:VEVENT
BEGIN:VEVENT
DTSTART;TZID=America/New_York:20241105T060000
DTEND;TZID=America/New_York:20241105T190000
DTSTAMP:20260424T095523
CREATED:20241107T022332Z
LAST-MODIFIED:20241107T022332Z
UID:5470-1730786400-1730833200@countryclubview.org
SUMMARY:Election Day
DESCRIPTION:Polls across Virginia will close at 7:00 p.m.\, but if you’re in line to vote by 7 p.m.\, poll workers must let you vote\, not matter how long it takes. \nVoting on Election Day\nAll registered voters may vote in this election. Not sure if you are registered? Please visit the Virginia Department of Elections website. \nPolls are open from 6 a.m. to 7 p.m. on Election Day. If you are line by 7 p.m.\, you will be able to vote. \nMore Information on voting.
URL:https://countryclubview.org/calitem/election-day-3/
END:VEVENT
BEGIN:VEVENT
DTSTART;VALUE=DATE:20241105
DTEND;VALUE=DATE:20241106
DTSTAMP:20260424T095523
CREATED:20241014T205709Z
LAST-MODIFIED:20241014T210922Z
UID:5392-1730764800-1730851199@countryclubview.org
SUMMARY:FCPS No School
DESCRIPTION:Click here for 2024-2025 FCPS Calendar.
URL:https://countryclubview.org/calitem/fcps-no-school-3/
END:VEVENT
BEGIN:VEVENT
DTSTART;VALUE=DATE:20241104
DTEND;VALUE=DATE:20241105
DTSTAMP:20260424T095523
CREATED:20241014T205642Z
LAST-MODIFIED:20241014T210743Z
UID:5390-1730678400-1730764799@countryclubview.org
SUMMARY:FCPS No School
DESCRIPTION:Click here for 2024-2025 FCPS Calendar.
URL:https://countryclubview.org/calitem/fcps-no-school-2/
END:VEVENT
BEGIN:VEVENT
DTSTART;VALUE=DATE:20241101
DTEND;VALUE=DATE:20241102
DTSTAMP:20260424T095523
CREATED:20241014T205445Z
LAST-MODIFIED:20241014T210650Z
UID:5388-1730419200-1730505599@countryclubview.org
SUMMARY:All Saints Day (FCPS No School)
DESCRIPTION:Click here for 2024-2025 FCPS Calendar.
URL:https://countryclubview.org/calitem/all-saints-day-fcps-no-school/
END:VEVENT
BEGIN:VEVENT
DTSTART;VALUE=DATE:20241031
DTEND;VALUE=DATE:20241101
DTSTAMP:20260424T095523
CREATED:20241014T204911Z
LAST-MODIFIED:20241014T210627Z
UID:5386-1730332800-1730419199@countryclubview.org
SUMMARY:FCPS Early Release
DESCRIPTION:Click here for 2024-2025 FCPS Calendar.
URL:https://countryclubview.org/calitem/fcps-early-release/
END:VEVENT
BEGIN:VEVENT
DTSTART;VALUE=DATE:20241031
DTEND;VALUE=DATE:20241101
DTSTAMP:20260424T095523
CREATED:20240114T023919Z
LAST-MODIFIED:20240114T024113Z
UID:4432-1730332800-1730419199@countryclubview.org
SUMMARY:Happy Halloween!
DESCRIPTION:Halloween is a holiday celebrated each year on October 31\, and Fairfax County’s Halloween 2024 trick-or-treating will occur on Thursday\, October 31. The tradition originated with the ancient Celtic festival of Samhain\, when people would light bonfires and wear costumes to ward off ghosts. In the eighth century\, Pope Gregory III designated November 1 as a time to honor all saints. Soon\, All Saints Day incorporated some of the traditions of Samhain. The evening before was known as All Hallows Eve\, and later Halloween. Over time\, Halloween evolved into a day of activities like trick-or-treating\, carving jack-o-lanterns\, festive gatherings\, donning costumes and eating treats. \nhttps://www.history.com/topics/halloween/history-of-halloween
URL:https://countryclubview.org/calitem/happy-halloween-3/
END:VEVENT
BEGIN:VEVENT
DTSTART;TZID=America/New_York:20241028T190000
DTEND;TZID=America/New_York:20241028T210000
DTSTAMP:20260424T095523
CREATED:20240114T035834Z
LAST-MODIFIED:20241027T153712Z
UID:4460-1730142000-1730149200@countryclubview.org
SUMMARY:Board Meeting (Zoom)
DESCRIPTION:Section Leader and Block Captain volunteers are invited to participate as non-voting members of monthly Board Meetings. Any member may inquire at Contact Us for upcoming meeting dates and times.
URL:https://countryclubview.org/calitem/board-meeting-34/
LOCATION:Country Club View\, Fairfax\, Virginia\, 22032
END:VEVENT
BEGIN:VEVENT
DTSTART;TZID=America/New_York:20241027T150000
DTEND;TZID=America/New_York:20241027T170000
DTSTAMP:20260424T095523
CREATED:20240114T022557Z
LAST-MODIFIED:20240114T022649Z
UID:4426-1730041200-1730048400@countryclubview.org
SUMMARY:Halloween Festival
DESCRIPTION:NO RAIN DATE IF INCLEMENT WEATHER! \nCome to the CCV Park and enjoy the Spooky Trail and games! All are welcome to come dressed in a costume for this Halloween Festival! \nCCVCA members are encouraged to participate in the home decorating and pumpkin carving competitions — make our neighborhood a spooktacular place to visit for Halloween! \n* To participate in the home decorating and/or pumpkin carving contests\, email at least one photo of your entry to Thomas.mccurdy89@gmail.com by noon on Saturday\, October 26\, 2024. You may submit both a daytime and a nighttime photo to best show your home decorations and/or carved pumpkin(s).\n* A station will be set up if you want to bring your own pumpkin and carve it at the festival. If you plan to submit your on-site carved pumpkin for the contest\, please note the voting begins at 3:00 pm.\n* Voting on home decorations and pumpkins (submitted photos and carved on-site) will be done at the festival from 3:00 pm to 5:00 pm. There will be no voting on Facebook this year. The winner of each competition will receive a prize and be given a sign to put in their yard the first two weeks of November.\n* Spooky Trail participants must sign up on-site to be led by a guide. Groups of about 10 participants will be called from the list and then staggered to maximize fun for everyone involved.\n* Yard games\, prize wheel\, selfie station\, yummy treats\, and spooky music will make the festival a memorable event for all! \nVolunteers should meet in the park at 12:30 pm to set up.\nCostume Parade — Arrive at 2:55 pm and Line Up at 3:00; Parade Begins at 3:05.\nContacts: Sherrie Brady and TJ McCurdy.
URL:https://countryclubview.org/calitem/halloween-festival-3/
LOCATION:Country Club View Park\, 10609 Henrico Street\, Fairfax\, VA
END:VEVENT
BEGIN:VEVENT
DTSTART;TZID=America/New_York:20241026T080000
DTEND;TZID=America/New_York:20241026T120000
DTSTAMP:20260424T095523
CREATED:20240113T234157Z
LAST-MODIFIED:20240113T234157Z
UID:4380-1729929600-1729944000@countryclubview.org
SUMMARY:Free Share Saturday
DESCRIPTION:For more information see Free Share Saturday.
URL:https://countryclubview.org/calitem/free-share-saturday-19/
LOCATION:Country Club View\, Fairfax\, Virginia\, 22032
END:VEVENT
BEGIN:VEVENT
DTSTART;VALUE=DATE:20241014
DTEND;VALUE=DATE:20241015
DTSTAMP:20260424T095523
CREATED:20241014T204338Z
LAST-MODIFIED:20241014T210545Z
UID:5381-1728864000-1728950399@countryclubview.org
SUMMARY:Columbus & Indigenous Peoples Day (FCPS Holiday)
DESCRIPTION:Click here for 2024-2025 FCPS Calendar.
URL:https://countryclubview.org/calitem/columbus-indigenous-peoples-day-fcps-holiday/
END:VEVENT
BEGIN:VEVENT
DTSTART;VALUE=DATE:20241007
DTEND;VALUE=DATE:20241008
DTSTAMP:20260424T095523
CREATED:20241007T160549Z
LAST-MODIFIED:20241007T160645Z
UID:5331-1728259200-1728345599@countryclubview.org
SUMMARY:2024 Fairfax County Personal Property Taxes Due!
DESCRIPTION:October 7 is due date for Fairfax County Personal Property Taxes (Vehicles).
URL:https://countryclubview.org/calitem/2024-fairfax-county-personal-property-tax/
END:VEVENT
BEGIN:VEVENT
DTSTART;TZID=America/New_York:20241005T130000
DTEND;TZID=America/New_York:20241005T153000
DTSTAMP:20260424T095523
CREATED:20240114T014044Z
LAST-MODIFIED:20241001T231124Z
UID:4412-1728133200-1728142200@countryclubview.org
SUMMARY:CCV Home & Garden Tour
DESCRIPTION:The 2nd Annual Home and Garden Tour is an exciting neighborhood event. All CCV residents are invited as considerate guests to view these wonderful homes and gardens. The hosts are glad to direct you through the tour and answer your questions about their homes. Enjoy! Click Home & Garden Tour 2024 for more details!
URL:https://countryclubview.org/calitem/ccv-home-garden-tour/
LOCATION:Country Club View\, Fairfax\, Virginia\, 22032
END:VEVENT
BEGIN:VEVENT
DTSTART;VALUE=DATE:20241003
DTEND;VALUE=DATE:20241005
DTSTAMP:20260424T095523
CREATED:20241014T204754Z
LAST-MODIFIED:20241014T210459Z
UID:5384-1727913600-1728086399@countryclubview.org
SUMMARY:FCPS No School
DESCRIPTION:Click here for 2024-2025 FCPS Calendar.
URL:https://countryclubview.org/calitem/fcps-no-school/
END:VEVENT
BEGIN:VEVENT
DTSTART;TZID=America/New_York:20240928T080000
DTEND;TZID=America/New_York:20240928T120000
DTSTAMP:20260424T095523
CREATED:20240113T234044Z
LAST-MODIFIED:20240113T234044Z
UID:4378-1727510400-1727524800@countryclubview.org
SUMMARY:Free Share Saturday
DESCRIPTION:For more information see Free Share Saturday.
URL:https://countryclubview.org/calitem/free-share-saturday-18/
LOCATION:Country Club View\, Fairfax\, Virginia\, 22032
END:VEVENT
BEGIN:VEVENT
DTSTART;TZID=America/New_York:20240926T193000
DTEND;TZID=America/New_York:20240926T210000
DTSTAMP:20260424T095523
CREATED:20240114T043241Z
LAST-MODIFIED:20240926T012430Z
UID:4468-1727379000-1727384400@countryclubview.org
SUMMARY:General Membership Meeting
DESCRIPTION:All CCVCA members are invited to join current Board members for the second 2024 General Membership Meeting. During this annual fall meeting we will discuss and then vote on the 2025 budget. We’ll also share updates on current agenda items. Meeting Minutes are available online. \nVenue: St. Mary of Sorrows Catholic Church in Farrell Hall (old building)
URL:https://countryclubview.org/calitem/general-membership-meeting-4/
LOCATION:St. Mary of Sorrows Catholic Church\, 5222 Sideburn Rd (Farrell Hall)\, Fairfax\, Virginia\, 22032
END:VEVENT
BEGIN:VEVENT
DTSTART;TZID=America/New_York:20240915T160000
DTEND;TZID=America/New_York:20240915T180000
DTSTAMP:20260424T095523
CREATED:20240822T145551Z
LAST-MODIFIED:20240822T145634Z
UID:4968-1726416000-1726423200@countryclubview.org
SUMMARY:Ice Cream Social & Scholarship Fundraiser & Cash Raffle
DESCRIPTION:10th Annual Ice Cream Social & Scholarship Fundraiser & Cash Raffle\nSunday\, September 15\, 2024\n4:00 pm – 6:00 pm\nCCV Park
URL:https://countryclubview.org/calitem/ice-cream-social-3/
LOCATION:Country Club View Park\, 10609 Henrico Street\, Fairfax\, VA
END:VEVENT
BEGIN:VEVENT
DTSTART;VALUE=DATE:20240908
DTEND;VALUE=DATE:20240909
DTSTAMP:20260424T095523
CREATED:20240902T145232Z
LAST-MODIFIED:20240902T145232Z
UID:4990-1725753600-1725839999@countryclubview.org
SUMMARY:Grandparents' Day
DESCRIPTION:Grandparents’ Day or National Grandparents’ Day is a secular holiday celebrated in various countries; it is celebrated to show the bond between grandparents and grandchildren. It occurs on various days of the year\, either as one holiday or sometimes as a separate Grandmother’s Day and Grandfather’s Day. Wikipedia
URL:https://countryclubview.org/calitem/grandparents-day-2/
END:VEVENT
BEGIN:VEVENT
DTSTART;VALUE=DATE:20240902
DTEND;VALUE=DATE:20240903
DTSTAMP:20260424T095523
CREATED:20240901T165053Z
LAST-MODIFIED:20240901T165152Z
UID:4988-1725235200-1725321599@countryclubview.org
SUMMARY:FCPS Labor Day Break/No School
DESCRIPTION:
URL:https://countryclubview.org/calitem/fcps-labor-day-break-no-school-2/
END:VEVENT
BEGIN:VEVENT
DTSTART;TZID=America/New_York:20240831T080000
DTEND;TZID=America/New_York:20240831T120000
DTSTAMP:20260424T095523
CREATED:20240113T233937Z
LAST-MODIFIED:20240113T233937Z
UID:4376-1725091200-1725105600@countryclubview.org
SUMMARY:Free Share Saturday
DESCRIPTION:For more information see Free Share Saturday.
URL:https://countryclubview.org/calitem/free-share-saturday-17/
LOCATION:Country Club View\, Fairfax\, Virginia\, 22032
END:VEVENT
BEGIN:VEVENT
DTSTART;VALUE=DATE:20240830
DTEND;VALUE=DATE:20240831
DTSTAMP:20260424T095523
CREATED:20240901T165001Z
LAST-MODIFIED:20241014T210340Z
UID:4986-1724976000-1725062399@countryclubview.org
SUMMARY:FCPS Labor Day Break/No School
DESCRIPTION:Click here for full FCPS Calendar.
URL:https://countryclubview.org/calitem/fcps-labor-day-break-no-school/
END:VEVENT
BEGIN:VEVENT
DTSTART;TZID=America/New_York:20240826T193000
DTEND;TZID=America/New_York:20240826T210000
DTSTAMP:20260424T095523
CREATED:20240114T035716Z
LAST-MODIFIED:20240114T035716Z
UID:4458-1724700600-1724706000@countryclubview.org
SUMMARY:Board Meeting
DESCRIPTION:Section Leader and Block Captain volunteers are invited to participate as non-voting members of monthly Board Meetings. Any member may inquire at Contact Us for upcoming meeting dates and times.
URL:https://countryclubview.org/calitem/board-meeting-33/
LOCATION:Country Club View\, Fairfax\, Virginia\, 22032
END:VEVENT
BEGIN:VEVENT
DTSTART;TZID=America/New_York:20240824T090000
DTEND;TZID=America/New_York:20240824T110000
DTSTAMP:20260424T095523
CREATED:20240822T150643Z
LAST-MODIFIED:20240822T150643Z
UID:4973-1724490000-1724497200@countryclubview.org
SUMMARY:Volunteer Appreciation Celebration
DESCRIPTION:By Invitation Only \nWe are so thankful for all of you\, the wonderful volunteers who make Country Club View a great neighborhood! \nPlease join us for light continental breakfast\, coffee/tea\, and mimosas at the Sideburn Run Pool’s large pavilion from 9:00 a.m. to 11:00 a.m. on Saturday\, August 24. \nBecause alcohol is being served and the pool is not open for swimming\, this is for adults only.  But we hope to see the whole family at the Ice Cream Social on September 15! \nPlease RSVP by August 21.
URL:https://countryclubview.org/calitem/volunteer-appreciation-celebration/
LOCATION:Sideburn Run Pool\, 10603 Zion Drive\, Fairfax\, VA\, 22032\, United States
END:VEVENT
END:VCALENDAR