BEGIN:VCALENDAR
VERSION:2.0
PRODID:-//Country Club View Civic Association - ECPv6.15.20//NONSGML v1.0//EN
CALSCALE:GREGORIAN
METHOD:PUBLISH
X-WR-CALNAME:Country Club View Civic Association
X-ORIGINAL-URL:https://countryclubview.org
X-WR-CALDESC:Events for Country Club View Civic Association
REFRESH-INTERVAL;VALUE=DURATION:PT1H
X-Robots-Tag:noindex
X-PUBLISHED-TTL:PT1H
BEGIN:VTIMEZONE
TZID:America/New_York
BEGIN:DAYLIGHT
TZOFFSETFROM:-0500
TZOFFSETTO:-0400
TZNAME:EDT
DTSTART:20200308T070000
END:DAYLIGHT
BEGIN:STANDARD
TZOFFSETFROM:-0400
TZOFFSETTO:-0500
TZNAME:EST
DTSTART:20201101T060000
END:STANDARD
BEGIN:DAYLIGHT
TZOFFSETFROM:-0500
TZOFFSETTO:-0400
TZNAME:EDT
DTSTART:20210314T070000
END:DAYLIGHT
BEGIN:STANDARD
TZOFFSETFROM:-0400
TZOFFSETTO:-0500
TZNAME:EST
DTSTART:20211107T060000
END:STANDARD
BEGIN:DAYLIGHT
TZOFFSETFROM:-0500
TZOFFSETTO:-0400
TZNAME:EDT
DTSTART:20220313T070000
END:DAYLIGHT
BEGIN:STANDARD
TZOFFSETFROM:-0400
TZOFFSETTO:-0500
TZNAME:EST
DTSTART:20221106T060000
END:STANDARD
BEGIN:DAYLIGHT
TZOFFSETFROM:-0500
TZOFFSETTO:-0400
TZNAME:EDT
DTSTART:20230312T070000
END:DAYLIGHT
BEGIN:STANDARD
TZOFFSETFROM:-0400
TZOFFSETTO:-0500
TZNAME:EST
DTSTART:20231105T060000
END:STANDARD
END:VTIMEZONE
BEGIN:VEVENT
DTSTART;TZID=America/New_York:20221205T193000
DTEND;TZID=America/New_York:20221205T210000
DTSTAMP:20260425T075124
CREATED:20220118T234847Z
LAST-MODIFIED:20220118T234847Z
UID:2994-1670268600-1670274000@countryclubview.org
SUMMARY:Board Meeting
DESCRIPTION:
URL:https://countryclubview.org/calitem/board-meeting-16/
LOCATION:VA
END:VEVENT
BEGIN:VEVENT
DTSTART;TZID=America/New_York:20221030T140000
DTEND;TZID=America/New_York:20221030T170000
DTSTAMP:20260425T075124
CREATED:20221027T193519Z
LAST-MODIFIED:20221028T135548Z
UID:3439-1667138400-1667149200@countryclubview.org
SUMMARY:Halloween Festival
DESCRIPTION:NO RAIN DATE IF INCLEMENT WEATHER! \nCome to the CCV Park and enjoy the Spooky Trail and games! All are welcome to come dressed in a costume for this Halloween Festival! \nCCVCA members are encouraged to participate in the home decorating and pumpkin carving competitions — make our neighborhood a spooktacular place to visit for Halloween! \n* To participate in the home decorating and/or pumpkin carving contests\, email at least one photo of your entry to Thomas.mccurdy89@gmail.com by noon on Saturday\, October 29. You may submit both a daytime and a nighttime photo to best show your home decorations and/or carved pumpkin(s).\n* A station will be set up if you want to bring your own pumpkin and carve it at the festival. If you plan to submit your on-site carved pumpkin for the contest\, please note the voting begins at 3:00 pm.\n* Voting on home decorations and pumpkins (submitted photos and carved on-site) will be done at the festival from 3:00 pm to 5:00 pm. There will be no voting on Facebook this year. The winner of each competition will receive a prize and be given a sign to put in their yard the first two weeks of November.\n* Spooky Trail participants must sign up on-site to be led by a guide. Groups of about 10 participants will be called from the list and then staggered to maximize fun for everyone involved.\n* Yard games\, prize wheel\, selfie station\, yummy treats\, and spooky music will make the festival a memorable event for all! \nVolunteers should meet in the park at 12:30 pm to set up.\nCostume Parade — Line Up at 2:00; Parade Begins at 2:10.\nContacts: Sherrie Brady and TJ McCurdy.
URL:https://countryclubview.org/calitem/halloween-festival/
LOCATION:Country Club View Park\, 10609 Henrico Street\, Fairfax\, VA
END:VEVENT
BEGIN:VEVENT
DTSTART;TZID=America/New_York:20221030T140000
DTEND;TZID=America/New_York:20221030T170000
DTSTAMP:20260425T075124
CREATED:20220119T002316Z
LAST-MODIFIED:20221027T195040Z
UID:3022-1667138400-1667149200@countryclubview.org
SUMMARY:Halloween Spooky Trail
DESCRIPTION:Come to the CCV Park and enjoy the Spooky Trail and games! Come dressed in your costume for this festive event! \nSpooky Trail participants must sign up on-site to be led by a guide. Groups of about 10 participants will be called from the list and then staggered to maximize fun for everyone involved. \nContacts: Sherrie Brady and TJ McCurdy. \n 
URL:https://countryclubview.org/calitem/halloween-spooky-trail/
LOCATION:Country Club View Park\, 10609 Henrico Street\, Fairfax\, VA
END:VEVENT
BEGIN:VEVENT
DTSTART;TZID=America/New_York:20221030T140000
DTEND;TZID=America/New_York:20221030T141500
DTSTAMP:20260425T075124
CREATED:20221027T184735Z
LAST-MODIFIED:20221028T134841Z
UID:3433-1667138400-1667139300@countryclubview.org
SUMMARY:Halloween Costume Parade
DESCRIPTION:Line Up: 2:00 pm\nParade Begins: 2:10 pm \nThe Costume Parade around the basketball court will be the opening event for the CCVCA Halloween Festival on Sunday\, October 30. Come dressed to impress your neighbors\, friends\, and guests. If your furry friend also wants to participate\, county guidelines require pets be on a leash!
URL:https://countryclubview.org/calitem/halloween-costume-parade/
LOCATION:Country Club View Park\, 10609 Henrico Street\, Fairfax\, VA
END:VEVENT
BEGIN:VEVENT
DTSTART;TZID=America/New_York:20221029T120000
DTEND;TZID=America/New_York:20221029T120000
DTSTAMP:20260425T075124
CREATED:20221027T192716Z
LAST-MODIFIED:20221028T013515Z
UID:3434-1667044800-1667044800@countryclubview.org
SUMMARY:Halloween Pumpkin Carving Contest Photo Deadline
DESCRIPTION:To participate in the pumpkin carving competition\, please email Thomas.mccurdy89@gmail.com at least one photo of your entry by noon on Saturday\, October 29. Include the subject line “2022 CCVCA Halloween Pumpkin Carving Competition.” You may submit both a daytime and a nighttime photo to best show your carving skills. \nA station will be set up if you want to bring your own pumpkin and carve it at the festival from 2:00 pm to 5:00 pm. If you plan to submit your on-site carved pumpkin for the contest\, please note the voting begins at 3:00 pm. \nThose attending the CCVCA Halloween Festival at the park on Sunday\, October 30\, will vote on-site from 3:00 pm to 5:00 pm. The winner will receive a prize and be given a sign to put in their yard the first two weeks of November.
URL:https://countryclubview.org/calitem/halloween-pumpkin-carving-contest-photo-deadline/
LOCATION:VA
END:VEVENT
BEGIN:VEVENT
DTSTART;TZID=America/New_York:20221029T120000
DTEND;TZID=America/New_York:20221029T120000
DTSTAMP:20260425T075124
CREATED:20220119T002805Z
LAST-MODIFIED:20221028T134252Z
UID:3026-1667044800-1667044800@countryclubview.org
SUMMARY:Halloween Home Decorating Contest Photo Deadline
DESCRIPTION:To participate in the home decorating competition\, please email Thomas.mccurdy89@gmail.com at least one photo of your entry by noon on Saturday\, October 29. Include the subject line “2022 CCVCA Halloween Home Decorating Competition.” You may submit both a daytime and a nighttime photo to best show your decorations. \nThose attending the CCVCA Halloween Festival at the park on Sunday\, October 30\, will vote on-site from 3:00 pm to 5:00 pm. The winner will receive a prize and be given a sign to put in their yard the first two weeks of November.
URL:https://countryclubview.org/calitem/halloween-home-decorating-contest-2/
LOCATION:VA
END:VEVENT
BEGIN:VEVENT
DTSTART;TZID=America/New_York:20221024T193000
DTEND;TZID=America/New_York:20221024T210000
DTSTAMP:20260425T075124
CREATED:20220118T234730Z
LAST-MODIFIED:20220118T234730Z
UID:2992-1666639800-1666645200@countryclubview.org
SUMMARY:Board Meeting
DESCRIPTION:
URL:https://countryclubview.org/calitem/board-meeting-15/
LOCATION:VA
END:VEVENT
BEGIN:VEVENT
DTSTART;TZID=America/New_York:20220929T193000
DTEND;TZID=America/New_York:20220929T210000
DTSTAMP:20260425T075124
CREATED:20220118T234614Z
LAST-MODIFIED:20220819T045840Z
UID:2990-1664479800-1664485200@countryclubview.org
SUMMARY:General Meeting
DESCRIPTION:
URL:https://countryclubview.org/calitem/general-meeting-2/
LOCATION:St. Mary of Sorrows Catholic Church\, 5222 Sideburn Rd (Farrell Hall)\, Fairfax\, Virginia\, 22032
END:VEVENT
BEGIN:VEVENT
DTSTART;TZID=America/New_York:20220918T160000
DTEND;TZID=America/New_York:20220918T180000
DTSTAMP:20260425T075124
CREATED:20220119T002023Z
LAST-MODIFIED:20220819T051010Z
UID:3019-1663516800-1663524000@countryclubview.org
SUMMARY:Ice Cream Social & Cash Raffle
DESCRIPTION:8th Annual Ice Cream Social & Cash Raffle\nSunday\, September 18\, 2022\n4:00 pm – 6:00 pm\nCCV Park
URL:https://countryclubview.org/calitem/ice-cream-social-2/
LOCATION:Country Club View Park\, 10609 Henrico Street\, Fairfax\, VA
END:VEVENT
BEGIN:VEVENT
DTSTART;VALUE=DATE:20220915
DTEND;VALUE=DATE:20220916
DTSTAMP:20260425T075124
CREATED:20220118T235328Z
LAST-MODIFIED:20220118T235328Z
UID:3000-1663200000-1663286399@countryclubview.org
SUMMARY:Newsletter #3
DESCRIPTION:
URL:https://countryclubview.org/calitem/newsletter-3/
LOCATION:VA
END:VEVENT
BEGIN:VEVENT
DTSTART;TZID=America/New_York:20220829T193000
DTEND;TZID=America/New_York:20220829T210000
DTSTAMP:20260425T075124
CREATED:20220118T234502Z
LAST-MODIFIED:20220118T234502Z
UID:2988-1661801400-1661806800@countryclubview.org
SUMMARY:Board Meeting
DESCRIPTION:
URL:https://countryclubview.org/calitem/board-meeting-14/
LOCATION:VA
END:VEVENT
BEGIN:VEVENT
DTSTART;TZID=America/New_York:20220802T190000
DTEND;TZID=America/New_York:20220802T230000
DTSTAMP:20260425T075124
CREATED:20220119T001729Z
LAST-MODIFIED:20220119T001729Z
UID:3017-1659466800-1659481200@countryclubview.org
SUMMARY:National Night Out
DESCRIPTION:National Night Out is an annual community-building campaign that promotes police-community partnerships and neighborhood camaraderie to make our neighborhoods safer\, more caring places to live. National Night Out enhances the relationship between neighbors and law enforcement while bringing back a true sense of community. Furthermore\, it provides a great opportunity to bring police and neighbors together under positive circumstances.
URL:https://countryclubview.org/calitem/national-night-out-2/
LOCATION:VA
END:VEVENT
BEGIN:VEVENT
DTSTART;TZID=America/New_York:20220725T193000
DTEND;TZID=America/New_York:20220725T210000
DTSTAMP:20260425T075124
CREATED:20220118T234341Z
LAST-MODIFIED:20220118T234341Z
UID:2986-1658777400-1658782800@countryclubview.org
SUMMARY:Board Meeting
DESCRIPTION:
URL:https://countryclubview.org/calitem/board-meeting-13/
LOCATION:VA
END:VEVENT
BEGIN:VEVENT
DTSTART;VALUE=DATE:20220720
DTEND;VALUE=DATE:20220721
DTSTAMP:20260425T075124
CREATED:20220118T235220Z
LAST-MODIFIED:20220714T012542Z
UID:2998-1658275200-1658361599@countryclubview.org
SUMMARY:Newsletter #2
DESCRIPTION:
URL:https://countryclubview.org/calitem/newsletter-2/
LOCATION:VA
END:VEVENT
BEGIN:VEVENT
DTSTART;TZID=America/New_York:20220530T100000
DTEND;TZID=America/New_York:20220530T120000
DTSTAMP:20260425T075124
CREATED:20220119T004358Z
LAST-MODIFIED:20220525T202114Z
UID:3035-1653904800-1653912000@countryclubview.org
SUMMARY:Memorial Day Ceremony at CCV Park
DESCRIPTION:
URL:https://countryclubview.org/calitem/memorial-day-ceremony-at-ccv-park/
LOCATION:Country Club View Park\, 10609 Henrico Street\, Fairfax\, VA
END:VEVENT
BEGIN:VEVENT
DTSTART;TZID=America/New_York:20220523T193000
DTEND;TZID=America/New_York:20220523T210000
DTSTAMP:20260425T075124
CREATED:20220118T234224Z
LAST-MODIFIED:20220118T234224Z
UID:2984-1653334200-1653339600@countryclubview.org
SUMMARY:Board Meeting
DESCRIPTION:
URL:https://countryclubview.org/calitem/board-meeting-12/
LOCATION:VA
END:VEVENT
BEGIN:VEVENT
DTSTART;TZID=America/New_York:20220425T193000
DTEND;TZID=America/New_York:20220425T210000
DTSTAMP:20260425T075124
CREATED:20220118T233346Z
LAST-MODIFIED:20220422T144325Z
UID:2982-1650915000-1650920400@countryclubview.org
SUMMARY:CCVCA Spring Membership General Meeting
DESCRIPTION:All CCVCA members are invited to attend our Spring and Fall membership meetings\, held at St. Mary’s Church in Farrell Hall at 5222 Sideburn Road. \nDuring our annual Spring meeting we conduct officer elections as well as share updates on current agenda items like Membership Drive\, Events\, and Scholarship. Please email ccvcafx@gmail.com if you cannot attend and would like to submit a Proxy Ballot. \nThis Spring we will hear from invited guest speaker David Taylor with updates on the Erickson Senior Living’s project nearby on Braddock Road. \nIf you haven’t joined yet\, please take a moment now to submit your 2022 CCVCA Membership Application and $15 annual dues.
URL:https://countryclubview.org/calitem/spring-2022-general-meeting/
LOCATION:VA
END:VEVENT
BEGIN:VEVENT
DTSTART;TZID=America/New_York:20220423T100000
DTEND;TZID=America/New_York:20220423T110000
DTSTAMP:20260425T075124
CREATED:20220119T001307Z
LAST-MODIFIED:20220414T123804Z
UID:3012-1650708000-1650711600@countryclubview.org
SUMMARY:Stream Cleanup
DESCRIPTION:On April 23\, 2022\, the CCV Stream Cleanup will be held from 10:00 am – 11:00 am. Celebrate Earth Day by showing some love for our local stream\, Sideburn branch of Pohick Creek! Please join us in reducing the amount of trash in the Country Club View Park stream to prevent it from continuing downstream! Last year there were basketballs\, tennis balls\, tubing\, and even rusty chairs uncovered from the muck and brought out to be collected by the Park Authority. This is a great opportunity for students to earn service hours. \nTwo locations to meet: CCV Park by the tennis courts or the park entrance off of Grinnell Street. Dress appropriately for being in the woods and around the creek–wear gloves\, long pants\, and shoes that can get muddy. CCVCA will provide trash bags for volunteers and treats to enjoy after the cleanup. \nDate subject to change due to weather.
URL:https://countryclubview.org/calitem/stream-cleanup-2/
LOCATION:Country Club View Park\, 10609 Henrico Street\, Fairfax\, VA
END:VEVENT
BEGIN:VEVENT
DTSTART;TZID=America/New_York:20220423T080000
DTEND;TZID=America/New_York:20220423T120000
DTSTAMP:20260425T075124
CREATED:20220305T002653Z
LAST-MODIFIED:20220305T002744Z
UID:3135-1650700800-1650715200@countryclubview.org
SUMMARY:Spring Yard Sale
DESCRIPTION:The CCVCA annual spring community yard sale will take place on Saturday\, April 23\, with advertised hours from 8:00 am to noon. Participating households are encouraged to get their stuff set out early and it’s at their discretion when to pack up for the day. Put out a decorative sign\, attach balloons to your mailbox\, or display a box of free items to attract buyers to stop and shop! If you are interested in assisting with yard sale activities in the neighborhood\, please Contact Us!
URL:https://countryclubview.org/calitem/spring-yard-sale-2/
LOCATION:VA
END:VEVENT
BEGIN:VEVENT
DTSTART;TZID=America/New_York:20220328T193000
DTEND;TZID=America/New_York:20220328T210000
DTSTAMP:20260425T075124
CREATED:20220118T233049Z
LAST-MODIFIED:20220118T233220Z
UID:2980-1648495800-1648501200@countryclubview.org
SUMMARY:Board Meeting
DESCRIPTION:
URL:https://countryclubview.org/calitem/board-meeting-11/
LOCATION:VA
END:VEVENT
BEGIN:VEVENT
DTSTART;VALUE=DATE:20220315
DTEND;VALUE=DATE:20220316
DTSTAMP:20260425T075124
CREATED:20220119T000248Z
LAST-MODIFIED:20220119T000516Z
UID:3004-1647302400-1647388799@countryclubview.org
SUMMARY:Scholarship Application Deadline
DESCRIPTION:Last day for graduating high school seniors of CCVCA members (whose parents paid dues prior to March 15\, 2022) to submit their Paul A. Maltagliati Memorial Scholarship application. Contact: Bob Coffin.
URL:https://countryclubview.org/calitem/scholarship-application-deadline-2/
LOCATION:VA
END:VEVENT
BEGIN:VEVENT
DTSTART;VALUE=DATE:20220315
DTEND;VALUE=DATE:20220316
DTSTAMP:20260425T075124
CREATED:20220118T235104Z
LAST-MODIFIED:20220118T235104Z
UID:2996-1647302400-1647388799@countryclubview.org
SUMMARY:Newsletter #1
DESCRIPTION:
URL:https://countryclubview.org/calitem/newsletter-1/
LOCATION:VA
END:VEVENT
BEGIN:VEVENT
DTSTART;TZID=America/New_York:20220228T193000
DTEND;TZID=America/New_York:20220228T210000
DTSTAMP:20260425T075124
CREATED:20220118T232954Z
LAST-MODIFIED:20220118T232954Z
UID:2978-1646076600-1646082000@countryclubview.org
SUMMARY:Board Meeting
DESCRIPTION:
URL:https://countryclubview.org/calitem/board-meeting-10/
LOCATION:VA
END:VEVENT
BEGIN:VEVENT
DTSTART;TZID=America/New_York:20220124T193000
DTEND;TZID=America/New_York:20220124T210000
DTSTAMP:20260425T075124
CREATED:20220118T232747Z
LAST-MODIFIED:20220118T232747Z
UID:2976-1643052600-1643058000@countryclubview.org
SUMMARY:Board Meeting
DESCRIPTION:
URL:https://countryclubview.org/calitem/board-meeting-5/
LOCATION:VA
END:VEVENT
BEGIN:VEVENT
DTSTART;VALUE=DATE:20220101
DTEND;VALUE=DATE:20220316
DTSTAMP:20260425T075124
CREATED:20220119T005159Z
LAST-MODIFIED:20220119T005159Z
UID:3037-1640995200-1647388799@countryclubview.org
SUMMARY:Paul Maltagliati Scholarship Application Available
DESCRIPTION:This year CCVCA will award 1-year\, non-renewable scholarship(s) to graduating high school senior(s) whose family is a current member of the civic association. The Paul A. Maltagliati Memorial College Scholarship is awarded based on academic achievement\, participation in school and community activities\, a short essay\, and an interview. The Scholarship Application provides details about the process and required documentation. \nAll CCVCA 2022 graduating seniors are eligible to apply\, regardless of high school attended or home schooled. A signed original application with 4 copies of the application and required documentation must be received no later than March 15\, 2022. \nFor more information: Paul A. Maltagliati Memorial College Scholarship
URL:https://countryclubview.org/calitem/paul-maltagliati-scholarship-application-available/
LOCATION:VA
END:VEVENT
BEGIN:VEVENT
DTSTART;VALUE=DATE:20220101
DTEND;VALUE=DATE:20220301
DTSTAMP:20260425T075124
CREATED:20220119T001002Z
LAST-MODIFIED:20220119T001131Z
UID:3009-1640995200-1646092799@countryclubview.org
SUMMARY:Membership Drive
DESCRIPTION:The 2022 Membership Drive began the first week of January\, and shortly after that all residents received the paper membership application via their block captain. An online application also is available. For 2021 we had 237 members out of 477 homes in Country Club View. We hope that all of you who joined last year will choose to join again this year. Your membership dues are what funds all the great activities throughout the year. Remember that fantastic ice cream social with the really cute alpacas and the face painter? That is only possible with the support of a lot of members. The Board has set a goal of exceeding 250 members this year – so please join and talk to your neighbors about joining\, too!
URL:https://countryclubview.org/calitem/membership-drive/
LOCATION:VA
END:VEVENT
BEGIN:VEVENT
DTSTART;VALUE=DATE:20220101
DTEND;VALUE=DATE:20220102
DTSTAMP:20260425T075124
CREATED:20211229T023309Z
LAST-MODIFIED:20211229T023309Z
UID:2925-1640995200-1641081599@countryclubview.org
SUMMARY:Happy New Year!
DESCRIPTION:
URL:https://countryclubview.org/calitem/happy-new-year/
LOCATION:VA
END:VEVENT
BEGIN:VEVENT
DTSTART;VALUE=DATE:20211225
DTEND;VALUE=DATE:20211226
DTSTAMP:20260425T075124
CREATED:20211229T023412Z
LAST-MODIFIED:20211229T023412Z
UID:2927-1640390400-1640476799@countryclubview.org
SUMMARY:Merry Christmas and Happy Holidays!
DESCRIPTION:
URL:https://countryclubview.org/calitem/merry-christmas-and-happy-holidays/
LOCATION:VA
END:VEVENT
BEGIN:VEVENT
DTSTART;TZID=America/New_York:20211220T190000
DTEND;TZID=America/New_York:20211220T210000
DTSTAMP:20260425T075124
CREATED:20201207T193855Z
LAST-MODIFIED:20211202T174113Z
UID:193-1640026800-1640034000@countryclubview.org
SUMMARY:Holiday Decorating Contest
DESCRIPTION:Judged by the Country Club View Women’s Club from 7:00-9:00 pm. The snow date is Tuesday\, December 21. Only CCVCA members are eligible to participate. (Membership Form) The categories for this year will be Traditional\, Toyland\, and Winter Wonderland–one winner chosen for each category. The 3 winners will each receive a gift card and a yard sign announcing their award category.
URL:https://countryclubview.org/calitem/holiday-decorating-contest-2/
LOCATION:VA
END:VEVENT
BEGIN:VEVENT
DTSTART;VALUE=DATE:20211215
DTEND;VALUE=DATE:20211216
DTSTAMP:20260425T075124
CREATED:20201207T203546Z
LAST-MODIFIED:20210220T232155Z
UID:210-1639526400-1639612799@countryclubview.org
SUMMARY:2021 Newsletter #4 Distribution
DESCRIPTION:December newsletters distributed to CCVCA members.
URL:https://countryclubview.org/calitem/2021-newsletter-4-distribution/
LOCATION:VA
END:VEVENT
END:VCALENDAR