BEGIN:VCALENDAR
VERSION:2.0
PRODID:-//Country Club View Civic Association - ECPv6.15.20//NONSGML v1.0//EN
CALSCALE:GREGORIAN
METHOD:PUBLISH
X-WR-CALNAME:Country Club View Civic Association
X-ORIGINAL-URL:https://countryclubview.org
X-WR-CALDESC:Events for Country Club View Civic Association
REFRESH-INTERVAL;VALUE=DURATION:PT1H
X-Robots-Tag:noindex
X-PUBLISHED-TTL:PT1H
BEGIN:VTIMEZONE
TZID:America/New_York
BEGIN:DAYLIGHT
TZOFFSETFROM:-0500
TZOFFSETTO:-0400
TZNAME:EDT
DTSTART:20190310T070000
END:DAYLIGHT
BEGIN:STANDARD
TZOFFSETFROM:-0400
TZOFFSETTO:-0500
TZNAME:EST
DTSTART:20191103T060000
END:STANDARD
BEGIN:DAYLIGHT
TZOFFSETFROM:-0500
TZOFFSETTO:-0400
TZNAME:EDT
DTSTART:20200308T070000
END:DAYLIGHT
BEGIN:STANDARD
TZOFFSETFROM:-0400
TZOFFSETTO:-0500
TZNAME:EST
DTSTART:20201101T060000
END:STANDARD
BEGIN:DAYLIGHT
TZOFFSETFROM:-0500
TZOFFSETTO:-0400
TZNAME:EDT
DTSTART:20210314T070000
END:DAYLIGHT
BEGIN:STANDARD
TZOFFSETFROM:-0400
TZOFFSETTO:-0500
TZNAME:EST
DTSTART:20211107T060000
END:STANDARD
BEGIN:DAYLIGHT
TZOFFSETFROM:-0500
TZOFFSETTO:-0400
TZNAME:EDT
DTSTART:20220313T070000
END:DAYLIGHT
BEGIN:STANDARD
TZOFFSETFROM:-0400
TZOFFSETTO:-0500
TZNAME:EST
DTSTART:20221106T060000
END:STANDARD
END:VTIMEZONE
BEGIN:VEVENT
DTSTART;TZID=America/New_York:20210513T170000
DTEND;TZID=America/New_York:20210513T190000
DTSTAMP:20260425T082939
CREATED:20210426T214628Z
LAST-MODIFIED:20210426T214628Z
UID:2253-1620925200-1620932400@countryclubview.org
SUMMARY:Food Truck - Mazza Kitchen
DESCRIPTION:Mazza Kitchen
URL:https://countryclubview.org/calitem/food-truck-mazza-kitchen/
LOCATION:Intersection of Portsmouth & Buckingham Roads\, Fairfax\, Virginia\, 22032
END:VEVENT
BEGIN:VEVENT
DTSTART;VALUE=DATE:20210509
DTEND;VALUE=DATE:20210510
DTSTAMP:20260425T082939
CREATED:20210506T184531Z
LAST-MODIFIED:20210518T175715Z
UID:2294-1620518400-1620604799@countryclubview.org
SUMMARY:Happy Mother's Day!
DESCRIPTION:
URL:https://countryclubview.org/calitem/happy-mothers-day/
LOCATION:Virginia
END:VEVENT
BEGIN:VEVENT
DTSTART;TZID=America/New_York:20210501T080000
DTEND;TZID=America/New_York:20210501T120000
DTSTAMP:20260425T082939
CREATED:20201207T222923Z
LAST-MODIFIED:20210317T154216Z
UID:238-1619856000-1619870400@countryclubview.org
SUMMARY:Spring Yard Sale
DESCRIPTION:This is a publicized multi-community event\, so neighbors are encouraged to have their stuff out early (prior to 8 am) and may continue past noon at their discretion. Contact: Sherrie Brady.
URL:https://countryclubview.org/calitem/spring-yard-sale/
LOCATION:Country Club View\, Fairfax\, Virginia\, 22032
END:VEVENT
BEGIN:VEVENT
DTSTART;TZID=America/New_York:20210429T170000
DTEND;TZID=America/New_York:20210429T190000
DTSTAMP:20260425T082939
CREATED:20210426T213943Z
LAST-MODIFIED:20210426T213943Z
UID:2248-1619715600-1619722800@countryclubview.org
SUMMARY:Food Truck - Blue City
DESCRIPTION:Blue City
URL:https://countryclubview.org/calitem/food-truck-blue-city/
LOCATION:Intersection of Portsmouth & Buckingham Roads\, Fairfax\, Virginia\, 22032
END:VEVENT
BEGIN:VEVENT
DTSTART;TZID=America/New_York:20210426T193000
DTEND;TZID=America/New_York:20210426T210000
DTSTAMP:20260425T082939
CREATED:20201207T190742Z
LAST-MODIFIED:20210427T000059Z
UID:173-1619465400-1619470800@countryclubview.org
SUMMARY:CCVCA General Membership Meeting via ZOOM
DESCRIPTION:Join Zoom Meeting \nhttps://us02web.zoom.us/j/83348667751?pwd=M3BYaDZDSURmallrSzJmOVZ3enRIdz09 \nMeeting ID: 833 4866 7751\nPasscode: 988675 \nDial by your location        +1 301 715 8592 US (Washington DC)\nMeeting ID: 833 4866 7751\nPasscode: 988675
URL:https://countryclubview.org/calitem/ccvca-general-membership-meeting/
LOCATION:Virginia
END:VEVENT
BEGIN:VEVENT
DTSTART;TZID=America/New_York:20210422T170000
DTEND;TZID=America/New_York:20210422T190000
DTSTAMP:20260425T082939
CREATED:20210122T165125Z
LAST-MODIFIED:20210426T214307Z
UID:1538-1619110800-1619118000@countryclubview.org
SUMMARY:Food Truck - Little Lady Grill
DESCRIPTION:Little Lady Grill
URL:https://countryclubview.org/calitem/food-truck-9/
LOCATION:Intersection of Portsmouth & Buckingham Roads\, Fairfax\, Virginia\, 22032
END:VEVENT
BEGIN:VEVENT
DTSTART;TZID=America/New_York:20210410T100000
DTEND;TZID=America/New_York:20210410T140000
DTSTAMP:20260425T082939
CREATED:20210316T040431Z
LAST-MODIFIED:20210316T040431Z
UID:1924-1618048800-1618063200@countryclubview.org
SUMMARY:Stream Cleanup
DESCRIPTION:Rain date April 24
URL:https://countryclubview.org/calitem/stream-cleanup/
LOCATION:Country Club View Park\, 10609 Henrico Street\, Fairfax\, VA
END:VEVENT
BEGIN:VEVENT
DTSTART;TZID=America/New_York:20210408T170000
DTEND;TZID=America/New_York:20210408T190000
DTSTAMP:20260425T082939
CREATED:20210122T165426Z
LAST-MODIFIED:20210426T214056Z
UID:1542-1617901200-1617908400@countryclubview.org
SUMMARY:Food Truck - New Gourmet Delight
DESCRIPTION:New Gourmet Delight — Text in orders and time slot to 571.338.7020. You can also order at truck.
URL:https://countryclubview.org/calitem/food-truck-11/
LOCATION:Intersection of Portsmouth & Buckingham Roads\, Fairfax\, Virginia\, 22032
END:VEVENT
BEGIN:VEVENT
DTSTART;VALUE=DATE:20210328
DTEND;VALUE=DATE:20210329
DTSTAMP:20260425T082940
CREATED:20201207T195514Z
LAST-MODIFIED:20210319T002445Z
UID:201-1616889600-1616975999@countryclubview.org
SUMMARY:2021 Newsletter #1 Distribution
DESCRIPTION:Newsletters will be distributed to CCVCA members.
URL:https://countryclubview.org/calitem/2021-newsletter-1-distribution/
LOCATION:Virginia
END:VEVENT
BEGIN:VEVENT
DTSTART;TZID=America/New_York:20210325T163000
DTEND;TZID=America/New_York:20210325T190000
DTSTAMP:20260425T082940
CREATED:20210325T200834Z
LAST-MODIFIED:20210325T200932Z
UID:2187-1616689800-1616698800@countryclubview.org
SUMMARY:Food Truck
DESCRIPTION:Margarets Soul Food \nYou can preorder Goodfynd.com Margarets Soul food truck\, or just walk up or call order in: 703-608-9226.
URL:https://countryclubview.org/calitem/food-truck-7/
LOCATION:Intersection of Portsmouth & Buckingham Roads\, Fairfax\, Virginia\, 22032
END:VEVENT
BEGIN:VEVENT
DTSTART;TZID=America/New_York:20210322T193000
DTEND;TZID=America/New_York:20210322T210000
DTSTAMP:20260425T082940
CREATED:20201207T190120Z
LAST-MODIFIED:20210201T045255Z
UID:171-1616441400-1616446800@countryclubview.org
SUMMARY:Board Meeting
DESCRIPTION:
URL:https://countryclubview.org/calitem/board-meeting-3/
LOCATION:Virginia
END:VEVENT
BEGIN:VEVENT
DTSTART;TZID=America/New_York:20210318T170000
DTEND;TZID=America/New_York:20210318T190000
DTSTAMP:20260425T082940
CREATED:20210122T165253Z
LAST-MODIFIED:20210426T215748Z
UID:1540-1616086800-1616094000@countryclubview.org
SUMMARY:Food Truck - Roaming Coyote Grill
DESCRIPTION:Roaming Coyote Grille
URL:https://countryclubview.org/calitem/food-truck-10/
LOCATION:Intersection of Portsmouth & Buckingham Roads\, Fairfax\, Virginia\, 22032
END:VEVENT
BEGIN:VEVENT
DTSTART;VALUE=DATE:20210315
DTEND;VALUE=DATE:20210316
DTSTAMP:20260425T082940
CREATED:20201207T210438Z
LAST-MODIFIED:20201207T212834Z
UID:217-1615766400-1615852799@countryclubview.org
SUMMARY:Scholarship Application Deadline
DESCRIPTION:Last day for graduating high school seniors of CCVCA members (whose parents paid dues prior to March 15\, 2021) to submit their Paul A. Maltagliati Memorial Scholarship application. Contact: Bob Coffin.
URL:https://countryclubview.org/calitem/scholarship-application-deadline/
LOCATION:Virginia
END:VEVENT
BEGIN:VEVENT
DTSTART;TZID=America/New_York:20210311T170000
DTEND;TZID=America/New_York:20210311T193000
DTSTAMP:20260425T082940
CREATED:20210122T165016Z
LAST-MODIFIED:20210426T215538Z
UID:1536-1615482000-1615491000@countryclubview.org
SUMMARY:Food Truck - Little Lady Grill
DESCRIPTION:Little Lady Grill \nPlease pre-order by calling or texting 703-475-4576.
URL:https://countryclubview.org/calitem/food-truck-8/
LOCATION:Intersection of Portsmouth & Buckingham Roads\, Fairfax\, Virginia\, 22032
END:VEVENT
BEGIN:VEVENT
DTSTART;TZID=America/New_York:20210304T163000
DTEND;TZID=America/New_York:20210304T190000
DTSTAMP:20260425T082940
CREATED:20210304T185407Z
LAST-MODIFIED:20210426T214541Z
UID:1772-1614875400-1614884400@countryclubview.org
SUMMARY:Food Truck - Mazza Kitchen
DESCRIPTION:Mazza Kitchen
URL:https://countryclubview.org/calitem/food-truck-6/
LOCATION:Intersection of Portsmouth & Buckingham Roads\, Fairfax\, Virginia\, 22032
END:VEVENT
BEGIN:VEVENT
DTSTART;TZID=America/New_York:20210225T163000
DTEND;TZID=America/New_York:20210225T183000
DTSTAMP:20260425T082940
CREATED:20210122T163952Z
LAST-MODIFIED:20210122T163952Z
UID:1530-1614270600-1614277800@countryclubview.org
SUMMARY:Food Truck
DESCRIPTION:From Tuscany with Love \nWalk ups only (no pre-orders).
URL:https://countryclubview.org/calitem/food-truck-5/
LOCATION:Intersection of Portsmouth & Buckingham Roads\, Fairfax\, Virginia\, 22032
END:VEVENT
BEGIN:VEVENT
DTSTART;TZID=America/New_York:20210222T193000
DTEND;TZID=America/New_York:20210222T210000
DTSTAMP:20260425T082940
CREATED:20201207T190032Z
LAST-MODIFIED:20210201T045623Z
UID:169-1614022200-1614027600@countryclubview.org
SUMMARY:Board Meeting
DESCRIPTION:
URL:https://countryclubview.org/calitem/board-meeting-2/
LOCATION:Virginia
END:VEVENT
BEGIN:VEVENT
DTSTART;TZID=America/New_York:20210128T170000
DTEND;TZID=America/New_York:20210128T190000
DTSTAMP:20260425T082940
CREATED:20210104T005029Z
LAST-MODIFIED:20210104T005029Z
UID:1316-1611853200-1611860400@countryclubview.org
SUMMARY:Food Truck
DESCRIPTION:Margarets Soul Food
URL:https://countryclubview.org/calitem/food-truck-4/
LOCATION:Intersection of Portsmouth & Buckingham Roads\, Fairfax\, Virginia\, 22032
END:VEVENT
BEGIN:VEVENT
DTSTART;TZID=America/New_York:20210125T193000
DTEND;TZID=America/New_York:20210125T210000
DTSTAMP:20260425T082940
CREATED:20201207T185925Z
LAST-MODIFIED:20210201T045430Z
UID:167-1611603000-1611608400@countryclubview.org
SUMMARY:Board Meeting
DESCRIPTION:
URL:https://countryclubview.org/calitem/board-meeting/
LOCATION:Virginia
END:VEVENT
BEGIN:VEVENT
DTSTART;TZID=America/New_York:20210121T170000
DTEND;TZID=America/New_York:20210121T190000
DTSTAMP:20260425T082940
CREATED:20210104T004919Z
LAST-MODIFIED:20210104T004919Z
UID:1314-1611248400-1611255600@countryclubview.org
SUMMARY:Food Truck
DESCRIPTION:Mazza Kitchen
URL:https://countryclubview.org/calitem/food-truck-3/
LOCATION:Intersection of Portsmouth & Buckingham Roads\, Fairfax\, Virginia\, 22032
END:VEVENT
BEGIN:VEVENT
DTSTART;TZID=America/New_York:20210114T163000
DTEND;TZID=America/New_York:20210114T190000
DTSTAMP:20260425T082940
CREATED:20210104T003805Z
LAST-MODIFIED:20210114T212135Z
UID:1312-1610641800-1610650800@countryclubview.org
SUMMARY:Food Truck
DESCRIPTION:Mazza Kitchen \nOrder ahead: ordering.app/mazzakitchen
URL:https://countryclubview.org/calitem/food-truck-2/
LOCATION:Intersection of Portsmouth & Buckingham Roads\, Fairfax\, Virginia\, 22032
END:VEVENT
BEGIN:VEVENT
DTSTART;TZID=America/New_York:20210107T163000
DTEND;TZID=America/New_York:20210107T183000
DTSTAMP:20260425T082940
CREATED:20210103T235812Z
LAST-MODIFIED:20210105T214211Z
UID:1308-1610037000-1610044200@countryclubview.org
SUMMARY:Food Truck
DESCRIPTION:From Tuscany with Love  Walk ups only (no pre-orders).
URL:https://countryclubview.org/calitem/food-truck/
LOCATION:Intersection of Portsmouth & Buckingham Roads\, Fairfax\, Virginia\, 22032
END:VEVENT
BEGIN:VEVENT
DTSTART;VALUE=DATE:20210101
DTEND;VALUE=DATE:20210316
DTSTAMP:20260425T082940
CREATED:20201207T220416Z
LAST-MODIFIED:20201207T220416Z
UID:233-1609459200-1615852799@countryclubview.org
SUMMARY:2021 Scholarship Application Available
DESCRIPTION:Graduating high school seniors of CCVCA members (whose parents paid dues prior to March 15\, 2021) are eligible to apply for the Paul A. Maltagliati Memorial Scholarship. The deadline to submit the application and required documents is March 15\, 2021. Contact: Bob Coffin.
URL:https://countryclubview.org/calitem/2021-scholarship-application-available/
LOCATION:Virginia
END:VEVENT
BEGIN:VEVENT
DTSTART;VALUE=DATE:20210101
DTEND;VALUE=DATE:20210301
DTSTAMP:20260425T082940
CREATED:20201207T205429Z
LAST-MODIFIED:20201207T232206Z
UID:215-1609459200-1614556799@countryclubview.org
SUMMARY:2021 CCVCA Membership Campaign
DESCRIPTION:Membership applications will be delivered to all neighbors in January. An online fillable form will also be available. Return completed application and check to your Block Captain or mail to: CCVCA\, P.O. Box 7074\, Fairfax Station\, VA 22039-7074. If you prefer to use PayPal\, scholarship donations and membership payments can be made thru the CCVCA website. Contact: Diana Michel.
URL:https://countryclubview.org/calitem/2021-ccvca-membership-campaign/
LOCATION:Virginia
END:VEVENT
BEGIN:VEVENT
DTSTART;TZID=America/New_York:20201219T180000
DTEND;TZID=America/New_York:20201219T220000
DTSTAMP:20260425T082940
CREATED:20201207T030013Z
LAST-MODIFIED:20201217T223410Z
UID:141-1608400800-1608415200@countryclubview.org
SUMMARY:Holiday Decorating Contest
DESCRIPTION:More Details Members of the Country Club View Women’s Club will be driving around the neighborhood and judging from 7:00 pm-9:00 pm\, so get your lights turned on by 6:00 pm and leave them on until 10:00 pm! Only CCVCA members are eligible to win an award. Awards: 1st Place–$50\, 2nd Place–$35\, 3rd Place–$25. All residents of Country Club View are encouraged to decorate! Rain date is December 20. You can email ccvcafx@gmail.com if you want to check your membership status for 2020 (or to submit your membership dues early for 2021!). (Membership Form)
URL:https://countryclubview.org/calitem/holiday-decorating-contest/
LOCATION:Country Club View\, Fairfax\, Virginia\, 22032
END:VEVENT
BEGIN:VEVENT
DTSTART;VALUE=DATE:20201201
DTEND;VALUE=DATE:20201202
DTSTAMP:20260425T082940
CREATED:20201207T195155Z
LAST-MODIFIED:20201209T040223Z
UID:196-1606780800-1606867199@countryclubview.org
SUMMARY:2020 Newsletter #4 Distribution
DESCRIPTION:December newsletters distributed to CCVCA members.
URL:https://countryclubview.org/calitem/2020-newsletter-4-distribution/
LOCATION:Virginia
END:VEVENT
BEGIN:VEVENT
DTSTART;VALUE=DATE:20201201
DTEND;VALUE=DATE:20210102
DTSTAMP:20260425T082940
CREATED:20201207T213135Z
LAST-MODIFIED:20201207T213135Z
UID:227-1606780800-1609545599@countryclubview.org
SUMMARY:Happy Holidays!
DESCRIPTION:Wishing everyone a happy and safe holiday season!
URL:https://countryclubview.org/calitem/happy-holidays/
LOCATION:Virginia
END:VEVENT
END:VCALENDAR