BEGIN:VCALENDAR
VERSION:2.0
PRODID:-//Country Club View Civic Association - ECPv6.15.20//NONSGML v1.0//EN
CALSCALE:GREGORIAN
METHOD:PUBLISH
X-ORIGINAL-URL:https://countryclubview.org
X-WR-CALDESC:Events for Country Club View Civic Association
REFRESH-INTERVAL;VALUE=DURATION:PT1H
X-Robots-Tag:noindex
X-PUBLISHED-TTL:PT1H
BEGIN:VTIMEZONE
TZID:America/New_York
BEGIN:DAYLIGHT
TZOFFSETFROM:-0500
TZOFFSETTO:-0400
TZNAME:EDT
DTSTART:20250309T070000
END:DAYLIGHT
BEGIN:STANDARD
TZOFFSETFROM:-0400
TZOFFSETTO:-0500
TZNAME:EST
DTSTART:20251102T060000
END:STANDARD
BEGIN:DAYLIGHT
TZOFFSETFROM:-0500
TZOFFSETTO:-0400
TZNAME:EDT
DTSTART:20260308T070000
END:DAYLIGHT
BEGIN:STANDARD
TZOFFSETFROM:-0400
TZOFFSETTO:-0500
TZNAME:EST
DTSTART:20261101T060000
END:STANDARD
BEGIN:DAYLIGHT
TZOFFSETFROM:-0500
TZOFFSETTO:-0400
TZNAME:EDT
DTSTART:20270314T070000
END:DAYLIGHT
BEGIN:STANDARD
TZOFFSETFROM:-0400
TZOFFSETTO:-0500
TZNAME:EST
DTSTART:20271107T060000
END:STANDARD
END:VTIMEZONE
BEGIN:VEVENT
DTSTART;TZID=America/New_York:20260423T193000
DTEND;TZID=America/New_York:20260423T203000
DTSTAMP:20260423T192252
CREATED:20260314T224430Z
LAST-MODIFIED:20260423T212012Z
UID:6725-1776972600-1776976200@countryclubview.org
SUMMARY:2026 CCVCA Spring Membership General Meeting
DESCRIPTION:All CCVCA members are invited to attend our Spring and Fall membership meetings\, held at St. Mary’s Church in Farrell Hall at 5222 Sideburn Road.\n\n\nDuring our annual Spring meeting we conduct officer elections as well as share updates on current agenda items like Membership Drive\, Events\, and Scholarship. Please email ccvcafx@gmail.com if you cannot attend and would like to submit a Proxy Ballot. \nThis Spring we will hear from invited guest speaker David Taylor with updates on the Erickson Senior Living’s project nearby on Braddock Road. \nIf you haven’t joined yet\, please take a moment now to submit your 2026 CCVCA Membership Application and $20 annual dues.
URL:https://countryclubview.org/calitem/ccvca-spring-membership-general-meeting/
LOCATION:St. Mary of Sorrows Catholic Church\, 5222 Sideburn Rd (Farrell Hall)\, Fairfax\, Virginia\, 22032
END:VEVENT
BEGIN:VEVENT
DTSTART;VALUE=DATE:20260525
DTEND;VALUE=DATE:20260526
DTSTAMP:20260423T192252
CREATED:20260314T220003Z
LAST-MODIFIED:20260314T220719Z
UID:6705-1779667200-1779753599@countryclubview.org
SUMMARY:Memorial Day Holiday
DESCRIPTION:Military.com | By Amy Bushatz\nUpdated May 08\, 2024\nClick here for full article.\nObserved the last Monday in May\, Memorial Day honors those who lost their lives while in service to the United States during peace and war. \nMemorial Day is not a celebration but a solemn day to reflect on veterans and military personnel who are deceased. \nWhat Is The Meaning Of Memorial Day In The U.S.?\nMemorial Day\, observed on the last Monday of May\, is a day to honor members of the military who were killed in service\, both during deployments overseas or in training and service in the U.S. Across the country\, Americans spend the day visiting cemeteries\, attending Memorial Day events and otherwise honoring those who lost their lives in service to the country. The day also traditionally marks the first unofficial day of summer.
URL:https://countryclubview.org/calitem/memorial-day-holiday/
LOCATION:VA
END:VEVENT
BEGIN:VEVENT
DTSTART;VALUE=DATE:20260526
DTEND;VALUE=DATE:20260527
DTSTAMP:20260423T192252
CREATED:20260314T215446Z
LAST-MODIFIED:20260314T215446Z
UID:6698-1779753600-1779839999@countryclubview.org
SUMMARY:FCPS Student Holiday (No School)
DESCRIPTION:Click here for 2025-2026 FCPS Calendar.
URL:https://countryclubview.org/calitem/fcps-student-holiday-no-school-8/
LOCATION:VA
END:VEVENT
BEGIN:VEVENT
DTSTART;VALUE=DATE:20260528
DTEND;VALUE=DATE:20260529
DTSTAMP:20260423T192252
CREATED:20260314T215540Z
LAST-MODIFIED:20260314T215540Z
UID:6700-1779926400-1780012799@countryclubview.org
SUMMARY:FCPS Student Holiday (No School)
DESCRIPTION:Click here for 2025-2026 FCPS Calendar.
URL:https://countryclubview.org/calitem/fcps-student-holiday-no-school-9/
LOCATION:VA
END:VEVENT
BEGIN:VEVENT
DTSTART;VALUE=DATE:20260617
DTEND;VALUE=DATE:20260618
DTSTAMP:20260423T192252
CREATED:20260314T215747Z
LAST-MODIFIED:20260314T215836Z
UID:6702-1781654400-1781740799@countryclubview.org
SUMMARY:FCPS Last Day for Regular Classes / Early Release
DESCRIPTION:Click here for 2025-2026 FCPS Calendar.
URL:https://countryclubview.org/calitem/fcps-last-day-for-regular-classes-early-release/
LOCATION:VA
END:VEVENT
END:VCALENDAR