BEGIN:VCALENDAR
VERSION:2.0
PRODID:-//Country Club View Civic Association - ECPv6.15.20//NONSGML v1.0//EN
CALSCALE:GREGORIAN
METHOD:PUBLISH
X-WR-CALNAME:Country Club View Civic Association
X-ORIGINAL-URL:https://countryclubview.org
X-WR-CALDESC:Events for Country Club View Civic Association
REFRESH-INTERVAL;VALUE=DURATION:PT1H
X-Robots-Tag:noindex
X-PUBLISHED-TTL:PT1H
BEGIN:VTIMEZONE
TZID:America/New_York
BEGIN:DAYLIGHT
TZOFFSETFROM:-0500
TZOFFSETTO:-0400
TZNAME:EDT
DTSTART:20210314T070000
END:DAYLIGHT
BEGIN:STANDARD
TZOFFSETFROM:-0400
TZOFFSETTO:-0500
TZNAME:EST
DTSTART:20211107T060000
END:STANDARD
BEGIN:DAYLIGHT
TZOFFSETFROM:-0500
TZOFFSETTO:-0400
TZNAME:EDT
DTSTART:20220313T070000
END:DAYLIGHT
BEGIN:STANDARD
TZOFFSETFROM:-0400
TZOFFSETTO:-0500
TZNAME:EST
DTSTART:20221106T060000
END:STANDARD
BEGIN:DAYLIGHT
TZOFFSETFROM:-0500
TZOFFSETTO:-0400
TZNAME:EDT
DTSTART:20230312T070000
END:DAYLIGHT
BEGIN:STANDARD
TZOFFSETFROM:-0400
TZOFFSETTO:-0500
TZNAME:EST
DTSTART:20231105T060000
END:STANDARD
BEGIN:DAYLIGHT
TZOFFSETFROM:-0500
TZOFFSETTO:-0400
TZNAME:EDT
DTSTART:20240310T070000
END:DAYLIGHT
BEGIN:STANDARD
TZOFFSETFROM:-0400
TZOFFSETTO:-0500
TZNAME:EST
DTSTART:20241103T060000
END:STANDARD
END:VTIMEZONE
BEGIN:VEVENT
DTSTART;VALUE=DATE:20230704
DTEND;VALUE=DATE:20230705
DTSTAMP:20260425T112946
CREATED:20230627T193531Z
LAST-MODIFIED:20230627T193531Z
UID:3974-1688428800-1688515199@countryclubview.org
SUMMARY:Celebrate July 4th in Washington\, DC!
DESCRIPTION:Click here for local events. \nThe nation’s capital is an exciting place to be during the week of July 4th. Join the many patriotic festivities taking place in honor of Independence Day\, visit the nation’s memorials dedicated to those who served our country\, or enjoy recreational opportunities in one of the many DC area national parks. \n\n\nSmithsonian Folklife Festival\nThe annual Smithsonian Folklife Festival\, co-sponsored by the National Park Service\, highlights the culture of the Ozarks and “Creative Encounters.” On Independence Day the festival will be open on the National Mall from 11 a.m. to 9:30 p.m. between 12th and 14th streets\, in front of the National Museum of American History. For more information\, please visit: www.festival.si.edu or call 202-633-6440. \nNational Independence Day Parade\nMarching bands\, fife and drum corps\, floats\, military units\, giant balloons\, equestrian\, drill teams and more celebrate Independence Day in this patriotic\, flag-waving\, red\, white and blue celebration of America’s birthday! 11:45 a.m. – 2 p.m. along Constitution Avenue NW from 7th Street NW to 17th Street NW. For additional information\, visit www.july4thparade.com. \nSylvan Theater Family Activity Area\nDid you know the cornerstone of the Washington Monument was laid on Independence Day in 1848\, 175 years ago? Visit the Sylvan Theater Family Activity Area on the southeast grounds of the monument for activities and a scavenger hunt about the history of the city’s most famous monument. You can also complete your Independence Day Junior Ranger booklet full of family-friendly\, fun activities to earn a special Junior Ranger badge! Stop by from 11 a.m. to 6 p.m. on Independence Day. \nA Capitol Fourth Concert\nThis star-studded salute to Independence Day is broadcast live from the West Lawn of the United States Capitol and is free and open to the public. Gates open at 3 p.m. More at www.pbs.org/a-capitol-fourth. \nFireworks on the National Mall\nThe National Park Service will once again host the annual Independence Day fireworks celebration on the National Mall\, the nation’s most important civic space and home to more than a dozen memorials that commemorate great Americans and significant events in our nation’s history. The display will be held on Tuesday\, July 4\, starting at 9:09 p.m. and will be launched from both sides of the Lincoln Memorial Reflecting Pool. \nAdditional details for attending the July 4 fireworks display\, including access points along the National Mall\, prohibited items and road closures\, will be released later this month. Complete information and updates on the Independence Day celebration can be found at www.nps.gov/foju. \n\n\n\n\nFind Ranger Programs in DC Area Parks\nVisiting DC for your July 4th holiday or looking for something to do in the local area? Set the calendar to July to check out ranger programs and more July 4th events at national parks throughout the DC area happening around or on Independence Day.
URL:https://countryclubview.org/calitem/celebrate-july-4th-in-washington-dc/
END:VEVENT
BEGIN:VEVENT
DTSTART;VALUE=DATE:20230704
DTEND;VALUE=DATE:20230705
DTSTAMP:20260425T112946
CREATED:20230627T172624Z
LAST-MODIFIED:20230627T193637Z
UID:3938-1688428800-1688515199@countryclubview.org
SUMMARY:4th of July
DESCRIPTION:Click here for local events. \n\n\n 
URL:https://countryclubview.org/calitem/4th-of-july/
END:VEVENT
BEGIN:VEVENT
DTSTART;TZID=America/New_York:20230702T163000
DTEND;TZID=America/New_York:20230702T223000
DTSTAMP:20260425T112946
CREATED:20230627T173034Z
LAST-MODIFIED:20230702T204750Z
UID:3940-1688315400-1688337000@countryclubview.org
SUMMARY:Fairfax City Evening Show and Fireworks
DESCRIPTION:EVENING SHOW & FIREWORKS \nJuly 2\, 2023\n6:30PM – 10:30PM\nFairfax High School Stadium\n3501 Lion Run\, Fairfax\, VA \nIMPORTANT NOTICE: This year there will be BAG CHECKS to enter the event area. All bags and coolers will be subject to inspection. Bag checks will begin at 4:30pm and continue until 10:30pm\, when the event ends. \nClick here for more local events.
URL:https://countryclubview.org/calitem/fairfax-city-evening-show-and-fireworks/
LOCATION:Fairfax High School\, 3501 Lion Run\, Fairfax\, VA\, United States
END:VEVENT
BEGIN:VEVENT
DTSTART;TZID=America/New_York:20230701T210000
DTEND;TZID=America/New_York:20230701T213000
DTSTAMP:20260425T112946
CREATED:20230627T165432Z
LAST-MODIFIED:20230627T191703Z
UID:3928-1688245200-1688247000@countryclubview.org
SUMMARY:Fireworks at Country Club of Fairfax
DESCRIPTION:The Country Club of Fairfax’s fireworks display will begin around 9:00 pm on Saturday\, July 1. CCV neighbors often watch from their own homes (if skyline is unobstructed by trees) and others walk up to Ox Road and set up chairs along the sidewalk. For those who drive up\, please do not park on Ox Road but instead on a side road (Portsmouth\, Marlborough\, Ames). Some viewers watch from University Mall and the Salvation Army. FYI: CCV’s close proximity to the fireworks can be overwhelming for people of all ages and pets\, so plan accordingly for loud bangs that last about 30+ minutes! \nClick here for more local events.
URL:https://countryclubview.org/calitem/fireworks-at-country-club-of-fairfax/
LOCATION:Country Club of Fairfax\, 5110 Ox Road\, Fairfax\, VA
END:VEVENT
BEGIN:VEVENT
DTSTART;TZID=America/New_York:20230701T180000
DTEND;TZID=America/New_York:20230701T220000
DTSTAMP:20260425T112946
CREATED:20230627T185344Z
LAST-MODIFIED:20230627T191817Z
UID:3953-1688234400-1688248800@countryclubview.org
SUMMARY:Workhouse Arts Center Fireworks
DESCRIPTION:Date: Saturday July 1\, 2023\nVenue: Workhouse Arts Center\nGates open at 6:00pm\, fireworks begin at dark- approximately 9:15pm\nVIP Tickets include 5:00pm early site access \nJuly 2023 Fireworks Ticketing Options\nOn Campus Reserved Parking \n\n$40 per vehicle\nIncludes General Admission Ticketing for all persons in your vehicle\n\nGeneral Admission Ticketing \n\nFree admission to this event\, and all are welcome!\nFree concert under the Rizer Pavilion featuring the music of The Radio Sparks band\nFree access to the Workhouse quad to begin the celebration starting at 6:00 PM\nFree fireworks display many viewing areas on campus\nFree access to artist studios\, galleries\, and the Lucy Burns Museum\nFree family friendly lawn games and self-guided activities\nFood trucks and beverage options (food\, soft drinks\, craft beer\, and wine available for a la carte purchase)\n\n*does not include a reserved (unassigned) parking spot on campus which is priced per vehicle\, not per person; be sure to purchase a parking pass in advance\, if you are planning to park on campus; in past years we have reached sold-out status for parking \nClick here for more local events.
URL:https://countryclubview.org/calitem/workhouse-arts-center-fireworks/
LOCATION:Workhouse Arts Center\, 9518 Workhouse Way\, Lorton\, VA\, 22079\, United States
END:VEVENT
BEGIN:VEVENT
DTSTART;TZID=America/New_York:20230626T193000
DTEND;TZID=America/New_York:20230626T210000
DTSTAMP:20260425T112946
CREATED:20230102T034705Z
LAST-MODIFIED:20230102T034705Z
UID:3645-1687807800-1687813200@countryclubview.org
SUMMARY:Board Meeting
DESCRIPTION:
URL:https://countryclubview.org/calitem/board-meeting-21/
END:VEVENT
BEGIN:VEVENT
DTSTART;TZID=America/New_York:20230624T080000
DTEND;TZID=America/New_York:20230624T120000
DTSTAMP:20260425T112946
CREATED:20230627T201641Z
LAST-MODIFIED:20230713T142312Z
UID:3980-1687593600-1687608000@countryclubview.org
SUMMARY:Free Share Saturday
DESCRIPTION:For more information see Free Share Saturday.
URL:https://countryclubview.org/calitem/free-share-saturday-3/
LOCATION:Country Club View\, Fairfax\, Virginia\, 22032
END:VEVENT
BEGIN:VEVENT
DTSTART;TZID=America/New_York:20230529T104500
DTEND;TZID=America/New_York:20230529T120000
DTSTAMP:20260425T112946
CREATED:20230102T041308Z
LAST-MODIFIED:20230526T185434Z
UID:3673-1685357100-1685361600@countryclubview.org
SUMMARY:Memorial Day Ceremony at CCV Park
DESCRIPTION:CCVCA\nMemorial Day Ceremony\nMonday\, May 29\n10:45AM\nCountry Club View Park\n10609 Henrico\n\nBring your own lawn chair.\nIf you have an American flag\, please bring that too.\n\nSpecial Guest – Braddock District Supervisor James Walkinshaw\nKeynote Speaker – Robert W. Cosgriff\, CDR USN (Ret)\n\nJohn Hughes will begin and end the ceremony playing his bagpipes.\n\nBS Troop 1865 will act as Color Guard.\nGS Troop 54105 will perform patriotic songs.\n \nAll CCV neighbors and friends are welcome to attend.
URL:https://countryclubview.org/calitem/memorial-day-ceremony-at-ccv-park-2/
LOCATION:Country Club View Park\, 10609 Henrico Street\, Fairfax\, VA
END:VEVENT
BEGIN:VEVENT
DTSTART;TZID=America/New_York:20230527T080000
DTEND;TZID=America/New_York:20230527T120000
DTSTAMP:20260425T112946
CREATED:20230526T185700Z
LAST-MODIFIED:20230526T185817Z
UID:3876-1685174400-1685188800@countryclubview.org
SUMMARY:Free Share Saturday
DESCRIPTION:For more information see Free Share Saturday.
URL:https://countryclubview.org/calitem/free-share-saturday-2/
LOCATION:Country Club View\, Fairfax\, Virginia\, 22032
END:VEVENT
BEGIN:VEVENT
DTSTART;TZID=America/New_York:20230522T193000
DTEND;TZID=America/New_York:20230522T210000
DTSTAMP:20260425T112946
CREATED:20230102T034618Z
LAST-MODIFIED:20230102T034618Z
UID:3643-1684783800-1684789200@countryclubview.org
SUMMARY:Board Meeting
DESCRIPTION:
URL:https://countryclubview.org/calitem/board-meeting-20/
END:VEVENT
BEGIN:VEVENT
DTSTART;TZID=America/New_York:20230506T080000
DTEND;TZID=America/New_York:20230506T120000
DTSTAMP:20260425T112946
CREATED:20230102T041045Z
LAST-MODIFIED:20230102T041045Z
UID:3671-1683360000-1683374400@countryclubview.org
SUMMARY:Spring Yard Sale
DESCRIPTION:The CCVCA annual spring community yard sale will take place on Saturday\, May 6\, with advertised hours from 8:00 am to noon. Participating households are encouraged to get their stuff set out early and it’s at their discretion when to pack up for the day. Put out a decorative sign\, attach balloons to your mailbox\, or display a box of free items to attract buyers to stop and shop! If you are interested in assisting with yard sale activities in the neighborhood\, please Contact Us!
URL:https://countryclubview.org/calitem/spring-yard-sale-3/
LOCATION:Country Club View\, Fairfax\, Virginia\, 22032
END:VEVENT
BEGIN:VEVENT
DTSTART;TZID=America/New_York:20230429T080000
DTEND;TZID=America/New_York:20230429T120000
DTSTAMP:20260425T112946
CREATED:20230330T131609Z
LAST-MODIFIED:20230413T234905Z
UID:3795-1682755200-1682769600@countryclubview.org
SUMMARY:Free Share Saturday
DESCRIPTION:For more information see Free Share Saturday.
URL:https://countryclubview.org/calitem/free-share-saturday/
LOCATION:Country Club View\, Fairfax\, Virginia\, 22032
END:VEVENT
BEGIN:VEVENT
DTSTART;TZID=America/New_York:20230424T193000
DTEND;TZID=America/New_York:20230424T210000
DTSTAMP:20260425T112946
CREATED:20230102T034435Z
LAST-MODIFIED:20230102T034435Z
UID:3641-1682364600-1682370000@countryclubview.org
SUMMARY:General Membership Meeting
DESCRIPTION:
URL:https://countryclubview.org/calitem/general-membership-meeting/
LOCATION:St. Mary of Sorrows Catholic Church\, 5222 Sideburn Rd (Farrell Hall)\, Fairfax\, Virginia\, 22032
END:VEVENT
BEGIN:VEVENT
DTSTART;TZID=America/New_York:20230422T100000
DTEND;TZID=America/New_York:20230422T120000
DTSTAMP:20260425T112946
CREATED:20230102T040800Z
LAST-MODIFIED:20240114T011338Z
UID:3669-1682157600-1682164800@countryclubview.org
SUMMARY:Stream Cleanup / Earth Day
DESCRIPTION:On April 22\, 2023\, the CCV Stream Cleanup will be held from 10:00 am – 12:00 pm. Celebrate Earth Day (April 22) by showing some love for our local stream\, Sideburn branch of Pohick Creek! Please join us in reducing the amount of trash in the Country Club View Park stream to prevent it from continuing downstream! Last year there were basketballs\, tennis balls\, tubing\, and even rusty chairs uncovered from the muck and brought out to be collected by the Park Authority. This is a great opportunity for students to earn service hours. \nTwo locations to meet: CCV Park by the tennis courts or the park entrance off of Grinnell Street. Dress appropriately for being in the woods and around the creek–wear gloves\, long pants\, and shoes that can get muddy. CCVCA will provide trash bags for volunteers and treats to enjoy after the cleanup. \nDate subject to change due to weather.
URL:https://countryclubview.org/calitem/stream-cleanup-earth-day/
LOCATION:Country Club View Park\, 10609 Henrico Street\, Fairfax\, VA
END:VEVENT
BEGIN:VEVENT
DTSTART;TZID=America/New_York:20230327T193000
DTEND;TZID=America/New_York:20230327T210000
DTSTAMP:20260425T112946
CREATED:20230102T034312Z
LAST-MODIFIED:20230102T034312Z
UID:3639-1679945400-1679950800@countryclubview.org
SUMMARY:Board Meeting
DESCRIPTION:
URL:https://countryclubview.org/calitem/board-meeting-19/
END:VEVENT
BEGIN:VEVENT
DTSTART;VALUE=DATE:20230322
DTEND;VALUE=DATE:20230323
DTSTAMP:20260425T112946
CREATED:20230102T035903Z
LAST-MODIFIED:20230315T122241Z
UID:3661-1679443200-1679529599@countryclubview.org
SUMMARY:Newsletter #1
DESCRIPTION:
URL:https://countryclubview.org/calitem/newsletter-1-2/
END:VEVENT
BEGIN:VEVENT
DTSTART;TZID=America/New_York:20230227T193000
DTEND;TZID=America/New_York:20230227T210000
DTSTAMP:20260425T112946
CREATED:20230102T034216Z
LAST-MODIFIED:20230102T034216Z
UID:3637-1677526200-1677531600@countryclubview.org
SUMMARY:Board Meeting
DESCRIPTION:
URL:https://countryclubview.org/calitem/board-meeting-18/
END:VEVENT
BEGIN:VEVENT
DTSTART;TZID=America/New_York:20230123T193000
DTEND;TZID=America/New_York:20230123T210000
DTSTAMP:20260425T112946
CREATED:20230102T033912Z
LAST-MODIFIED:20230124T142058Z
UID:3635-1674502200-1674507600@countryclubview.org
SUMMARY:Board Meeting
DESCRIPTION:
URL:https://countryclubview.org/calitem/board-meeting-17/
END:VEVENT
BEGIN:VEVENT
DTSTART;VALUE=DATE:20230101
DTEND;VALUE=DATE:20230301
DTSTAMP:20260425T112946
CREATED:20221224T205344Z
LAST-MODIFIED:20221224T205432Z
UID:3607-1672531200-1677628799@countryclubview.org
SUMMARY:2023 CCVCA Membership Drive
DESCRIPTION:The 2023 Membership Drive begins the first week of January\, and all residents will receive the paper membership application via their block captain. An online application also is available. For 2022 we had 251 members out of 477 homes in Country Club View. We hope that all of you who joined last year will choose to join again this year. Your membership dues are what funds all the great activities throughout the year. Remember that fantastic ice cream social with the really cute alpacas and the face painter? That is only possible with the support of a lot of members. The Board has set a goal of exceeding 260 members this year – so please join and talk to your neighbors about joining\, too!
URL:https://countryclubview.org/calitem/2023-ccvca-membership-drive/
END:VEVENT
BEGIN:VEVENT
DTSTART;VALUE=DATE:20230101
DTEND;VALUE=DATE:20230318
DTSTAMP:20260425T112946
CREATED:20230102T054449Z
LAST-MODIFIED:20230315T125522Z
UID:3702-1672531200-1679097599@countryclubview.org
SUMMARY:Scholarship Information -- Deadline Extended
DESCRIPTION:This year CCVCA will award 1-year\, non-renewable scholarship(s) to graduating high school senior(s) whose family is a current member of the civic association. The Paul A. Maltagliati Memorial College Scholarship is awarded based on academic achievement\, participation in school and community activities\, a short essay\, and an interview. The Scholarship Application provides details about the process and required documentation. \nAll CCVCA 2023 graduating seniors are eligible to apply\, regardless of high school attended or home schooled. A signed original application with 4 copies of the application and required documentation must be received no later than March 17\, 2023. \nThe dollar amount and the number of scholarships awarded varies depending on the funds available that year. Contributions are made by CCVCA members on the annual Membership Application and those attending events like the Ice Cream Social. If you would like to make a donation to the scholarship fund\, please click here.
URL:https://countryclubview.org/calitem/scholarship-information/
END:VEVENT
BEGIN:VEVENT
DTSTART;VALUE=DATE:20230101
DTEND;VALUE=DATE:20230318
DTSTAMP:20260425T112946
CREATED:20221224T210515Z
LAST-MODIFIED:20230315T125856Z
UID:3610-1672531200-1679097599@countryclubview.org
SUMMARY:Scholarship Application Deadline -- Extended to March 17
DESCRIPTION:Last day for graduating high school seniors of CCVCA members (whose parents paid dues by March 16\, 2023) to submit their Paul A. Maltagliati Memorial Scholarship application. Contact: Bob Coffin at ntktwalr@verizon.net \nThe Scholarship Application provides details about the process and required documentation.
URL:https://countryclubview.org/calitem/scholarship-application-deadline-3/
END:VEVENT
BEGIN:VEVENT
DTSTART;VALUE=DATE:20230101
DTEND;VALUE=DATE:20230102
DTSTAMP:20260425T112946
CREATED:20221224T204615Z
LAST-MODIFIED:20221224T204615Z
UID:3604-1672531200-1672617599@countryclubview.org
SUMMARY:Happy New Year!
DESCRIPTION:
URL:https://countryclubview.org/calitem/happy-new-year-2/
END:VEVENT
BEGIN:VEVENT
DTSTART;VALUE=DATE:20221225
DTEND;VALUE=DATE:20221226
DTSTAMP:20260425T112946
CREATED:20221224T204512Z
LAST-MODIFIED:20221224T204543Z
UID:3602-1671926400-1672012799@countryclubview.org
SUMMARY:Merry Christmas and Happy Holidays!
DESCRIPTION:
URL:https://countryclubview.org/calitem/merry-christmas-and-happy-holidays-2/
END:VEVENT
BEGIN:VEVENT
DTSTART;TZID=America/New_York:20221219T180000
DTEND;TZID=America/New_York:20221219T220000
DTSTAMP:20260425T112946
CREATED:20220119T003824Z
LAST-MODIFIED:20221218T160155Z
UID:3030-1671472800-1671487200@countryclubview.org
SUMMARY:Holiday Home Decorating Contest
DESCRIPTION:Judged by a committee of Country Club View Civic Association members from 6:30-9:00 pm. Please have your lights on from 6:00-10:00 pm. Committee members will be driving throughout the neighborhood. Only CCVCA members are eligible to participate. (Membership Application) The categories for this year will be Toyland\, Traditional\, and Winter Wonderland — one winner chosen for each category. The 3 winners will each receive a gift card and a yard sign announcing their award category. \nThe inclement weather date is Tuesday\, December 20.\n2021 Winners are ineligible for an award (if display is the same as last year) but are encouraged to decorate! \nWinners will be notified after the judging has concluded.\nSign will be placed in yard of each winning home.\nPhotos will be posted online. \nSponsored by Regan Miller — 2021 Holiday Decorating Contest winner\, and newly minted real estate agent.
URL:https://countryclubview.org/calitem/holiday-home-decorating-contest/
END:VEVENT
BEGIN:VEVENT
DTSTART;VALUE=DATE:20221215
DTEND;VALUE=DATE:20221216
DTSTAMP:20260425T112946
CREATED:20220118T235419Z
LAST-MODIFIED:20220118T235419Z
UID:3002-1671062400-1671148799@countryclubview.org
SUMMARY:Newsletter #4
DESCRIPTION:
URL:https://countryclubview.org/calitem/newsletter-4/
END:VEVENT
BEGIN:VEVENT
DTSTART;TZID=America/New_York:20221205T193000
DTEND;TZID=America/New_York:20221205T210000
DTSTAMP:20260425T112946
CREATED:20220118T234847Z
LAST-MODIFIED:20220118T234847Z
UID:2994-1670268600-1670274000@countryclubview.org
SUMMARY:Board Meeting
DESCRIPTION:
URL:https://countryclubview.org/calitem/board-meeting-16/
END:VEVENT
BEGIN:VEVENT
DTSTART;TZID=America/New_York:20221030T140000
DTEND;TZID=America/New_York:20221030T170000
DTSTAMP:20260425T112946
CREATED:20221027T193519Z
LAST-MODIFIED:20221028T135548Z
UID:3439-1667138400-1667149200@countryclubview.org
SUMMARY:Halloween Festival
DESCRIPTION:NO RAIN DATE IF INCLEMENT WEATHER! \nCome to the CCV Park and enjoy the Spooky Trail and games! All are welcome to come dressed in a costume for this Halloween Festival! \nCCVCA members are encouraged to participate in the home decorating and pumpkin carving competitions — make our neighborhood a spooktacular place to visit for Halloween! \n* To participate in the home decorating and/or pumpkin carving contests\, email at least one photo of your entry to Thomas.mccurdy89@gmail.com by noon on Saturday\, October 29. You may submit both a daytime and a nighttime photo to best show your home decorations and/or carved pumpkin(s).\n* A station will be set up if you want to bring your own pumpkin and carve it at the festival. If you plan to submit your on-site carved pumpkin for the contest\, please note the voting begins at 3:00 pm.\n* Voting on home decorations and pumpkins (submitted photos and carved on-site) will be done at the festival from 3:00 pm to 5:00 pm. There will be no voting on Facebook this year. The winner of each competition will receive a prize and be given a sign to put in their yard the first two weeks of November.\n* Spooky Trail participants must sign up on-site to be led by a guide. Groups of about 10 participants will be called from the list and then staggered to maximize fun for everyone involved.\n* Yard games\, prize wheel\, selfie station\, yummy treats\, and spooky music will make the festival a memorable event for all! \nVolunteers should meet in the park at 12:30 pm to set up.\nCostume Parade — Line Up at 2:00; Parade Begins at 2:10.\nContacts: Sherrie Brady and TJ McCurdy.
URL:https://countryclubview.org/calitem/halloween-festival/
LOCATION:Country Club View Park\, 10609 Henrico Street\, Fairfax\, VA
END:VEVENT
BEGIN:VEVENT
DTSTART;TZID=America/New_York:20221030T140000
DTEND;TZID=America/New_York:20221030T170000
DTSTAMP:20260425T112946
CREATED:20220119T002316Z
LAST-MODIFIED:20221027T195040Z
UID:3022-1667138400-1667149200@countryclubview.org
SUMMARY:Halloween Spooky Trail
DESCRIPTION:Come to the CCV Park and enjoy the Spooky Trail and games! Come dressed in your costume for this festive event! \nSpooky Trail participants must sign up on-site to be led by a guide. Groups of about 10 participants will be called from the list and then staggered to maximize fun for everyone involved. \nContacts: Sherrie Brady and TJ McCurdy. \n 
URL:https://countryclubview.org/calitem/halloween-spooky-trail/
LOCATION:Country Club View Park\, 10609 Henrico Street\, Fairfax\, VA
END:VEVENT
BEGIN:VEVENT
DTSTART;TZID=America/New_York:20221030T140000
DTEND;TZID=America/New_York:20221030T141500
DTSTAMP:20260425T112946
CREATED:20221027T184735Z
LAST-MODIFIED:20221028T134841Z
UID:3433-1667138400-1667139300@countryclubview.org
SUMMARY:Halloween Costume Parade
DESCRIPTION:Line Up: 2:00 pm\nParade Begins: 2:10 pm \nThe Costume Parade around the basketball court will be the opening event for the CCVCA Halloween Festival on Sunday\, October 30. Come dressed to impress your neighbors\, friends\, and guests. If your furry friend also wants to participate\, county guidelines require pets be on a leash!
URL:https://countryclubview.org/calitem/halloween-costume-parade/
LOCATION:Country Club View Park\, 10609 Henrico Street\, Fairfax\, VA
END:VEVENT
BEGIN:VEVENT
DTSTART;TZID=America/New_York:20221029T120000
DTEND;TZID=America/New_York:20221029T120000
DTSTAMP:20260425T112946
CREATED:20221027T192716Z
LAST-MODIFIED:20221028T013515Z
UID:3434-1667044800-1667044800@countryclubview.org
SUMMARY:Halloween Pumpkin Carving Contest Photo Deadline
DESCRIPTION:To participate in the pumpkin carving competition\, please email Thomas.mccurdy89@gmail.com at least one photo of your entry by noon on Saturday\, October 29. Include the subject line “2022 CCVCA Halloween Pumpkin Carving Competition.” You may submit both a daytime and a nighttime photo to best show your carving skills. \nA station will be set up if you want to bring your own pumpkin and carve it at the festival from 2:00 pm to 5:00 pm. If you plan to submit your on-site carved pumpkin for the contest\, please note the voting begins at 3:00 pm. \nThose attending the CCVCA Halloween Festival at the park on Sunday\, October 30\, will vote on-site from 3:00 pm to 5:00 pm. The winner will receive a prize and be given a sign to put in their yard the first two weeks of November.
URL:https://countryclubview.org/calitem/halloween-pumpkin-carving-contest-photo-deadline/
END:VEVENT
END:VCALENDAR