BEGIN:VCALENDAR
VERSION:2.0
PRODID:-//Country Club View Civic Association - ECPv6.15.20//NONSGML v1.0//EN
CALSCALE:GREGORIAN
METHOD:PUBLISH
X-ORIGINAL-URL:https://countryclubview.org
X-WR-CALDESC:Events for Country Club View Civic Association
REFRESH-INTERVAL;VALUE=DURATION:PT1H
X-Robots-Tag:noindex
X-PUBLISHED-TTL:PT1H
BEGIN:VTIMEZONE
TZID:America/New_York
BEGIN:DAYLIGHT
TZOFFSETFROM:-0500
TZOFFSETTO:-0400
TZNAME:EDT
DTSTART:20230312T070000
END:DAYLIGHT
BEGIN:STANDARD
TZOFFSETFROM:-0400
TZOFFSETTO:-0500
TZNAME:EST
DTSTART:20231105T060000
END:STANDARD
BEGIN:DAYLIGHT
TZOFFSETFROM:-0500
TZOFFSETTO:-0400
TZNAME:EDT
DTSTART:20240310T070000
END:DAYLIGHT
BEGIN:STANDARD
TZOFFSETFROM:-0400
TZOFFSETTO:-0500
TZNAME:EST
DTSTART:20241103T060000
END:STANDARD
BEGIN:DAYLIGHT
TZOFFSETFROM:-0500
TZOFFSETTO:-0400
TZNAME:EDT
DTSTART:20250309T070000
END:DAYLIGHT
BEGIN:STANDARD
TZOFFSETFROM:-0400
TZOFFSETTO:-0500
TZNAME:EST
DTSTART:20251102T060000
END:STANDARD
END:VTIMEZONE
BEGIN:VEVENT
DTSTART;VALUE=DATE:20241101
DTEND;VALUE=DATE:20241102
DTSTAMP:20260424T094915
CREATED:20241014T205445Z
LAST-MODIFIED:20241014T210650Z
UID:5388-1730419200-1730505599@countryclubview.org
SUMMARY:All Saints Day (FCPS No School)
DESCRIPTION:Click here for 2024-2025 FCPS Calendar.
URL:https://countryclubview.org/calitem/all-saints-day-fcps-no-school/
END:VEVENT
BEGIN:VEVENT
DTSTART;VALUE=DATE:20241104
DTEND;VALUE=DATE:20241105
DTSTAMP:20260424T094915
CREATED:20241014T205642Z
LAST-MODIFIED:20241014T210743Z
UID:5390-1730678400-1730764799@countryclubview.org
SUMMARY:FCPS No School
DESCRIPTION:Click here for 2024-2025 FCPS Calendar.
URL:https://countryclubview.org/calitem/fcps-no-school-2/
END:VEVENT
BEGIN:VEVENT
DTSTART;VALUE=DATE:20241105
DTEND;VALUE=DATE:20241106
DTSTAMP:20260424T094915
CREATED:20241014T205709Z
LAST-MODIFIED:20241014T210922Z
UID:5392-1730764800-1730851199@countryclubview.org
SUMMARY:FCPS No School
DESCRIPTION:Click here for 2024-2025 FCPS Calendar.
URL:https://countryclubview.org/calitem/fcps-no-school-3/
END:VEVENT
BEGIN:VEVENT
DTSTART;TZID=America/New_York:20241105T060000
DTEND;TZID=America/New_York:20241105T190000
DTSTAMP:20260424T094915
CREATED:20241107T022332Z
LAST-MODIFIED:20241107T022332Z
UID:5470-1730786400-1730833200@countryclubview.org
SUMMARY:Election Day
DESCRIPTION:Polls across Virginia will close at 7:00 p.m.\, but if you’re in line to vote by 7 p.m.\, poll workers must let you vote\, not matter how long it takes. \nVoting on Election Day\nAll registered voters may vote in this election. Not sure if you are registered? Please visit the Virginia Department of Elections website. \nPolls are open from 6 a.m. to 7 p.m. on Election Day. If you are line by 7 p.m.\, you will be able to vote. \nMore Information on voting.
URL:https://countryclubview.org/calitem/election-day-3/
END:VEVENT
BEGIN:VEVENT
DTSTART;VALUE=DATE:20241111
DTEND;VALUE=DATE:20241112
DTSTAMP:20260424T094915
CREATED:20241014T211122Z
LAST-MODIFIED:20241014T211122Z
UID:5406-1731283200-1731369599@countryclubview.org
SUMMARY:Veterans Day (FCPS No School)
DESCRIPTION:Click here for 2024-2025 FCPS Calendar.
URL:https://countryclubview.org/calitem/veterans-day-fcps-no-school/
END:VEVENT
BEGIN:VEVENT
DTSTART;TZID=America/New_York:20241125T193000
DTEND;TZID=America/New_York:20241125T210000
DTSTAMP:20260424T094915
CREATED:20240114T035946Z
LAST-MODIFIED:20241027T153736Z
UID:4462-1732563000-1732568400@countryclubview.org
SUMMARY:Board Meeting
DESCRIPTION:Section Leader and Block Captain volunteers are invited to participate as non-voting members of monthly Board Meetings. Any member may inquire at Contact Us for upcoming meeting dates and times.
URL:https://countryclubview.org/calitem/board-meeting-35/
LOCATION:Country Club View\, Fairfax\, Virginia\, 22032
END:VEVENT
BEGIN:VEVENT
DTSTART;VALUE=DATE:20241127
DTEND;VALUE=DATE:20241130
DTSTAMP:20260424T094915
CREATED:20241014T211442Z
LAST-MODIFIED:20241014T211535Z
UID:5411-1732665600-1732924799@countryclubview.org
SUMMARY:FCPS Thanksgiving Break (No School)
DESCRIPTION:Click here for 2024-2025 FCPS Calendar.
URL:https://countryclubview.org/calitem/fcps-thanksgiving-break-no-school/
END:VEVENT
BEGIN:VEVENT
DTSTART;VALUE=DATE:20241128
DTEND;VALUE=DATE:20241129
DTSTAMP:20260424T094915
CREATED:20241014T211344Z
LAST-MODIFIED:20241014T211344Z
UID:5409-1732752000-1732838399@countryclubview.org
SUMMARY:Thanksgiving Day
DESCRIPTION:
URL:https://countryclubview.org/calitem/thanksgiving-day/
END:VEVENT
BEGIN:VEVENT
DTSTART;TZID=America/New_York:20241130T080000
DTEND;TZID=America/New_York:20241130T120000
DTSTAMP:20260424T094915
CREATED:20240113T234310Z
LAST-MODIFIED:20240113T234310Z
UID:4382-1732953600-1732968000@countryclubview.org
SUMMARY:Free Share Saturday
DESCRIPTION:For more information see Free Share Saturday.
URL:https://countryclubview.org/calitem/free-share-saturday-20/
LOCATION:Country Club View\, Fairfax\, Virginia\, 22032
END:VEVENT
END:VCALENDAR